{"text_format":"1","workbook":"xlsx","n_sheets":10,"sheets":["Start","Wärmeschutz","Anlagen","DATA","DATA_RLT","Nutzungen","Utilisation","Cond. Subvention","Info","LOG"],"not_rendered":{"charts":28,"images":3,"macros":1,"external_links":4,"defined_names":450,"comments":5,"pivot_tables":0},"unopened":[],"bounds":{"document_bytes":16777216,"sheet_cells":100000,"rows_first":2000,"rows_last":500,"rows_between":2000,"halvings":0,"cell_chars":16384,"cell_head_chars":4096},"cells_cut":0,"cells_raw":0,"read":"whole","date_system":"1900"}

{"sheet":"Start","index":0,"n_rows":47,"n_cols":9,"rows_kept":47,"cut":false,"hidden":false,"merged":[[60,1,60,8],[61,1,61,8],[14,3,14,4],[11,7,11,8],[13,7,13,8],[14,7,14,8],[12,7,12,8],[2,1,2,8],[1,1,1,8],[11,3,11,4],[12,3,12,4],[13,3,13,4]]}
[]
[null,"Investitionsbeihilfen für Gemeindegebäude"]
[null,{"$f":"DATA!X50","v":"Modernisierung im Bestand\nWärmeschutz und hygienische Lüftung"}]
[]
[]
[]
[]
[]
[]
[]
[null,"Projektdaten"]
[null,"Gemeinde",null,null,null,"Firma"]
[null,"Gebäudebezeichnung",null,null,null,"Bearbeitung"]
[null,"Straße",null,null,null,"Straße"]
[null,"Postleitzahl",null,null,null,"Postleitzahl"]
[]
[null,"Gebäudedaten",null,null,null,null,null,"Kennwerte auf An bezogen"]
[null,"Energiebezugsfläche des Gebäudes (An)",null,null,null,null,"m²","qh,WS",{"$f":"IFERROR(SUMPRODUCT(Wärmeschutz!F5:F44,Wärmeschutz!L5:L44)/A_EBF,no_value)","v":"-"}]
[null,"davon mit modernisierter Beleuchtung",null,null,null,{"$f":"SUMIF(Anlagen!H5:H39,ja,Anlagen!J5:J39)","v":0},"m²","qel,bel",{"$f":"IFERROR(SUMPRODUCT(Anlagen!H61),no_value)","v":"-"}]
[null,"davon mit hygienischer Lüftung",null,null,null,{"$f":"SUMIF(Anlagen!I5:I39,ja,Anlagen!J5:J39)","v":0},"m²","va,RLT",{"$f":"IFERROR(Anlagen!F71/A_EBF,no_value)","v":"-"}]
[]
[null,"Primärenergieeinsparung",null,null,null,"qp"]
[null,"Verbesserung im Wärmeschutz",null,null,null,{"$f":"IFERROR(SUMPRODUCT(Wärmeschutz!F5:F44,Wärmeschutz!AM5:AM44)/F18,no_value)","v":"-"},"kWh/(m²a)","bezogen auf An"]
[null,"Verbesserung im Beleuchtungseffizienz",null,null,null,{"$f":"IFERROR(IF(check_Bel=1,SUMPRODUCT(Anlagen!BJ5:BJ39,Anlagen!J5:J39)/F18,0),no_value)","v":0},"kWh/(m²a)","bezogen auf An"]
[null,"Verbesserung in der Lüftungseffizienz",null,null,null,{"$f":"IFERROR(SUMPRODUCT(Anlagen!CJ5:CJ39,Anlagen!CY5:CY39)/A_EBF,no_value)","v":"-"},"kWh/(m²a)","bezogen auf An"]
[null,"Summe",null,null,null,{"$f":"SUM(F23:F25)","v":0},"kWh/(m²a)","bezogen auf An"]
[]
[null,"Investitionsbeihilfen",null,null,null,"fSub",null,"fSub,An"]
[null,"Bauliche Modernisierung",null,null,null,{"$f":"Wärmeschutz!F51","v":0},"€",{"$f":"IFERROR(F29/$F$18,no_value)","v":"-"},"€/m²An"]
[null,"Beleuchtungsmodernisierung",null,null,null,{"$f":"IF(check_Bel=1,Anlagen!F68,0)","v":0},"€",{"$f":"IFERROR(F30/$F$18,no_value)","v":"-"},"€/m²An"]
[null,"Lüftungsanlagen mit Wärmerückgewinnung",null,null,null,{"$f":"Anlagen!F74","v":0},"€",{"$f":"IFERROR(F31/$F$18,no_value)","v":"-"},"€/m²An"]
[null,"Summe",null,null,null,{"$f":"SUM(F29:F31)","v":0},"€",{"$f":"IFERROR(F32/$F$18,no_value)","v":"-"},"€/m²An"]
[]
[null,{"$f":"Info!E5&\" \"&Info!E6","v":"Ministère du Développement durable et des Infrastructures Département de l’Environnement"},null,null,null,null,null,null,{"$f":"Anlagen!CE76","v":"SubCalC, Version 1.02 (8.8.2014)"}]
[null,{"$f":"Info!E13","v":"Goblet Lavandier & Associés S.A."}]
[]
[null,"Vermiedene CO2 Emissionen",null,null,"fCO2",null,"fCO2,An",null,"fCO2,€"]
[null,"Wärmeschutz",null,{"$f":"SUMPRODUCT(Wärmeschutz!F5:F44,Wärmeschutz!AR5:AR44)/1000","v":0},"toCO2/a",{"$f":"IFERROR(D38/A_EBF*1000,no_value)","v":"-"},"kgCO2/(m²a)",{"$f":"IFERROR(F29/D38,no_value)","v":"-"},"€/toCO2"]
[null,"Beleuchtung",null,{"$f":"IF(check_Bel=1,SUMPRODUCT(Anlagen!G5:G39,Anlagen!BT5:BT39)/1000,0)","v":0},"toCO2/a",{"$f":"IFERROR(D39/A_EBF*1000,no_value)","v":"-"},"kgCO2/(m²a)",{"$f":"IFERROR(F30/D39,no_value)","v":"-"},"€/toCO2"]
[null,"Lüftung",null,{"$f":"SUMPRODUCT(Anlagen!DG5:DG39,Anlagen!CB5:CB39)/1000","v":0},"toCO2/a",{"$f":"IFERROR(D40/A_EBF*1000,no_value)","v":"-"},"kgCO2/(m²a)",{"$f":"IFERROR(F31/D40,no_value)","v":"-"},"€/toCO2"]
[null,"Summe",null,{"$f":"SUM(D38:D40)","v":0},"toCO2/a",{"$f":"SUM(F38:F40)","v":0},"kgCO2/(m²a)",{"$f":"IFERROR(F32/D41,no_value)","v":"-"},"€/toCO2"]
[]
[null,"Wirtschaftlichkeit",null,"Kosteneinsparung",null,"Investitionskosten",null,"ROI in a","ROIsub in a"]
[null,{"$f":"B38","v":"Wärmeschutz"},null,{"$f":"SUMPRODUCT(Wärmeschutz!F5:F44,Wärmeschutz!AL5:AL44)","v":0},"€/a",{"$f":"SUMPRODUCT(Wärmeschutz!F5:F44,Wärmeschutz!AD5:AD44)","v":0},"€",{"$f":"IFERROR(F44/D44,no_value)","v":"-"},{"$f":"IFERROR((F44-F29)/D44,no_value)","v":"-"}]
[null,{"$f":"B39","v":"Beleuchtung"},null,{"$f":"IF(check_Bel=1,SUMPRODUCT(Anlagen!J5:J39,Anlagen!BK5:BK39),0)","v":0},"€/a",{"$f":"IF(check_Bel=1,SUMPRODUCT(Anlagen!J5:J39,Anlagen!BO5:BO39),0)","v":0},{"$f":"G44","v":"€"},{"$f":"IFERROR(F45/D45,no_value)","v":"-"},{"$f":"IFERROR((F45-F30)/D45,no_value)","v":"-"}]
[null,{"$f":"B40","v":"Lüftung"},null,{"$f":"SUMPRODUCT(Anlagen!CB5:CB39,Anlagen!CZ5:CZ39)","v":0},"€/a",{"$f":"SUMPRODUCT(Anlagen!CB5:CB39,Anlagen!CP5:CP39)","v":0},{"$f":"G45","v":"€"},{"$f":"IFERROR(F46/D46,no_value)","v":"-"},{"$f":"IFERROR((F46-F31)/D46,no_value)","v":"-"}]
[null,"Summe",null,{"$f":"SUM(D44:D46)","v":0},"€/a",{"$f":"SUM(F44:F46)","v":0},{"$f":"G46","v":"€"},{"$f":"IFERROR(F47/D47,no_value)","v":"-"},{"$f":"IFERROR((F47-F32)/D47,no_value)","v":"-"}]

{"sheet":"Wärmeschutz","index":1,"n_rows":58,"n_cols":48,"rows_kept":58,"cut":false,"hidden":false,"merged":[[52,5,52,6],[53,5,53,6],[54,5,54,6],[55,5,55,6],[47,5,47,6],[49,5,49,6],[50,5,50,6],[50,15,50,17],[49,15,49,17],[46,5,46,6],[48,5,48,6],[48,15,48,17],[46,15,46,17],[47,15,47,17]]}
[]
[null,null,"Kurz-","Mittlere Gebäudeinnentemperatur",null,"Bauteilfläche","U-Wert vor Modernisierung",null,"Auswahl des Effizienzstandards","Dämmstoffdicke Effizienzstandard","U-Wert  Effizienzstandard","Projektierter U-Wert","Vorgesehene Dämmstoffdicke","Zielwertüberprüfung",null,"Bauteilförderung",null,"Bauteilförderung",null,"Spalte ESI-IV","Check if Window","Zeile Bauteil","Mindestdämmstoff-dicke","U-Wert Mindestanf.","Virtuelle Dämmstoff-dicke im Basisfall","Virtuelle Dämmstoff-dicke modernisiert","Differenz-Dämmstoffdicke","Grundkosten","spezifische Dämmstoffkosten","Gesamtkosten für die Modernisierung","U-Wert nach Modernisierung","Differenz U-Wert vzum Basisfall","Abminderungsfaktor","Heizgradtagstunden",{"$f":"Anlagen!BG2","v":"Energiebedarf vor Modernisierung"},{"$f":"Anlagen!BH2","v":"Energiebedarf nach Modernisierung"},{"$f":"Anlagen!BI2","v":"Energieeinsparung"},{"$f":"Anlagen!BK2","v":"Energiekosten-einsparung"},{"$f":"Anlagen!BJ2","v":"Primärenergie-einsparung"},{"$f":"Anlagen!BP2","v":"Kapitalrücklauf"},{"$f":"Anlagen!BQ2","v":"Förderung"},{"$f":"Anlagen!BR2","v":"Eigeninvestition"},{"$f":"Anlagen!BS2","v":"Kapitalrücklauf mit Förderung"},"Vermiedene Smissionen",{"$f":"Anlagen!BU2","v":"Förderung je CO2 Einsparung"},{"$f":"Anlagen!BV2","v":"Investitionskosten"},{"$f":"Anlagen!BW2","v":"Förderung"},{"$f":"Anlagen!BX2","v":"Förderquote"}]
[null,null,"name","normal beheizt (Standard)",null,"Abau","Ubase",null,"ES","dUeff","Ueff","Uproj","dproj","-",null,"fBau",null,"fsub,bau",null,"-","-","-","dmin","Umin","dbase","dproj","Dddiff","Kbau,g","Dkbau,s","Kbau,proj","Uuse","DUdiff","fabmin","HGTbau","qh,basis","qh,proj","Dqh,bau","Dkh","Dqh,pim","rbau","fsub,bau","Kbau,sub","rbau,sub","CO2bau","fbau,CO2","Ibau,proj","Ibau,sub","zbau"]
[null,"N°","-","Bauteiltyp",null,"m²","W/(m²K)",null,"I - IV","cm","W/(m²K)","W/(m²K)","cm","-",null,"€/m²",null,"€",null,"-","-","-",{"$f":"Y4","v":"cm"},{"$f":"AE4","v":"W/(m²K)"},"cm","cm","cm","€/m²","€/(m²cm)","€/m²","W/(m²K)","W/(m²K)","-","Kkh/a","kWh/(m²a)","kWh/(m²a)","kWh/(m²a)","€/(m²a)","€/(m²a)","a","€/m²","€/m²","a","kgCO2/m²","€/toCo2","€","€","%"]
[null,1,"A01",null,null,null,null,null,{"$f":"IF(AND(D5<>\"\",V5<>\"-\"),IF(L5<=INDEX(DATA!$AM$6:$AM$20,V5),DATA!$AM$4,IF(L5<=INDEX(DATA!$AN$6:$AN$20,V5),DATA!$AN$4,IF(L5<=INDEX(DATA!$AO$6:$AO$20,V5),DATA!$AO$4,IF(L5<=INDEX(DATA!$AP$6:$AP$20,V5),DATA!$AP$4,\"-\")))),\"-\")","v":"-"},{"$f":"IFERROR(INDEX(DATA!$AQ$6:$AU$20,V5,T5),no_value)","v":"-"},{"$f":"IFERROR(INDEX(DATA!$AL$6:$AP$20,V5,T5),no_value)","v":"-"},null,null,{"$f":"IFERROR(IF(U5=1,IF(IF(AND(ISNUMBER(L5*1),L5,K5)>K5*1,M5<W5),fail,pass),IF(IF(ISNUMBER(L5*1),L5,K5)>K5*1,fail,pass)),\"\")","v":""},null,{"$f":"IFERROR(IF(N5=pass,INDEX(DATA!$AG$6:$AK$20,V5,T5),no_value),no_value)","v":"-"},null,{"$f":"IFERROR(P5*F5,no_value)","v":"-"},null,{"$f":"IFERROR(HLOOKUP(I5,DATA!$AG$4:$AK$5,2,FALSE)-DATA!$AF$5,no_value)","v":1},{"$f":"IFERROR(VLOOKUP(D5,Liste_Bauteile,DATA!$AF$5,FALSE),no_value)","v":"-"},{"$f":"IFERROR(VLOOKUP(D5,DATA!$AC$6:$AD$20,2,FALSE),no_value)","v":"-"},{"$f":"IFERROR(INDEX(DATA!$AU$6:$AU$20,V5),no_value)","v":"-"},{"$f":"IFERROR(INDEX(DATA!$AY$6:$AY$20,V5,1),no_value)","v":"-"},{"$f":"IF($AD$1=\"X\",IFERROR(INDEX(DATA!$AZ$6:$AZ$20,V5,1),no_value),IF(I5=ESIV,0,IFERROR(INDEX(DATA!$BC$6:$BC$20,V5,1),no_value)))","v":"-"},{"$f":"J5","v":"-"},{"$f":"IFERROR(IF(AND($AD$1<>\"X\",I5=ESIV),MAX(J5-Y5,J5),J5-Y5),no_value)","v":"-"},{"$f":"IF($AD$1=\"X\",IF(I5=no_value,no_value,IFERROR(infla_WD*INDEX(DATA!$BA$6:$BA$20,V5,1),no_value)),IF(I5=no_value,no_value,IFERROR(infla_WD*INDEX(DATA!$BD$6:$BD$20,V5,1),no_value)))","v":"-"},{"$f":"IFERROR(IF(INDEX(DATA!$AF$6:$AF$20,V5,1)=1,infla_WD*C_cm_WB,MAX(0,infla_WD*TREND(DATA!$BH$5:$BK$5,DATA!$BH$4:$BK$4,AE5))),no_value)","v":"-"},{"$f":"IFERROR(AB5+AC5*IF(INDEX(DATA!$AF$6:$AF$20,V5,1)=1,AA5,1),no_value)","v":"-"},{"$f":"IFERROR(IF(ISNUMBER(L5),L5,K5),no_value)","v":"-"},{"$f":"IFERROR(G5-AE5,no_value)","v":"-"},{"$f":"IFERROR(INDEX(DATA!$AE$6:$AE$20,V5,1),no_value)","v":"-"},{"$f":"IF(AND(D5<>\"\",F5<>\"\",ISNUMBER(K5)),VLOOKUP($D$3,DATA!$BF$25:$BG$27,2,FALSE),no_value)","v":"-"},{"$f":"IFERROR(G5*AH5*AG5*e_Heiz,no_value)","v":"-"},{"$f":"IFERROR(AE5*AH5*AG5*e_Heiz,no_value)","v":"-"},{"$f":"IFERROR(AF5*AH5*AG5*e_Heiz,no_value)","v":"-"},{"$f":"IFERROR(AK5*c_H,no_value)","v":"-"},{"$f":"IFERROR(AK5*qPh,no_value)","v":"-"},{"$f":"IFERROR(AD5/AL5,no_value)","v":"-"},{"$f":"P5","v":"-"},{"$f":"IFERROR(AD5-P5,no_value)","v":"-"},{"$f":"IFERROR(AP5/AL5,no_value)","v":"-"},{"$f":"IFERROR(AK5*co2_h,no_value)","v":"-"},{"$f":"IFERROR(ROUND(AO5/(AK5*co2_h)*1000,-2),no_value)","v":"-"},{"$f":"IFERROR(AD5*F5,no_value)","v":"-"},{"$f":"IFERROR(P5*F5,no_value)","v":"-"},{"$f":"IFERROR(AO5/AD5,no_value)","v":"-"}]
[null,{"$f":"B5+1","v":2},"A02",null,null,null,null,null,{"$f":"IF(AND(D6<>\"\",V6<>\"-\"),IF(L6<=INDEX(DATA!$AM$6:$AM$20,V6),DATA!$AM$4,IF(L6<=INDEX(DATA!$AN$6:$AN$20,V6),DATA!$AN$4,IF(L6<=INDEX(DATA!$AO$6:$AO$20,V6),DATA!$AO$4,IF(L6<=INDEX(DATA!$AP$6:$AP$20,V6),DATA!$AP$4,\"-\")))),\"-\")","v":"-"},{"$f":"IFERROR(INDEX(DATA!$AQ$6:$AU$20,V6,T6),no_value)","v":"-"},{"$f":"IFERROR(INDEX(DATA!$AL$6:$AP$20,V6,T6),no_value)","v":"-"},null,null,"",null,{"$f":"IFERROR(IF(N6=pass,INDEX(DATA!$AG$6:$AK$20,V6,T6),no_value),no_value)","v":"-"},null,"-",null,{"$f":"IFERROR(HLOOKUP(I6,DATA!$AG$4:$AK$5,2,FALSE)-DATA!$AF$5,no_value)","v":1},{"$f":"IFERROR(VLOOKUP(D6,Liste_Bauteile,DATA!$AF$5,FALSE),no_value)","v":"-"},{"$f":"IFERROR(VLOOKUP(D6,DATA!$AC$6:$AD$20,2,FALSE),no_value)","v":"-"},{"$f":"IFERROR(INDEX(DATA!$AU$6:$AU$20,V6),no_value)","v":"-"},{"$f":"IFERROR(INDEX(DATA!$AY$6:$AY$20,V6,1),no_value)","v":"-"},{"$f":"IF($AD$1=\"X\",IFERROR(INDEX(DATA!$AZ$6:$AZ$20,V6,1),no_value),IF(I6=ESIV,0,IFERROR(INDEX(DATA!$BC$6:$BC$20,V6,1),no_value)))","v":"-"},{"$f":"J6","v":"-"},"-",{"$f":"IF($AD$1=\"X\",IF(I6=no_value,no_value,IFERROR(infla_WD*INDEX(DATA!$BA$6:$BA$20,V6,1),no_value)),IF(I6=no_value,no_value,IFERROR(infla_WD*INDEX(DATA!$BD$6:$BD$20,V6,1),no_value)))","v":"-"},{"$f":"IFERROR(IF(INDEX(DATA!$AF$6:$AF$20,V6,1)=1,infla_WD*C_cm_WB,MAX(0,infla_WD*TREND(DATA!$BH$5:$BK$5,DATA!$BH$4:$BK$4,AE6))),no_value)","v":"-"},{"$f":"IFERROR(AB6+AC6*IF(INDEX(DATA!$AF$6:$AF$20,V6,1)=1,AA6,1),no_value)","v":"-"},"-","-",{"$f":"IFERROR(INDEX(DATA!$AE$6:$AE$20,V6,1),no_value)","v":"-"},{"$f":"IF(AND(D6<>\"\",F6<>\"\",ISNUMBER(K6)),VLOOKUP($D$3,DATA!$BF$25:$BG$27,2,FALSE),no_value)","v":"-"},{"$f":"IFERROR(G6*AH6*AG6*e_Heiz,no_value)","v":"-"},{"$f":"IFERROR(AE6*AH6*AG6*e_Heiz,no_value)","v":"-"},{"$f":"IFERROR(AF6*AH6*AG6*e_Heiz,no_value)","v":"-"},{"$f":"IFERROR(AK6*c_H,no_value)","v":"-"},{"$f":"IFERROR(AK6*qPh,no_value)","v":"-"},{"$f":"IFERROR(AD6/AL6,no_value)","v":"-"},{"$f":"P6","v":"-"},"-",{"$f":"IFERROR(AP6/AL6,no_value)","v":"-"},"-",{"$f":"IFERROR(ROUND(AO6/(AK6*co2_h)*1000,-2),no_value)","v":"-"},"-",{"$f":"IFERROR(P6*F6,no_value)","v":"-"},{"$f":"IFERROR(AO6/AD6,no_value)","v":"-"}]
[null,{"$f":"B6+1","v":3},"A03",null,null,null,null,null,{"$f":"IF(AND(D7<>\"\",V7<>\"-\"),IF(L7<=INDEX(DATA!$AM$6:$AM$20,V7),DATA!$AM$4,IF(L7<=INDEX(DATA!$AN$6:$AN$20,V7),DATA!$AN$4,IF(L7<=INDEX(DATA!$AO$6:$AO$20,V7),DATA!$AO$4,IF(L7<=INDEX(DATA!$AP$6:$AP$20,V7),DATA!$AP$4,\"-\")))),\"-\")","v":"-"},{"$f":"IFERROR(INDEX(DATA!$AQ$6:$AU$20,V7,T7),no_value)","v":"-"},{"$f":"IFERROR(INDEX(DATA!$AL$6:$AP$20,V7,T7),no_value)","v":"-"},null,null,"",null,{"$f":"IFERROR(IF(N7=pass,INDEX(DATA!$AG$6:$AK$20,V7,T7),no_value),no_value)","v":"-"},null,"-",null,{"$f":"IFERROR(HLOOKUP(I7,DATA!$AG$4:$AK$5,2,FALSE)-DATA!$AF$5,no_value)","v":1},{"$f":"IFERROR(VLOOKUP(D7,Liste_Bauteile,DATA!$AF$5,FALSE),no_value)","v":"-"},{"$f":"IFERROR(VLOOKUP(D7,DATA!$AC$6:$AD$20,2,FALSE),no_value)","v":"-"},{"$f":"IFERROR(INDEX(DATA!$AU$6:$AU$20,V7),no_value)","v":"-"},{"$f":"IFERROR(INDEX(DATA!$AY$6:$AY$20,V7,1),no_value)","v":"-"},{"$f":"IF($AD$1=\"X\",IFERROR(INDEX(DATA!$AZ$6:$AZ$20,V7,1),no_value),IF(I7=ESIV,0,IFERROR(INDEX(DATA!$BC$6:$BC$20,V7,1),no_value)))","v":"-"},"-","-",{"$f":"IF($AD$1=\"X\",IF(I7=no_value,no_value,IFERROR(infla_WD*INDEX(DATA!$BA$6:$BA$20,V7,1),no_value)),IF(I7=no_value,no_value,IFERROR(infla_WD*INDEX(DATA!$BD$6:$BD$20,V7,1),no_value)))","v":"-"},{"$f":"IFERROR(IF(INDEX(DATA!$AF$6:$AF$20,V7,1)=1,infla_WD*C_cm_WB,MAX(0,infla_WD*TREND(DATA!$BH$5:$BK$5,DATA!$BH$4:$BK$4,AE7))),no_value)","v":"-"},{"$f":"IFERROR(AB7+AC7*IF(INDEX(DATA!$AF$6:$AF$20,V7,1)=1,AA7,1),no_value)","v":"-"},"-","-",{"$f":"IFERROR(INDEX(DATA!$AE$6:$AE$20,V7,1),no_value)","v":"-"},{"$f":"IF(AND(D7<>\"\",F7<>\"\",ISNUMBER(K7)),VLOOKUP($D$3,DATA!$BF$25:$BG$27,2,FALSE),no_value)","v":"-"},"-","-",{"$f":"IFERROR(AF7*AH7*AG7*e_Heiz,no_value)","v":"-"},{"$f":"IFERROR(AK7*c_H,no_value)","v":"-"},"-","-","-","-","-","-",{"$f":"IFERROR(ROUND(AO7/(AK7*co2_h)*1000,-2),no_value)","v":"-"},"-","-","-"]
[null,4,"A04",null,null,null,null,null,{"$f":"IF(AND(D8<>\"\",V8<>\"-\"),IF(L8<=INDEX(DATA!$AM$6:$AM$20,V8),DATA!$AM$4,IF(L8<=INDEX(DATA!$AN$6:$AN$20,V8),DATA!$AN$4,IF(L8<=INDEX(DATA!$AO$6:$AO$20,V8),DATA!$AO$4,IF(L8<=INDEX(DATA!$AP$6:$AP$20,V8),DATA!$AP$4,\"-\")))),\"-\")","v":"-"},{"$f":"IFERROR(INDEX(DATA!$AQ$6:$AU$20,V8,T8),no_value)","v":"-"},{"$f":"IFERROR(INDEX(DATA!$AL$6:$AP$20,V8,T8),no_value)","v":"-"},null,null,"",null,{"$f":"IFERROR(IF(N8=pass,INDEX(DATA!$AG$6:$AK$20,V8,T8),no_value),no_value)","v":"-"},null,"-",null,{"$f":"IFERROR(HLOOKUP(I8,DATA!$AG$4:$AK$5,2,FALSE)-DATA!$AF$5,no_value)","v":1},{"$f":"IFERROR(VLOOKUP(D8,Liste_Bauteile,DATA!$AF$5,FALSE),no_value)","v":"-"},{"$f":"IFERROR(VLOOKUP(D8,DATA!$AC$6:$AD$20,2,FALSE),no_value)","v":"-"},{"$f":"IFERROR(INDEX(DATA!$AU$6:$AU$20,V8),no_value)","v":"-"},{"$f":"IFERROR(INDEX(DATA!$AY$6:$AY$20,V8,1),no_value)","v":"-"},{"$f":"IF($AD$1=\"X\",IFERROR(INDEX(DATA!$AZ$6:$AZ$20,V8,1),no_value),IF(I8=ESIV,0,IFERROR(INDEX(DATA!$BC$6:$BC$20,V8,1),no_value)))","v":"-"},"-","-",{"$f":"IF($AD$1=\"X\",IF(I8=no_value,no_value,IFERROR(infla_WD*INDEX(DATA!$BA$6:$BA$20,V8,1),no_value)),IF(I8=no_value,no_value,IFERROR(infla_WD*INDEX(DATA!$BD$6:$BD$20,V8,1),no_value)))","v":"-"},{"$f":"IFERROR(IF(INDEX(DATA!$AF$6:$AF$20,V8,1)=1,infla_WD*C_cm_WB,MAX(0,infla_WD*TREND(DATA!$BH$5:$BK$5,DATA!$BH$4:$BK$4,AE8))),no_value)","v":"-"},{"$f":"IFERROR(AB8+AC8*IF(INDEX(DATA!$AF$6:$AF$20,V8,1)=1,AA8,1),no_value)","v":"-"},"-","-",{"$f":"IFERROR(INDEX(DATA!$AE$6:$AE$20,V8,1),no_value)","v":"-"},{"$f":"IF(AND(D8<>\"\",F8<>\"\",ISNUMBER(K8)),VLOOKUP($D$3,DATA!$BF$25:$BG$27,2,FALSE),no_value)","v":"-"},"-","-","-","-","-","-","-","-","-","-","-","-","-","-"]
[null,5,"A05",null,null,null,null,null,{"$f":"IF(AND(D9<>\"\",V9<>\"-\"),IF(L9<=INDEX(DATA!$AM$6:$AM$20,V9),DATA!$AM$4,IF(L9<=INDEX(DATA!$AN$6:$AN$20,V9),DATA!$AN$4,IF(L9<=INDEX(DATA!$AO$6:$AO$20,V9),DATA!$AO$4,IF(L9<=INDEX(DATA!$AP$6:$AP$20,V9),DATA!$AP$4,\"-\")))),\"-\")","v":"-"},{"$f":"IFERROR(INDEX(DATA!$AQ$6:$AU$20,V9,T9),no_value)","v":"-"},{"$f":"IFERROR(INDEX(DATA!$AL$6:$AP$20,V9,T9),no_value)","v":"-"},null,null,"",null,{"$f":"IFERROR(IF(N9=pass,INDEX(DATA!$AG$6:$AK$20,V9,T9),no_value),no_value)","v":"-"},null,"-",null,{"$f":"IFERROR(HLOOKUP(I9,DATA!$AG$4:$AK$5,2,FALSE)-DATA!$AF$5,no_value)","v":1},{"$f":"IFERROR(VLOOKUP(D9,Liste_Bauteile,DATA!$AF$5,FALSE),no_value)","v":"-"},{"$f":"IFERROR(VLOOKUP(D9,DATA!$AC$6:$AD$20,2,FALSE),no_value)","v":"-"},{"$f":"IFERROR(INDEX(DATA!$AU$6:$AU$20,V9),no_value)","v":"-"},{"$f":"IFERROR(INDEX(DATA!$AY$6:$AY$20,V9,1),no_value)","v":"-"},{"$f":"IF($AD$1=\"X\",IFERROR(INDEX(DATA!$AZ$6:$AZ$20,V9,1),no_value),IF(I9=ESIV,0,IFERROR(INDEX(DATA!$BC$6:$BC$20,V9,1),no_value)))","v":"-"},"-","-",{"$f":"IF($AD$1=\"X\",IF(I9=no_value,no_value,IFERROR(infla_WD*INDEX(DATA!$BA$6:$BA$20,V9,1),no_value)),IF(I9=no_value,no_value,IFERROR(infla_WD*INDEX(DATA!$BD$6:$BD$20,V9,1),no_value)))","v":"-"},{"$f":"IFERROR(IF(INDEX(DATA!$AF$6:$AF$20,V9,1)=1,infla_WD*C_cm_WB,MAX(0,infla_WD*TREND(DATA!$BH$5:$BK$5,DATA!$BH$4:$BK$4,AE9))),no_value)","v":"-"},{"$f":"IFERROR(AB9+AC9*IF(INDEX(DATA!$AF$6:$AF$20,V9,1)=1,AA9,1),no_value)","v":"-"},"-","-",{"$f":"IFERROR(INDEX(DATA!$AE$6:$AE$20,V9,1),no_value)","v":"-"},{"$f":"IF(AND(D9<>\"\",F9<>\"\",ISNUMBER(K9)),VLOOKUP($D$3,DATA!$BF$25:$BG$27,2,FALSE),no_value)","v":"-"},"-","-","-","-","-","-","-","-","-","-","-","-","-","-"]
[null,6,"A06",null,null,null,null,null,{"$f":"IF(AND(D10<>\"\",V10<>\"-\"),IF(L10<=INDEX(DATA!$AM$6:$AM$20,V10),DATA!$AM$4,IF(L10<=INDEX(DATA!$AN$6:$AN$20,V10),DATA!$AN$4,IF(L10<=INDEX(DATA!$AO$6:$AO$20,V10),DATA!$AO$4,IF(L10<=INDEX(DATA!$AP$6:$AP$20,V10),DATA!$AP$4,\"-\")))),\"-\")","v":"-"},{"$f":"IFERROR(INDEX(DATA!$AQ$6:$AU$20,V10,T10),no_value)","v":"-"},{"$f":"IFERROR(INDEX(DATA!$AL$6:$AP$20,V10,T10),no_value)","v":"-"},null,null,"",null,{"$f":"IFERROR(IF(N10=pass,INDEX(DATA!$AG$6:$AK$20,V10,T10),no_value),no_value)","v":"-"},null,"-",null,{"$f":"IFERROR(HLOOKUP(I10,DATA!$AG$4:$AK$5,2,FALSE)-DATA!$AF$5,no_value)","v":1},{"$f":"IFERROR(VLOOKUP(D10,Liste_Bauteile,DATA!$AF$5,FALSE),no_value)","v":"-"},{"$f":"IFERROR(VLOOKUP(D10,DATA!$AC$6:$AD$20,2,FALSE),no_value)","v":"-"},{"$f":"IFERROR(INDEX(DATA!$AU$6:$AU$20,V10),no_value)","v":"-"},{"$f":"IFERROR(INDEX(DATA!$AY$6:$AY$20,V10,1),no_value)","v":"-"},{"$f":"IF($AD$1=\"X\",IFERROR(INDEX(DATA!$AZ$6:$AZ$20,V10,1),no_value),IF(I10=ESIV,0,IFERROR(INDEX(DATA!$BC$6:$BC$20,V10,1),no_value)))","v":"-"},"-","-",{"$f":"IF($AD$1=\"X\",IF(I10=no_value,no_value,IFERROR(infla_WD*INDEX(DATA!$BA$6:$BA$20,V10,1),no_value)),IF(I10=no_value,no_value,IFERROR(infla_WD*INDEX(DATA!$BD$6:$BD$20,V10,1),no_value)))","v":"-"},{"$f":"IFERROR(IF(INDEX(DATA!$AF$6:$AF$20,V10,1)=1,infla_WD*C_cm_WB,MAX(0,infla_WD*TREND(DATA!$BH$5:$BK$5,DATA!$BH$4:$BK$4,AE10))),no_value)","v":"-"},{"$f":"IFERROR(AB10+AC10*IF(INDEX(DATA!$AF$6:$AF$20,V10,1)=1,AA10,1),no_value)","v":"-"},"-","-",{"$f":"IFERROR(INDEX(DATA!$AE$6:$AE$20,V10,1),no_value)","v":"-"},{"$f":"IF(AND(D10<>\"\",F10<>\"\",ISNUMBER(K10)),VLOOKUP($D$3,DATA!$BF$25:$BG$27,2,FALSE),no_value)","v":"-"},"-","-","-","-","-","-","-","-","-","-","-","-","-","-"]
[null,7,"A07",null,null,null,null,null,{"$f":"IF(AND(D11<>\"\",V11<>\"-\"),IF(L11<=INDEX(DATA!$AM$6:$AM$20,V11),DATA!$AM$4,IF(L11<=INDEX(DATA!$AN$6:$AN$20,V11),DATA!$AN$4,IF(L11<=INDEX(DATA!$AO$6:$AO$20,V11),DATA!$AO$4,IF(L11<=INDEX(DATA!$AP$6:$AP$20,V11),DATA!$AP$4,\"-\")))),\"-\")","v":"-"},{"$f":"IFERROR(INDEX(DATA!$AQ$6:$AU$20,V11,T11),no_value)","v":"-"},{"$f":"IFERROR(INDEX(DATA!$AL$6:$AP$20,V11,T11),no_value)","v":"-"},null,null,"",null,{"$f":"IFERROR(IF(N11=pass,INDEX(DATA!$AG$6:$AK$20,V11,T11),no_value),no_value)","v":"-"},null,"-",null,{"$f":"IFERROR(HLOOKUP(I11,DATA!$AG$4:$AK$5,2,FALSE)-DATA!$AF$5,no_value)","v":1},{"$f":"IFERROR(VLOOKUP(D11,Liste_Bauteile,DATA!$AF$5,FALSE),no_value)","v":"-"},{"$f":"IFERROR(VLOOKUP(D11,DATA!$AC$6:$AD$20,2,FALSE),no_value)","v":"-"},{"$f":"IFERROR(INDEX(DATA!$AU$6:$AU$20,V11),no_value)","v":"-"},{"$f":"IFERROR(INDEX(DATA!$AY$6:$AY$20,V11,1),no_value)","v":"-"},{"$f":"IF($AD$1=\"X\",IFERROR(INDEX(DATA!$AZ$6:$AZ$20,V11,1),no_value),IF(I11=ESIV,0,IFERROR(INDEX(DATA!$BC$6:$BC$20,V11,1),no_value)))","v":"-"},"-","-",{"$f":"IF($AD$1=\"X\",IF(I11=no_value,no_value,IFERROR(infla_WD*INDEX(DATA!$BA$6:$BA$20,V11,1),no_value)),IF(I11=no_value,no_value,IFERROR(infla_WD*INDEX(DATA!$BD$6:$BD$20,V11,1),no_value)))","v":"-"},{"$f":"IFERROR(IF(INDEX(DATA!$AF$6:$AF$20,V11,1)=1,infla_WD*C_cm_WB,MAX(0,infla_WD*TREND(DATA!$BH$5:$BK$5,DATA!$BH$4:$BK$4,AE11))),no_value)","v":"-"},{"$f":"IFERROR(AB11+AC11*IF(INDEX(DATA!$AF$6:$AF$20,V11,1)=1,AA11,1),no_value)","v":"-"},"-","-",{"$f":"IFERROR(INDEX(DATA!$AE$6:$AE$20,V11,1),no_value)","v":"-"},{"$f":"IF(AND(D11<>\"\",F11<>\"\",ISNUMBER(K11)),VLOOKUP($D$3,DATA!$BF$25:$BG$27,2,FALSE),no_value)","v":"-"},"-","-","-","-","-","-","-","-","-","-","-","-","-","-"]
[null,8,"A08",null,null,null,null,null,{"$f":"IF(AND(D12<>\"\",V12<>\"-\"),IF(L12<=INDEX(DATA!$AM$6:$AM$20,V12),DATA!$AM$4,IF(L12<=INDEX(DATA!$AN$6:$AN$20,V12),DATA!$AN$4,IF(L12<=INDEX(DATA!$AO$6:$AO$20,V12),DATA!$AO$4,IF(L12<=INDEX(DATA!$AP$6:$AP$20,V12),DATA!$AP$4,\"-\")))),\"-\")","v":"-"},{"$f":"IFERROR(INDEX(DATA!$AQ$6:$AU$20,V12,T12),no_value)","v":"-"},{"$f":"IFERROR(INDEX(DATA!$AL$6:$AP$20,V12,T12),no_value)","v":"-"},null,null,"",null,{"$f":"IFERROR(IF(N12=pass,INDEX(DATA!$AG$6:$AK$20,V12,T12),no_value),no_value)","v":"-"},null,"-",null,{"$f":"IFERROR(HLOOKUP(I12,DATA!$AG$4:$AK$5,2,FALSE)-DATA!$AF$5,no_value)","v":1},{"$f":"IFERROR(VLOOKUP(D12,Liste_Bauteile,DATA!$AF$5,FALSE),no_value)","v":"-"},{"$f":"IFERROR(VLOOKUP(D12,DATA!$AC$6:$AD$20,2,FALSE),no_value)","v":"-"},{"$f":"IFERROR(INDEX(DATA!$AU$6:$AU$20,V12),no_value)","v":"-"},{"$f":"IFERROR(INDEX(DATA!$AY$6:$AY$20,V12,1),no_value)","v":"-"},{"$f":"IF($AD$1=\"X\",IFERROR(INDEX(DATA!$AZ$6:$AZ$20,V12,1),no_value),IF(I12=ESIV,0,IFERROR(INDEX(DATA!$BC$6:$BC$20,V12,1),no_value)))","v":"-"},"-","-",{"$f":"IF($AD$1=\"X\",IF(I12=no_value,no_value,IFERROR(infla_WD*INDEX(DATA!$BA$6:$BA$20,V12,1),no_value)),IF(I12=no_value,no_value,IFERROR(infla_WD*INDEX(DATA!$BD$6:$BD$20,V12,1),no_value)))","v":"-"},{"$f":"IFERROR(IF(INDEX(DATA!$AF$6:$AF$20,V12,1)=1,infla_WD*C_cm_WB,MAX(0,infla_WD*TREND(DATA!$BH$5:$BK$5,DATA!$BH$4:$BK$4,AE12))),no_value)","v":"-"},{"$f":"IFERROR(AB12+AC12*IF(INDEX(DATA!$AF$6:$AF$20,V12,1)=1,AA12,1),no_value)","v":"-"},"-","-",{"$f":"IFERROR(INDEX(DATA!$AE$6:$AE$20,V12,1),no_value)","v":"-"},{"$f":"IF(AND(D12<>\"\",F12<>\"\",ISNUMBER(K12)),VLOOKUP($D$3,DATA!$BF$25:$BG$27,2,FALSE),no_value)","v":"-"},"-","-","-","-","-","-","-","-","-","-","-","-","-","-"]
[null,9,"A09",null,null,null,null,null,{"$f":"IF(AND(D13<>\"\",V13<>\"-\"),IF(L13<=INDEX(DATA!$AM$6:$AM$20,V13),DATA!$AM$4,IF(L13<=INDEX(DATA!$AN$6:$AN$20,V13),DATA!$AN$4,IF(L13<=INDEX(DATA!$AO$6:$AO$20,V13),DATA!$AO$4,IF(L13<=INDEX(DATA!$AP$6:$AP$20,V13),DATA!$AP$4,\"-\")))),\"-\")","v":"-"},{"$f":"IFERROR(INDEX(DATA!$AQ$6:$AU$20,V13,T13),no_value)","v":"-"},{"$f":"IFERROR(INDEX(DATA!$AL$6:$AP$20,V13,T13),no_value)","v":"-"},null,null,"",null,{"$f":"IFERROR(IF(N13=pass,INDEX(DATA!$AG$6:$AK$20,V13,T13),no_value),no_value)","v":"-"},null,"-",null,{"$f":"IFERROR(HLOOKUP(I13,DATA!$AG$4:$AK$5,2,FALSE)-DATA!$AF$5,no_value)","v":1},{"$f":"IFERROR(VLOOKUP(D13,Liste_Bauteile,DATA!$AF$5,FALSE),no_value)","v":"-"},{"$f":"IFERROR(VLOOKUP(D13,DATA!$AC$6:$AD$20,2,FALSE),no_value)","v":"-"},{"$f":"IFERROR(INDEX(DATA!$AU$6:$AU$20,V13),no_value)","v":"-"},{"$f":"IFERROR(INDEX(DATA!$AY$6:$AY$20,V13,1),no_value)","v":"-"},{"$f":"IF($AD$1=\"X\",IFERROR(INDEX(DATA!$AZ$6:$AZ$20,V13,1),no_value),IF(I13=ESIV,0,IFERROR(INDEX(DATA!$BC$6:$BC$20,V13,1),no_value)))","v":"-"},"-","-",{"$f":"IF($AD$1=\"X\",IF(I13=no_value,no_value,IFERROR(infla_WD*INDEX(DATA!$BA$6:$BA$20,V13,1),no_value)),IF(I13=no_value,no_value,IFERROR(infla_WD*INDEX(DATA!$BD$6:$BD$20,V13,1),no_value)))","v":"-"},{"$f":"IFERROR(IF(INDEX(DATA!$AF$6:$AF$20,V13,1)=1,infla_WD*C_cm_WB,MAX(0,infla_WD*TREND(DATA!$BH$5:$BK$5,DATA!$BH$4:$BK$4,AE13))),no_value)","v":"-"},{"$f":"IFERROR(AB13+AC13*IF(INDEX(DATA!$AF$6:$AF$20,V13,1)=1,AA13,1),no_value)","v":"-"},"-","-",{"$f":"IFERROR(INDEX(DATA!$AE$6:$AE$20,V13,1),no_value)","v":"-"},{"$f":"IF(AND(D13<>\"\",F13<>\"\",ISNUMBER(K13)),VLOOKUP($D$3,DATA!$BF$25:$BG$27,2,FALSE),no_value)","v":"-"},"-","-","-","-","-","-","-","-","-","-","-","-","-","-"]
[null,10,"A10",null,null,null,null,null,{"$f":"IF(AND(D14<>\"\",V14<>\"-\"),IF(L14<=INDEX(DATA!$AM$6:$AM$20,V14),DATA!$AM$4,IF(L14<=INDEX(DATA!$AN$6:$AN$20,V14),DATA!$AN$4,IF(L14<=INDEX(DATA!$AO$6:$AO$20,V14),DATA!$AO$4,IF(L14<=INDEX(DATA!$AP$6:$AP$20,V14),DATA!$AP$4,\"-\")))),\"-\")","v":"-"},{"$f":"IFERROR(INDEX(DATA!$AQ$6:$AU$20,V14,T14),no_value)","v":"-"},{"$f":"IFERROR(INDEX(DATA!$AL$6:$AP$20,V14,T14),no_value)","v":"-"},null,null,"",null,{"$f":"IFERROR(IF(N14=pass,INDEX(DATA!$AG$6:$AK$20,V14,T14),no_value),no_value)","v":"-"},null,"-",null,{"$f":"IFERROR(HLOOKUP(I14,DATA!$AG$4:$AK$5,2,FALSE)-DATA!$AF$5,no_value)","v":1},{"$f":"IFERROR(VLOOKUP(D14,Liste_Bauteile,DATA!$AF$5,FALSE),no_value)","v":"-"},{"$f":"IFERROR(VLOOKUP(D14,DATA!$AC$6:$AD$20,2,FALSE),no_value)","v":"-"},{"$f":"IFERROR(INDEX(DATA!$AU$6:$AU$20,V14),no_value)","v":"-"},{"$f":"IFERROR(INDEX(DATA!$AY$6:$AY$20,V14,1),no_value)","v":"-"},{"$f":"IF($AD$1=\"X\",IFERROR(INDEX(DATA!$AZ$6:$AZ$20,V14,1),no_value),IF(I14=ESIV,0,IFERROR(INDEX(DATA!$BC$6:$BC$20,V14,1),no_value)))","v":"-"},"-","-",{"$f":"IF($AD$1=\"X\",IF(I14=no_value,no_value,IFERROR(infla_WD*INDEX(DATA!$BA$6:$BA$20,V14,1),no_value)),IF(I14=no_value,no_value,IFERROR(infla_WD*INDEX(DATA!$BD$6:$BD$20,V14,1),no_value)))","v":"-"},{"$f":"IFERROR(IF(INDEX(DATA!$AF$6:$AF$20,V14,1)=1,infla_WD*C_cm_WB,MAX(0,infla_WD*TREND(DATA!$BH$5:$BK$5,DATA!$BH$4:$BK$4,AE14))),no_value)","v":"-"},{"$f":"IFERROR(AB14+AC14*IF(INDEX(DATA!$AF$6:$AF$20,V14,1)=1,AA14,1),no_value)","v":"-"},"-","-",{"$f":"IFERROR(INDEX(DATA!$AE$6:$AE$20,V14,1),no_value)","v":"-"},{"$f":"IF(AND(D14<>\"\",F14<>\"\",ISNUMBER(K14)),VLOOKUP($D$3,DATA!$BF$25:$BG$27,2,FALSE),no_value)","v":"-"},"-","-","-","-","-","-","-","-","-","-","-","-","-","-"]
[null,11,"A11",null,null,null,null,null,{"$f":"IF(AND(D15<>\"\",V15<>\"-\"),IF(L15<=INDEX(DATA!$AM$6:$AM$20,V15),DATA!$AM$4,IF(L15<=INDEX(DATA!$AN$6:$AN$20,V15),DATA!$AN$4,IF(L15<=INDEX(DATA!$AO$6:$AO$20,V15),DATA!$AO$4,IF(L15<=INDEX(DATA!$AP$6:$AP$20,V15),DATA!$AP$4,\"-\")))),\"-\")","v":"-"},{"$f":"IFERROR(INDEX(DATA!$AQ$6:$AU$20,V15,T15),no_value)","v":"-"},{"$f":"IFERROR(INDEX(DATA!$AL$6:$AP$20,V15,T15),no_value)","v":"-"},null,null,"",null,{"$f":"IFERROR(IF(N15=pass,INDEX(DATA!$AG$6:$AK$20,V15,T15),no_value),no_value)","v":"-"},null,"-",null,{"$f":"IFERROR(HLOOKUP(I15,DATA!$AG$4:$AK$5,2,FALSE)-DATA!$AF$5,no_value)","v":1},{"$f":"IFERROR(VLOOKUP(D15,Liste_Bauteile,DATA!$AF$5,FALSE),no_value)","v":"-"},{"$f":"IFERROR(VLOOKUP(D15,DATA!$AC$6:$AD$20,2,FALSE),no_value)","v":"-"},{"$f":"IFERROR(INDEX(DATA!$AU$6:$AU$20,V15),no_value)","v":"-"},{"$f":"IFERROR(INDEX(DATA!$AY$6:$AY$20,V15,1),no_value)","v":"-"},{"$f":"IF($AD$1=\"X\",IFERROR(INDEX(DATA!$AZ$6:$AZ$20,V15,1),no_value),IF(I15=ESIV,0,IFERROR(INDEX(DATA!$BC$6:$BC$20,V15,1),no_value)))","v":"-"},"-","-",{"$f":"IF($AD$1=\"X\",IF(I15=no_value,no_value,IFERROR(infla_WD*INDEX(DATA!$BA$6:$BA$20,V15,1),no_value)),IF(I15=no_value,no_value,IFERROR(infla_WD*INDEX(DATA!$BD$6:$BD$20,V15,1),no_value)))","v":"-"},{"$f":"IFERROR(IF(INDEX(DATA!$AF$6:$AF$20,V15,1)=1,infla_WD*C_cm_WB,MAX(0,infla_WD*TREND(DATA!$BH$5:$BK$5,DATA!$BH$4:$BK$4,AE15))),no_value)","v":"-"},{"$f":"IFERROR(AB15+AC15*IF(INDEX(DATA!$AF$6:$AF$20,V15,1)=1,AA15,1),no_value)","v":"-"},"-","-",{"$f":"IFERROR(INDEX(DATA!$AE$6:$AE$20,V15,1),no_value)","v":"-"},{"$f":"IF(AND(D15<>\"\",F15<>\"\",ISNUMBER(K15)),VLOOKUP($D$3,DATA!$BF$25:$BG$27,2,FALSE),no_value)","v":"-"},"-","-","-","-","-","-","-","-","-","-","-","-","-","-"]
[null,12,"A12",null,null,null,null,null,{"$f":"IF(AND(D16<>\"\",V16<>\"-\"),IF(L16<=INDEX(DATA!$AM$6:$AM$20,V16),DATA!$AM$4,IF(L16<=INDEX(DATA!$AN$6:$AN$20,V16),DATA!$AN$4,IF(L16<=INDEX(DATA!$AO$6:$AO$20,V16),DATA!$AO$4,IF(L16<=INDEX(DATA!$AP$6:$AP$20,V16),DATA!$AP$4,\"-\")))),\"-\")","v":"-"},{"$f":"IFERROR(INDEX(DATA!$AQ$6:$AU$20,V16,T16),no_value)","v":"-"},{"$f":"IFERROR(INDEX(DATA!$AL$6:$AP$20,V16,T16),no_value)","v":"-"},null,null,"",null,{"$f":"IFERROR(IF(N16=pass,INDEX(DATA!$AG$6:$AK$20,V16,T16),no_value),no_value)","v":"-"},null,"-",null,{"$f":"IFERROR(HLOOKUP(I16,DATA!$AG$4:$AK$5,2,FALSE)-DATA!$AF$5,no_value)","v":1},{"$f":"IFERROR(VLOOKUP(D16,Liste_Bauteile,DATA!$AF$5,FALSE),no_value)","v":"-"},{"$f":"IFERROR(VLOOKUP(D16,DATA!$AC$6:$AD$20,2,FALSE),no_value)","v":"-"},{"$f":"IFERROR(INDEX(DATA!$AU$6:$AU$20,V16),no_value)","v":"-"},{"$f":"IFERROR(INDEX(DATA!$AY$6:$AY$20,V16,1),no_value)","v":"-"},{"$f":"IF($AD$1=\"X\",IFERROR(INDEX(DATA!$AZ$6:$AZ$20,V16,1),no_value),IF(I16=ESIV,0,IFERROR(INDEX(DATA!$BC$6:$BC$20,V16,1),no_value)))","v":"-"},"-","-",{"$f":"IF($AD$1=\"X\",IF(I16=no_value,no_value,IFERROR(infla_WD*INDEX(DATA!$BA$6:$BA$20,V16,1),no_value)),IF(I16=no_value,no_value,IFERROR(infla_WD*INDEX(DATA!$BD$6:$BD$20,V16,1),no_value)))","v":"-"},{"$f":"IFERROR(IF(INDEX(DATA!$AF$6:$AF$20,V16,1)=1,infla_WD*C_cm_WB,MAX(0,infla_WD*TREND(DATA!$BH$5:$BK$5,DATA!$BH$4:$BK$4,AE16))),no_value)","v":"-"},{"$f":"IFERROR(AB16+AC16*IF(INDEX(DATA!$AF$6:$AF$20,V16,1)=1,AA16,1),no_value)","v":"-"},"-","-",{"$f":"IFERROR(INDEX(DATA!$AE$6:$AE$20,V16,1),no_value)","v":"-"},{"$f":"IF(AND(D16<>\"\",F16<>\"\",ISNUMBER(K16)),VLOOKUP($D$3,DATA!$BF$25:$BG$27,2,FALSE),no_value)","v":"-"},"-","-","-","-","-","-","-","-","-","-","-","-","-","-"]
[null,13,"A13",null,null,null,null,null,{"$f":"IF(AND(D17<>\"\",V17<>\"-\"),IF(L17<=INDEX(DATA!$AM$6:$AM$20,V17),DATA!$AM$4,IF(L17<=INDEX(DATA!$AN$6:$AN$20,V17),DATA!$AN$4,IF(L17<=INDEX(DATA!$AO$6:$AO$20,V17),DATA!$AO$4,IF(L17<=INDEX(DATA!$AP$6:$AP$20,V17),DATA!$AP$4,\"-\")))),\"-\")","v":"-"},{"$f":"IFERROR(INDEX(DATA!$AQ$6:$AU$20,V17,T17),no_value)","v":"-"},{"$f":"IFERROR(INDEX(DATA!$AL$6:$AP$20,V17,T17),no_value)","v":"-"},null,null,"",null,{"$f":"IFERROR(IF(N17=pass,INDEX(DATA!$AG$6:$AK$20,V17,T17),no_value),no_value)","v":"-"},null,"-",null,{"$f":"IFERROR(HLOOKUP(I17,DATA!$AG$4:$AK$5,2,FALSE)-DATA!$AF$5,no_value)","v":1},{"$f":"IFERROR(VLOOKUP(D17,Liste_Bauteile,DATA!$AF$5,FALSE),no_value)","v":"-"},{"$f":"IFERROR(VLOOKUP(D17,DATA!$AC$6:$AD$20,2,FALSE),no_value)","v":"-"},{"$f":"IFERROR(INDEX(DATA!$AU$6:$AU$20,V17),no_value)","v":"-"},{"$f":"IFERROR(INDEX(DATA!$AY$6:$AY$20,V17,1),no_value)","v":"-"},{"$f":"IF($AD$1=\"X\",IFERROR(INDEX(DATA!$AZ$6:$AZ$20,V17,1),no_value),IF(I17=ESIV,0,IFERROR(INDEX(DATA!$BC$6:$BC$20,V17,1),no_value)))","v":"-"},"-","-",{"$f":"IF($AD$1=\"X\",IF(I17=no_value,no_value,IFERROR(infla_WD*INDEX(DATA!$BA$6:$BA$20,V17,1),no_value)),IF(I17=no_value,no_value,IFERROR(infla_WD*INDEX(DATA!$BD$6:$BD$20,V17,1),no_value)))","v":"-"},{"$f":"IFERROR(IF(INDEX(DATA!$AF$6:$AF$20,V17,1)=1,infla_WD*C_cm_WB,MAX(0,infla_WD*TREND(DATA!$BH$5:$BK$5,DATA!$BH$4:$BK$4,AE17))),no_value)","v":"-"},{"$f":"IFERROR(AB17+AC17*IF(INDEX(DATA!$AF$6:$AF$20,V17,1)=1,AA17,1),no_value)","v":"-"},"-","-",{"$f":"IFERROR(INDEX(DATA!$AE$6:$AE$20,V17,1),no_value)","v":"-"},{"$f":"IF(AND(D17<>\"\",F17<>\"\",ISNUMBER(K17)),VLOOKUP($D$3,DATA!$BF$25:$BG$27,2,FALSE),no_value)","v":"-"},"-","-","-","-","-","-","-","-","-","-","-","-","-","-"]
[null,14,"A15",null,null,null,null,null,{"$f":"IF(AND(D18<>\"\",V18<>\"-\"),IF(L18<=INDEX(DATA!$AM$6:$AM$20,V18),DATA!$AM$4,IF(L18<=INDEX(DATA!$AN$6:$AN$20,V18),DATA!$AN$4,IF(L18<=INDEX(DATA!$AO$6:$AO$20,V18),DATA!$AO$4,IF(L18<=INDEX(DATA!$AP$6:$AP$20,V18),DATA!$AP$4,\"-\")))),\"-\")","v":"-"},{"$f":"IFERROR(INDEX(DATA!$AQ$6:$AU$20,V18,T18),no_value)","v":"-"},{"$f":"IFERROR(INDEX(DATA!$AL$6:$AP$20,V18,T18),no_value)","v":"-"},null,null,"",null,{"$f":"IFERROR(IF(N18=pass,INDEX(DATA!$AG$6:$AK$20,V18,T18),no_value),no_value)","v":"-"},null,"-",null,{"$f":"IFERROR(HLOOKUP(I18,DATA!$AG$4:$AK$5,2,FALSE)-DATA!$AF$5,no_value)","v":1},{"$f":"IFERROR(VLOOKUP(D18,Liste_Bauteile,DATA!$AF$5,FALSE),no_value)","v":"-"},{"$f":"IFERROR(VLOOKUP(D18,DATA!$AC$6:$AD$20,2,FALSE),no_value)","v":"-"},{"$f":"IFERROR(INDEX(DATA!$AU$6:$AU$20,V18),no_value)","v":"-"},{"$f":"IFERROR(INDEX(DATA!$AY$6:$AY$20,V18,1),no_value)","v":"-"},{"$f":"IF($AD$1=\"X\",IFERROR(INDEX(DATA!$AZ$6:$AZ$20,V18,1),no_value),IF(I18=ESIV,0,IFERROR(INDEX(DATA!$BC$6:$BC$20,V18,1),no_value)))","v":"-"},"-","-",{"$f":"IF($AD$1=\"X\",IF(I18=no_value,no_value,IFERROR(infla_WD*INDEX(DATA!$BA$6:$BA$20,V18,1),no_value)),IF(I18=no_value,no_value,IFERROR(infla_WD*INDEX(DATA!$BD$6:$BD$20,V18,1),no_value)))","v":"-"},{"$f":"IFERROR(IF(INDEX(DATA!$AF$6:$AF$20,V18,1)=1,infla_WD*C_cm_WB,MAX(0,infla_WD*TREND(DATA!$BH$5:$BK$5,DATA!$BH$4:$BK$4,AE18))),no_value)","v":"-"},{"$f":"IFERROR(AB18+AC18*IF(INDEX(DATA!$AF$6:$AF$20,V18,1)=1,AA18,1),no_value)","v":"-"},"-","-",{"$f":"IFERROR(INDEX(DATA!$AE$6:$AE$20,V18,1),no_value)","v":"-"},{"$f":"IF(AND(D18<>\"\",F18<>\"\",ISNUMBER(K18)),VLOOKUP($D$3,DATA!$BF$25:$BG$27,2,FALSE),no_value)","v":"-"},"-","-","-","-","-","-","-","-","-","-","-","-","-","-"]
[null,15,"A16",null,null,null,null,null,{"$f":"IF(AND(D19<>\"\",V19<>\"-\"),IF(L19<=INDEX(DATA!$AM$6:$AM$20,V19),DATA!$AM$4,IF(L19<=INDEX(DATA!$AN$6:$AN$20,V19),DATA!$AN$4,IF(L19<=INDEX(DATA!$AO$6:$AO$20,V19),DATA!$AO$4,IF(L19<=INDEX(DATA!$AP$6:$AP$20,V19),DATA!$AP$4,\"-\")))),\"-\")","v":"-"},{"$f":"IFERROR(INDEX(DATA!$AQ$6:$AU$20,V19,T19),no_value)","v":"-"},{"$f":"IFERROR(INDEX(DATA!$AL$6:$AP$20,V19,T19),no_value)","v":"-"},null,null,"",null,{"$f":"IFERROR(IF(N19=pass,INDEX(DATA!$AG$6:$AK$20,V19,T19),no_value),no_value)","v":"-"},null,"-",null,{"$f":"IFERROR(HLOOKUP(I19,DATA!$AG$4:$AK$5,2,FALSE)-DATA!$AF$5,no_value)","v":1},{"$f":"IFERROR(VLOOKUP(D19,Liste_Bauteile,DATA!$AF$5,FALSE),no_value)","v":"-"},{"$f":"IFERROR(VLOOKUP(D19,DATA!$AC$6:$AD$20,2,FALSE),no_value)","v":"-"},{"$f":"IFERROR(INDEX(DATA!$AU$6:$AU$20,V19),no_value)","v":"-"},{"$f":"IFERROR(INDEX(DATA!$AY$6:$AY$20,V19,1),no_value)","v":"-"},{"$f":"IF($AD$1=\"X\",IFERROR(INDEX(DATA!$AZ$6:$AZ$20,V19,1),no_value),IF(I19=ESIV,0,IFERROR(INDEX(DATA!$BC$6:$BC$20,V19,1),no_value)))","v":"-"},"-","-",{"$f":"IF($AD$1=\"X\",IF(I19=no_value,no_value,IFERROR(infla_WD*INDEX(DATA!$BA$6:$BA$20,V19,1),no_value)),IF(I19=no_value,no_value,IFERROR(infla_WD*INDEX(DATA!$BD$6:$BD$20,V19,1),no_value)))","v":"-"},{"$f":"IFERROR(IF(INDEX(DATA!$AF$6:$AF$20,V19,1)=1,infla_WD*C_cm_WB,MAX(0,infla_WD*TREND(DATA!$BH$5:$BK$5,DATA!$BH$4:$BK$4,AE19))),no_value)","v":"-"},{"$f":"IFERROR(AB19+AC19*IF(INDEX(DATA!$AF$6:$AF$20,V19,1)=1,AA19,1),no_value)","v":"-"},"-","-",{"$f":"IFERROR(INDEX(DATA!$AE$6:$AE$20,V19,1),no_value)","v":"-"},{"$f":"IF(AND(D19<>\"\",F19<>\"\",ISNUMBER(K19)),VLOOKUP($D$3,DATA!$BF$25:$BG$27,2,FALSE),no_value)","v":"-"},"-","-","-","-","-","-","-","-","-","-","-","-","-","-"]
[null,16,"A17",null,null,null,null,null,{"$f":"IF(AND(D20<>\"\",V20<>\"-\"),IF(L20<=INDEX(DATA!$AM$6:$AM$20,V20),DATA!$AM$4,IF(L20<=INDEX(DATA!$AN$6:$AN$20,V20),DATA!$AN$4,IF(L20<=INDEX(DATA!$AO$6:$AO$20,V20),DATA!$AO$4,IF(L20<=INDEX(DATA!$AP$6:$AP$20,V20),DATA!$AP$4,\"-\")))),\"-\")","v":"-"},{"$f":"IFERROR(INDEX(DATA!$AQ$6:$AU$20,V20,T20),no_value)","v":"-"},{"$f":"IFERROR(INDEX(DATA!$AL$6:$AP$20,V20,T20),no_value)","v":"-"},null,null,"",null,{"$f":"IFERROR(IF(N20=pass,INDEX(DATA!$AG$6:$AK$20,V20,T20),no_value),no_value)","v":"-"},null,"-",null,{"$f":"IFERROR(HLOOKUP(I20,DATA!$AG$4:$AK$5,2,FALSE)-DATA!$AF$5,no_value)","v":1},{"$f":"IFERROR(VLOOKUP(D20,Liste_Bauteile,DATA!$AF$5,FALSE),no_value)","v":"-"},{"$f":"IFERROR(VLOOKUP(D20,DATA!$AC$6:$AD$20,2,FALSE),no_value)","v":"-"},{"$f":"IFERROR(INDEX(DATA!$AU$6:$AU$20,V20),no_value)","v":"-"},{"$f":"IFERROR(INDEX(DATA!$AY$6:$AY$20,V20,1),no_value)","v":"-"},{"$f":"IF($AD$1=\"X\",IFERROR(INDEX(DATA!$AZ$6:$AZ$20,V20,1),no_value),IF(I20=ESIV,0,IFERROR(INDEX(DATA!$BC$6:$BC$20,V20,1),no_value)))","v":"-"},"-","-",{"$f":"IF($AD$1=\"X\",IF(I20=no_value,no_value,IFERROR(infla_WD*INDEX(DATA!$BA$6:$BA$20,V20,1),no_value)),IF(I20=no_value,no_value,IFERROR(infla_WD*INDEX(DATA!$BD$6:$BD$20,V20,1),no_value)))","v":"-"},{"$f":"IFERROR(IF(INDEX(DATA!$AF$6:$AF$20,V20,1)=1,infla_WD*C_cm_WB,MAX(0,infla_WD*TREND(DATA!$BH$5:$BK$5,DATA!$BH$4:$BK$4,AE20))),no_value)","v":"-"},{"$f":"IFERROR(AB20+AC20*IF(INDEX(DATA!$AF$6:$AF$20,V20,1)=1,AA20,1),no_value)","v":"-"},"-","-",{"$f":"IFERROR(INDEX(DATA!$AE$6:$AE$20,V20,1),no_value)","v":"-"},{"$f":"IF(AND(D20<>\"\",F20<>\"\",ISNUMBER(K20)),VLOOKUP($D$3,DATA!$BF$25:$BG$27,2,FALSE),no_value)","v":"-"},"-","-","-","-","-","-","-","-","-","-","-","-","-","-"]
[null,17,"A18",null,null,null,null,null,{"$f":"IF(AND(D21<>\"\",V21<>\"-\"),IF(L21<=INDEX(DATA!$AM$6:$AM$20,V21),DATA!$AM$4,IF(L21<=INDEX(DATA!$AN$6:$AN$20,V21),DATA!$AN$4,IF(L21<=INDEX(DATA!$AO$6:$AO$20,V21),DATA!$AO$4,IF(L21<=INDEX(DATA!$AP$6:$AP$20,V21),DATA!$AP$4,\"-\")))),\"-\")","v":"-"},{"$f":"IFERROR(INDEX(DATA!$AQ$6:$AU$20,V21,T21),no_value)","v":"-"},{"$f":"IFERROR(INDEX(DATA!$AL$6:$AP$20,V21,T21),no_value)","v":"-"},null,null,"",null,{"$f":"IFERROR(IF(N21=pass,INDEX(DATA!$AG$6:$AK$20,V21,T21),no_value),no_value)","v":"-"},null,"-",null,{"$f":"IFERROR(HLOOKUP(I21,DATA!$AG$4:$AK$5,2,FALSE)-DATA!$AF$5,no_value)","v":1},{"$f":"IFERROR(VLOOKUP(D21,Liste_Bauteile,DATA!$AF$5,FALSE),no_value)","v":"-"},{"$f":"IFERROR(VLOOKUP(D21,DATA!$AC$6:$AD$20,2,FALSE),no_value)","v":"-"},{"$f":"IFERROR(INDEX(DATA!$AU$6:$AU$20,V21),no_value)","v":"-"},{"$f":"IFERROR(INDEX(DATA!$AY$6:$AY$20,V21,1),no_value)","v":"-"},{"$f":"IF($AD$1=\"X\",IFERROR(INDEX(DATA!$AZ$6:$AZ$20,V21,1),no_value),IF(I21=ESIV,0,IFERROR(INDEX(DATA!$BC$6:$BC$20,V21,1),no_value)))","v":"-"},"-","-",{"$f":"IF($AD$1=\"X\",IF(I21=no_value,no_value,IFERROR(infla_WD*INDEX(DATA!$BA$6:$BA$20,V21,1),no_value)),IF(I21=no_value,no_value,IFERROR(infla_WD*INDEX(DATA!$BD$6:$BD$20,V21,1),no_value)))","v":"-"},{"$f":"IFERROR(IF(INDEX(DATA!$AF$6:$AF$20,V21,1)=1,infla_WD*C_cm_WB,MAX(0,infla_WD*TREND(DATA!$BH$5:$BK$5,DATA!$BH$4:$BK$4,AE21))),no_value)","v":"-"},{"$f":"IFERROR(AB21+AC21*IF(INDEX(DATA!$AF$6:$AF$20,V21,1)=1,AA21,1),no_value)","v":"-"},"-","-",{"$f":"IFERROR(INDEX(DATA!$AE$6:$AE$20,V21,1),no_value)","v":"-"},{"$f":"IF(AND(D21<>\"\",F21<>\"\",ISNUMBER(K21)),VLOOKUP($D$3,DATA!$BF$25:$BG$27,2,FALSE),no_value)","v":"-"},"-","-","-","-","-","-","-","-","-","-","-","-","-","-"]
[null,18,"A19",null,null,null,null,null,{"$f":"IF(AND(D22<>\"\",V22<>\"-\"),IF(L22<=INDEX(DATA!$AM$6:$AM$20,V22),DATA!$AM$4,IF(L22<=INDEX(DATA!$AN$6:$AN$20,V22),DATA!$AN$4,IF(L22<=INDEX(DATA!$AO$6:$AO$20,V22),DATA!$AO$4,IF(L22<=INDEX(DATA!$AP$6:$AP$20,V22),DATA!$AP$4,\"-\")))),\"-\")","v":"-"},{"$f":"IFERROR(INDEX(DATA!$AQ$6:$AU$20,V22,T22),no_value)","v":"-"},{"$f":"IFERROR(INDEX(DATA!$AL$6:$AP$20,V22,T22),no_value)","v":"-"},null,null,"",null,{"$f":"IFERROR(IF(N22=pass,INDEX(DATA!$AG$6:$AK$20,V22,T22),no_value),no_value)","v":"-"},null,"-",null,{"$f":"IFERROR(HLOOKUP(I22,DATA!$AG$4:$AK$5,2,FALSE)-DATA!$AF$5,no_value)","v":1},{"$f":"IFERROR(VLOOKUP(D22,Liste_Bauteile,DATA!$AF$5,FALSE),no_value)","v":"-"},{"$f":"IFERROR(VLOOKUP(D22,DATA!$AC$6:$AD$20,2,FALSE),no_value)","v":"-"},{"$f":"IFERROR(INDEX(DATA!$AU$6:$AU$20,V22),no_value)","v":"-"},{"$f":"IFERROR(INDEX(DATA!$AY$6:$AY$20,V22,1),no_value)","v":"-"},{"$f":"IF($AD$1=\"X\",IFERROR(INDEX(DATA!$AZ$6:$AZ$20,V22,1),no_value),IF(I22=ESIV,0,IFERROR(INDEX(DATA!$BC$6:$BC$20,V22,1),no_value)))","v":"-"},"-","-",{"$f":"IF($AD$1=\"X\",IF(I22=no_value,no_value,IFERROR(infla_WD*INDEX(DATA!$BA$6:$BA$20,V22,1),no_value)),IF(I22=no_value,no_value,IFERROR(infla_WD*INDEX(DATA!$BD$6:$BD$20,V22,1),no_value)))","v":"-"},{"$f":"IFERROR(IF(INDEX(DATA!$AF$6:$AF$20,V22,1)=1,infla_WD*C_cm_WB,MAX(0,infla_WD*TREND(DATA!$BH$5:$BK$5,DATA!$BH$4:$BK$4,AE22))),no_value)","v":"-"},{"$f":"IFERROR(AB22+AC22*IF(INDEX(DATA!$AF$6:$AF$20,V22,1)=1,AA22,1),no_value)","v":"-"},"-","-",{"$f":"IFERROR(INDEX(DATA!$AE$6:$AE$20,V22,1),no_value)","v":"-"},{"$f":"IF(AND(D22<>\"\",F22<>\"\",ISNUMBER(K22)),VLOOKUP($D$3,DATA!$BF$25:$BG$27,2,FALSE),no_value)","v":"-"},"-","-","-","-","-","-","-","-","-","-","-","-","-","-"]
[null,19,"A20",null,null,null,null,null,{"$f":"IF(AND(D23<>\"\",V23<>\"-\"),IF(L23<=INDEX(DATA!$AM$6:$AM$20,V23),DATA!$AM$4,IF(L23<=INDEX(DATA!$AN$6:$AN$20,V23),DATA!$AN$4,IF(L23<=INDEX(DATA!$AO$6:$AO$20,V23),DATA!$AO$4,IF(L23<=INDEX(DATA!$AP$6:$AP$20,V23),DATA!$AP$4,\"-\")))),\"-\")","v":"-"},{"$f":"IFERROR(INDEX(DATA!$AQ$6:$AU$20,V23,T23),no_value)","v":"-"},{"$f":"IFERROR(INDEX(DATA!$AL$6:$AP$20,V23,T23),no_value)","v":"-"},null,null,"",null,{"$f":"IFERROR(IF(N23=pass,INDEX(DATA!$AG$6:$AK$20,V23,T23),no_value),no_value)","v":"-"},null,"-",null,{"$f":"IFERROR(HLOOKUP(I23,DATA!$AG$4:$AK$5,2,FALSE)-DATA!$AF$5,no_value)","v":1},{"$f":"IFERROR(VLOOKUP(D23,Liste_Bauteile,DATA!$AF$5,FALSE),no_value)","v":"-"},{"$f":"IFERROR(VLOOKUP(D23,DATA!$AC$6:$AD$20,2,FALSE),no_value)","v":"-"},{"$f":"IFERROR(INDEX(DATA!$AU$6:$AU$20,V23),no_value)","v":"-"},{"$f":"IFERROR(INDEX(DATA!$AY$6:$AY$20,V23,1),no_value)","v":"-"},{"$f":"IF($AD$1=\"X\",IFERROR(INDEX(DATA!$AZ$6:$AZ$20,V23,1),no_value),IF(I23=ESIV,0,IFERROR(INDEX(DATA!$BC$6:$BC$20,V23,1),no_value)))","v":"-"},"-","-",{"$f":"IF($AD$1=\"X\",IF(I23=no_value,no_value,IFERROR(infla_WD*INDEX(DATA!$BA$6:$BA$20,V23,1),no_value)),IF(I23=no_value,no_value,IFERROR(infla_WD*INDEX(DATA!$BD$6:$BD$20,V23,1),no_value)))","v":"-"},{"$f":"IFERROR(IF(INDEX(DATA!$AF$6:$AF$20,V23,1)=1,infla_WD*C_cm_WB,MAX(0,infla_WD*TREND(DATA!$BH$5:$BK$5,DATA!$BH$4:$BK$4,AE23))),no_value)","v":"-"},{"$f":"IFERROR(AB23+AC23*IF(INDEX(DATA!$AF$6:$AF$20,V23,1)=1,AA23,1),no_value)","v":"-"},"-","-",{"$f":"IFERROR(INDEX(DATA!$AE$6:$AE$20,V23,1),no_value)","v":"-"},{"$f":"IF(AND(D23<>\"\",F23<>\"\",ISNUMBER(K23)),VLOOKUP($D$3,DATA!$BF$25:$BG$27,2,FALSE),no_value)","v":"-"},"-","-","-","-","-","-","-","-","-","-","-","-","-","-"]
[null,20,"A22",null,null,null,null,null,{"$f":"IF(AND(D24<>\"\",V24<>\"-\"),IF(L24<=INDEX(DATA!$AM$6:$AM$20,V24),DATA!$AM$4,IF(L24<=INDEX(DATA!$AN$6:$AN$20,V24),DATA!$AN$4,IF(L24<=INDEX(DATA!$AO$6:$AO$20,V24),DATA!$AO$4,IF(L24<=INDEX(DATA!$AP$6:$AP$20,V24),DATA!$AP$4,\"-\")))),\"-\")","v":"-"},{"$f":"IFERROR(INDEX(DATA!$AQ$6:$AU$20,V24,T24),no_value)","v":"-"},{"$f":"IFERROR(INDEX(DATA!$AL$6:$AP$20,V24,T24),no_value)","v":"-"},null,null,"",null,{"$f":"IFERROR(IF(N24=pass,INDEX(DATA!$AG$6:$AK$20,V24,T24),no_value),no_value)","v":"-"},null,"-",null,{"$f":"IFERROR(HLOOKUP(I24,DATA!$AG$4:$AK$5,2,FALSE)-DATA!$AF$5,no_value)","v":1},{"$f":"IFERROR(VLOOKUP(D24,Liste_Bauteile,DATA!$AF$5,FALSE),no_value)","v":"-"},{"$f":"IFERROR(VLOOKUP(D24,DATA!$AC$6:$AD$20,2,FALSE),no_value)","v":"-"},{"$f":"IFERROR(INDEX(DATA!$AU$6:$AU$20,V24),no_value)","v":"-"},{"$f":"IFERROR(INDEX(DATA!$AY$6:$AY$20,V24,1),no_value)","v":"-"},{"$f":"IF($AD$1=\"X\",IFERROR(INDEX(DATA!$AZ$6:$AZ$20,V24,1),no_value),IF(I24=ESIV,0,IFERROR(INDEX(DATA!$BC$6:$BC$20,V24,1),no_value)))","v":"-"},"-","-",{"$f":"IF($AD$1=\"X\",IF(I24=no_value,no_value,IFERROR(infla_WD*INDEX(DATA!$BA$6:$BA$20,V24,1),no_value)),IF(I24=no_value,no_value,IFERROR(infla_WD*INDEX(DATA!$BD$6:$BD$20,V24,1),no_value)))","v":"-"},{"$f":"IFERROR(IF(INDEX(DATA!$AF$6:$AF$20,V24,1)=1,infla_WD*C_cm_WB,MAX(0,infla_WD*TREND(DATA!$BH$5:$BK$5,DATA!$BH$4:$BK$4,AE24))),no_value)","v":"-"},{"$f":"IFERROR(AB24+AC24*IF(INDEX(DATA!$AF$6:$AF$20,V24,1)=1,AA24,1),no_value)","v":"-"},"-","-",{"$f":"IFERROR(INDEX(DATA!$AE$6:$AE$20,V24,1),no_value)","v":"-"},{"$f":"IF(AND(D24<>\"\",F24<>\"\",ISNUMBER(K24)),VLOOKUP($D$3,DATA!$BF$25:$BG$27,2,FALSE),no_value)","v":"-"},"-","-","-","-","-","-","-","-","-","-","-","-","-","-"]
[null,21,"A21",null,null,null,null,null,{"$f":"IF(AND(D25<>\"\",V25<>\"-\"),IF(L25<=INDEX(DATA!$AM$6:$AM$20,V25),DATA!$AM$4,IF(L25<=INDEX(DATA!$AN$6:$AN$20,V25),DATA!$AN$4,IF(L25<=INDEX(DATA!$AO$6:$AO$20,V25),DATA!$AO$4,IF(L25<=INDEX(DATA!$AP$6:$AP$20,V25),DATA!$AP$4,\"-\")))),\"-\")","v":"-"},{"$f":"IFERROR(INDEX(DATA!$AQ$6:$AU$20,V25,T25),no_value)","v":"-"},{"$f":"IFERROR(INDEX(DATA!$AL$6:$AP$20,V25,T25),no_value)","v":"-"},null,null,"",null,{"$f":"IFERROR(IF(N25=pass,INDEX(DATA!$AG$6:$AK$20,V25,T25),no_value),no_value)","v":"-"},null,"-",null,{"$f":"IFERROR(HLOOKUP(I25,DATA!$AG$4:$AK$5,2,FALSE)-DATA!$AF$5,no_value)","v":1},{"$f":"IFERROR(VLOOKUP(D25,Liste_Bauteile,DATA!$AF$5,FALSE),no_value)","v":"-"},{"$f":"IFERROR(VLOOKUP(D25,DATA!$AC$6:$AD$20,2,FALSE),no_value)","v":"-"},{"$f":"IFERROR(INDEX(DATA!$AU$6:$AU$20,V25),no_value)","v":"-"},{"$f":"IFERROR(INDEX(DATA!$AY$6:$AY$20,V25,1),no_value)","v":"-"},{"$f":"IF($AD$1=\"X\",IFERROR(INDEX(DATA!$AZ$6:$AZ$20,V25,1),no_value),IF(I25=ESIV,0,IFERROR(INDEX(DATA!$BC$6:$BC$20,V25,1),no_value)))","v":"-"},"-","-",{"$f":"IF($AD$1=\"X\",IF(I25=no_value,no_value,IFERROR(infla_WD*INDEX(DATA!$BA$6:$BA$20,V25,1),no_value)),IF(I25=no_value,no_value,IFERROR(infla_WD*INDEX(DATA!$BD$6:$BD$20,V25,1),no_value)))","v":"-"},{"$f":"IFERROR(IF(INDEX(DATA!$AF$6:$AF$20,V25,1)=1,infla_WD*C_cm_WB,MAX(0,infla_WD*TREND(DATA!$BH$5:$BK$5,DATA!$BH$4:$BK$4,AE25))),no_value)","v":"-"},{"$f":"IFERROR(AB25+AC25*IF(INDEX(DATA!$AF$6:$AF$20,V25,1)=1,AA25,1),no_value)","v":"-"},"-","-",{"$f":"IFERROR(INDEX(DATA!$AE$6:$AE$20,V25,1),no_value)","v":"-"},{"$f":"IF(AND(D25<>\"\",F25<>\"\",ISNUMBER(K25)),VLOOKUP($D$3,DATA!$BF$25:$BG$27,2,FALSE),no_value)","v":"-"},"-","-","-","-","-","-","-","-","-","-","-","-","-","-"]
[null,22,"A22",null,null,null,null,null,{"$f":"IF(AND(D26<>\"\",V26<>\"-\"),IF(L26<=INDEX(DATA!$AM$6:$AM$20,V26),DATA!$AM$4,IF(L26<=INDEX(DATA!$AN$6:$AN$20,V26),DATA!$AN$4,IF(L26<=INDEX(DATA!$AO$6:$AO$20,V26),DATA!$AO$4,IF(L26<=INDEX(DATA!$AP$6:$AP$20,V26),DATA!$AP$4,\"-\")))),\"-\")","v":"-"},{"$f":"IFERROR(INDEX(DATA!$AQ$6:$AU$20,V26,T26),no_value)","v":"-"},{"$f":"IFERROR(INDEX(DATA!$AL$6:$AP$20,V26,T26),no_value)","v":"-"},null,null,"",null,{"$f":"IFERROR(IF(N26=pass,INDEX(DATA!$AG$6:$AK$20,V26,T26),no_value),no_value)","v":"-"},null,"-",null,{"$f":"IFERROR(HLOOKUP(I26,DATA!$AG$4:$AK$5,2,FALSE)-DATA!$AF$5,no_value)","v":1},{"$f":"IFERROR(VLOOKUP(D26,Liste_Bauteile,DATA!$AF$5,FALSE),no_value)","v":"-"},{"$f":"IFERROR(VLOOKUP(D26,DATA!$AC$6:$AD$20,2,FALSE),no_value)","v":"-"},{"$f":"IFERROR(INDEX(DATA!$AU$6:$AU$20,V26),no_value)","v":"-"},{"$f":"IFERROR(INDEX(DATA!$AY$6:$AY$20,V26,1),no_value)","v":"-"},{"$f":"IF($AD$1=\"X\",IFERROR(INDEX(DATA!$AZ$6:$AZ$20,V26,1),no_value),IF(I26=ESIV,0,IFERROR(INDEX(DATA!$BC$6:$BC$20,V26,1),no_value)))","v":"-"},"-","-",{"$f":"IF($AD$1=\"X\",IF(I26=no_value,no_value,IFERROR(infla_WD*INDEX(DATA!$BA$6:$BA$20,V26,1),no_value)),IF(I26=no_value,no_value,IFERROR(infla_WD*INDEX(DATA!$BD$6:$BD$20,V26,1),no_value)))","v":"-"},{"$f":"IFERROR(IF(INDEX(DATA!$AF$6:$AF$20,V26,1)=1,infla_WD*C_cm_WB,MAX(0,infla_WD*TREND(DATA!$BH$5:$BK$5,DATA!$BH$4:$BK$4,AE26))),no_value)","v":"-"},{"$f":"IFERROR(AB26+AC26*IF(INDEX(DATA!$AF$6:$AF$20,V26,1)=1,AA26,1),no_value)","v":"-"},"-","-",{"$f":"IFERROR(INDEX(DATA!$AE$6:$AE$20,V26,1),no_value)","v":"-"},{"$f":"IF(AND(D26<>\"\",F26<>\"\",ISNUMBER(K26)),VLOOKUP($D$3,DATA!$BF$25:$BG$27,2,FALSE),no_value)","v":"-"},"-","-","-","-","-","-","-","-","-","-","-","-","-","-"]
[null,23,"A23",null,null,null,null,null,{"$f":"IF(AND(D27<>\"\",V27<>\"-\"),IF(L27<=INDEX(DATA!$AM$6:$AM$20,V27),DATA!$AM$4,IF(L27<=INDEX(DATA!$AN$6:$AN$20,V27),DATA!$AN$4,IF(L27<=INDEX(DATA!$AO$6:$AO$20,V27),DATA!$AO$4,IF(L27<=INDEX(DATA!$AP$6:$AP$20,V27),DATA!$AP$4,\"-\")))),\"-\")","v":"-"},{"$f":"IFERROR(INDEX(DATA!$AQ$6:$AU$20,V27,T27),no_value)","v":"-"},{"$f":"IFERROR(INDEX(DATA!$AL$6:$AP$20,V27,T27),no_value)","v":"-"},null,null,"",null,{"$f":"IFERROR(IF(N27=pass,INDEX(DATA!$AG$6:$AK$20,V27,T27),no_value),no_value)","v":"-"},null,"-",null,{"$f":"IFERROR(HLOOKUP(I27,DATA!$AG$4:$AK$5,2,FALSE)-DATA!$AF$5,no_value)","v":1},{"$f":"IFERROR(VLOOKUP(D27,Liste_Bauteile,DATA!$AF$5,FALSE),no_value)","v":"-"},{"$f":"IFERROR(VLOOKUP(D27,DATA!$AC$6:$AD$20,2,FALSE),no_value)","v":"-"},{"$f":"IFERROR(INDEX(DATA!$AU$6:$AU$20,V27),no_value)","v":"-"},{"$f":"IFERROR(INDEX(DATA!$AY$6:$AY$20,V27,1),no_value)","v":"-"},{"$f":"IF($AD$1=\"X\",IFERROR(INDEX(DATA!$AZ$6:$AZ$20,V27,1),no_value),IF(I27=ESIV,0,IFERROR(INDEX(DATA!$BC$6:$BC$20,V27,1),no_value)))","v":"-"},"-","-",{"$f":"IF($AD$1=\"X\",IF(I27=no_value,no_value,IFERROR(infla_WD*INDEX(DATA!$BA$6:$BA$20,V27,1),no_value)),IF(I27=no_value,no_value,IFERROR(infla_WD*INDEX(DATA!$BD$6:$BD$20,V27,1),no_value)))","v":"-"},{"$f":"IFERROR(IF(INDEX(DATA!$AF$6:$AF$20,V27,1)=1,infla_WD*C_cm_WB,MAX(0,infla_WD*TREND(DATA!$BH$5:$BK$5,DATA!$BH$4:$BK$4,AE27))),no_value)","v":"-"},{"$f":"IFERROR(AB27+AC27*IF(INDEX(DATA!$AF$6:$AF$20,V27,1)=1,AA27,1),no_value)","v":"-"},"-","-",{"$f":"IFERROR(INDEX(DATA!$AE$6:$AE$20,V27,1),no_value)","v":"-"},{"$f":"IF(AND(D27<>\"\",F27<>\"\",ISNUMBER(K27)),VLOOKUP($D$3,DATA!$BF$25:$BG$27,2,FALSE),no_value)","v":"-"},"-","-","-","-","-","-","-","-","-","-","-","-","-","-"]
[null,24,"A24",null,null,null,null,null,{"$f":"IF(AND(D28<>\"\",V28<>\"-\"),IF(L28<=INDEX(DATA!$AM$6:$AM$20,V28),DATA!$AM$4,IF(L28<=INDEX(DATA!$AN$6:$AN$20,V28),DATA!$AN$4,IF(L28<=INDEX(DATA!$AO$6:$AO$20,V28),DATA!$AO$4,IF(L28<=INDEX(DATA!$AP$6:$AP$20,V28),DATA!$AP$4,\"-\")))),\"-\")","v":"-"},{"$f":"IFERROR(INDEX(DATA!$AQ$6:$AU$20,V28,T28),no_value)","v":"-"},{"$f":"IFERROR(INDEX(DATA!$AL$6:$AP$20,V28,T28),no_value)","v":"-"},null,null,"",null,{"$f":"IFERROR(IF(N28=pass,INDEX(DATA!$AG$6:$AK$20,V28,T28),no_value),no_value)","v":"-"},null,"-",null,{"$f":"IFERROR(HLOOKUP(I28,DATA!$AG$4:$AK$5,2,FALSE)-DATA!$AF$5,no_value)","v":1},{"$f":"IFERROR(VLOOKUP(D28,Liste_Bauteile,DATA!$AF$5,FALSE),no_value)","v":"-"},{"$f":"IFERROR(VLOOKUP(D28,DATA!$AC$6:$AD$20,2,FALSE),no_value)","v":"-"},{"$f":"IFERROR(INDEX(DATA!$AU$6:$AU$20,V28),no_value)","v":"-"},{"$f":"IFERROR(INDEX(DATA!$AY$6:$AY$20,V28,1),no_value)","v":"-"},{"$f":"IF($AD$1=\"X\",IFERROR(INDEX(DATA!$AZ$6:$AZ$20,V28,1),no_value),IF(I28=ESIV,0,IFERROR(INDEX(DATA!$BC$6:$BC$20,V28,1),no_value)))","v":"-"},"-","-",{"$f":"IF($AD$1=\"X\",IF(I28=no_value,no_value,IFERROR(infla_WD*INDEX(DATA!$BA$6:$BA$20,V28,1),no_value)),IF(I28=no_value,no_value,IFERROR(infla_WD*INDEX(DATA!$BD$6:$BD$20,V28,1),no_value)))","v":"-"},{"$f":"IFERROR(IF(INDEX(DATA!$AF$6:$AF$20,V28,1)=1,infla_WD*C_cm_WB,MAX(0,infla_WD*TREND(DATA!$BH$5:$BK$5,DATA!$BH$4:$BK$4,AE28))),no_value)","v":"-"},{"$f":"IFERROR(AB28+AC28*IF(INDEX(DATA!$AF$6:$AF$20,V28,1)=1,AA28,1),no_value)","v":"-"},"-","-",{"$f":"IFERROR(INDEX(DATA!$AE$6:$AE$20,V28,1),no_value)","v":"-"},{"$f":"IF(AND(D28<>\"\",F28<>\"\",ISNUMBER(K28)),VLOOKUP($D$3,DATA!$BF$25:$BG$27,2,FALSE),no_value)","v":"-"},"-","-","-","-","-","-","-","-","-","-","-","-","-","-"]
[null,25,"A25",null,null,null,null,null,{"$f":"IF(AND(D29<>\"\",V29<>\"-\"),IF(L29<=INDEX(DATA!$AM$6:$AM$20,V29),DATA!$AM$4,IF(L29<=INDEX(DATA!$AN$6:$AN$20,V29),DATA!$AN$4,IF(L29<=INDEX(DATA!$AO$6:$AO$20,V29),DATA!$AO$4,IF(L29<=INDEX(DATA!$AP$6:$AP$20,V29),DATA!$AP$4,\"-\")))),\"-\")","v":"-"},{"$f":"IFERROR(INDEX(DATA!$AQ$6:$AU$20,V29,T29),no_value)","v":"-"},{"$f":"IFERROR(INDEX(DATA!$AL$6:$AP$20,V29,T29),no_value)","v":"-"},null,null,"",null,{"$f":"IFERROR(IF(N29=pass,INDEX(DATA!$AG$6:$AK$20,V29,T29),no_value),no_value)","v":"-"},null,"-",null,{"$f":"IFERROR(HLOOKUP(I29,DATA!$AG$4:$AK$5,2,FALSE)-DATA!$AF$5,no_value)","v":1},{"$f":"IFERROR(VLOOKUP(D29,Liste_Bauteile,DATA!$AF$5,FALSE),no_value)","v":"-"},{"$f":"IFERROR(VLOOKUP(D29,DATA!$AC$6:$AD$20,2,FALSE),no_value)","v":"-"},{"$f":"IFERROR(INDEX(DATA!$AU$6:$AU$20,V29),no_value)","v":"-"},{"$f":"IFERROR(INDEX(DATA!$AY$6:$AY$20,V29,1),no_value)","v":"-"},{"$f":"IF($AD$1=\"X\",IFERROR(INDEX(DATA!$AZ$6:$AZ$20,V29,1),no_value),IF(I29=ESIV,0,IFERROR(INDEX(DATA!$BC$6:$BC$20,V29,1),no_value)))","v":"-"},"-","-",{"$f":"IF($AD$1=\"X\",IF(I29=no_value,no_value,IFERROR(infla_WD*INDEX(DATA!$BA$6:$BA$20,V29,1),no_value)),IF(I29=no_value,no_value,IFERROR(infla_WD*INDEX(DATA!$BD$6:$BD$20,V29,1),no_value)))","v":"-"},{"$f":"IFERROR(IF(INDEX(DATA!$AF$6:$AF$20,V29,1)=1,infla_WD*C_cm_WB,MAX(0,infla_WD*TREND(DATA!$BH$5:$BK$5,DATA!$BH$4:$BK$4,AE29))),no_value)","v":"-"},{"$f":"IFERROR(AB29+AC29*IF(INDEX(DATA!$AF$6:$AF$20,V29,1)=1,AA29,1),no_value)","v":"-"},"-","-",{"$f":"IFERROR(INDEX(DATA!$AE$6:$AE$20,V29,1),no_value)","v":"-"},{"$f":"IF(AND(D29<>\"\",F29<>\"\",ISNUMBER(K29)),VLOOKUP($D$3,DATA!$BF$25:$BG$27,2,FALSE),no_value)","v":"-"},"-","-","-","-","-","-","-","-","-","-","-","-","-","-"]
[null,26,"A26",null,null,null,null,null,{"$f":"IF(AND(D30<>\"\",V30<>\"-\"),IF(L30<=INDEX(DATA!$AM$6:$AM$20,V30),DATA!$AM$4,IF(L30<=INDEX(DATA!$AN$6:$AN$20,V30),DATA!$AN$4,IF(L30<=INDEX(DATA!$AO$6:$AO$20,V30),DATA!$AO$4,IF(L30<=INDEX(DATA!$AP$6:$AP$20,V30),DATA!$AP$4,\"-\")))),\"-\")","v":"-"},{"$f":"IFERROR(INDEX(DATA!$AQ$6:$AU$20,V30,T30),no_value)","v":"-"},{"$f":"IFERROR(INDEX(DATA!$AL$6:$AP$20,V30,T30),no_value)","v":"-"},null,null,"",null,{"$f":"IFERROR(IF(N30=pass,INDEX(DATA!$AG$6:$AK$20,V30,T30),no_value),no_value)","v":"-"},null,"-",null,{"$f":"IFERROR(HLOOKUP(I30,DATA!$AG$4:$AK$5,2,FALSE)-DATA!$AF$5,no_value)","v":1},{"$f":"IFERROR(VLOOKUP(D30,Liste_Bauteile,DATA!$AF$5,FALSE),no_value)","v":"-"},{"$f":"IFERROR(VLOOKUP(D30,DATA!$AC$6:$AD$20,2,FALSE),no_value)","v":"-"},{"$f":"IFERROR(INDEX(DATA!$AU$6:$AU$20,V30),no_value)","v":"-"},{"$f":"IFERROR(INDEX(DATA!$AY$6:$AY$20,V30,1),no_value)","v":"-"},{"$f":"IF($AD$1=\"X\",IFERROR(INDEX(DATA!$AZ$6:$AZ$20,V30,1),no_value),IF(I30=ESIV,0,IFERROR(INDEX(DATA!$BC$6:$BC$20,V30,1),no_value)))","v":"-"},"-","-",{"$f":"IF($AD$1=\"X\",IF(I30=no_value,no_value,IFERROR(infla_WD*INDEX(DATA!$BA$6:$BA$20,V30,1),no_value)),IF(I30=no_value,no_value,IFERROR(infla_WD*INDEX(DATA!$BD$6:$BD$20,V30,1),no_value)))","v":"-"},{"$f":"IFERROR(IF(INDEX(DATA!$AF$6:$AF$20,V30,1)=1,infla_WD*C_cm_WB,MAX(0,infla_WD*TREND(DATA!$BH$5:$BK$5,DATA!$BH$4:$BK$4,AE30))),no_value)","v":"-"},{"$f":"IFERROR(AB30+AC30*IF(INDEX(DATA!$AF$6:$AF$20,V30,1)=1,AA30,1),no_value)","v":"-"},"-","-",{"$f":"IFERROR(INDEX(DATA!$AE$6:$AE$20,V30,1),no_value)","v":"-"},{"$f":"IF(AND(D30<>\"\",F30<>\"\",ISNUMBER(K30)),VLOOKUP($D$3,DATA!$BF$25:$BG$27,2,FALSE),no_value)","v":"-"},"-","-","-","-","-","-","-","-","-","-","-","-","-","-"]
[null,{"$f":"B30+1","v":27},"A27",null,null,null,null,null,{"$f":"IF(AND(D31<>\"\",V31<>\"-\"),IF(L31<=INDEX(DATA!$AM$6:$AM$20,V31),DATA!$AM$4,IF(L31<=INDEX(DATA!$AN$6:$AN$20,V31),DATA!$AN$4,IF(L31<=INDEX(DATA!$AO$6:$AO$20,V31),DATA!$AO$4,IF(L31<=INDEX(DATA!$AP$6:$AP$20,V31),DATA!$AP$4,\"-\")))),\"-\")","v":"-"},{"$f":"IFERROR(INDEX(DATA!$AQ$6:$AU$20,V31,T31),no_value)","v":"-"},{"$f":"IFERROR(INDEX(DATA!$AL$6:$AP$20,V31,T31),no_value)","v":"-"},null,null,"",null,{"$f":"IFERROR(IF(N31=pass,INDEX(DATA!$AG$6:$AK$20,V31,T31),no_value),no_value)","v":"-"},null,"-",null,{"$f":"IFERROR(HLOOKUP(I31,DATA!$AG$4:$AK$5,2,FALSE)-DATA!$AF$5,no_value)","v":1},{"$f":"IFERROR(VLOOKUP(D31,Liste_Bauteile,DATA!$AF$5,FALSE),no_value)","v":"-"},{"$f":"IFERROR(VLOOKUP(D31,DATA!$AC$6:$AD$20,2,FALSE),no_value)","v":"-"},{"$f":"IFERROR(INDEX(DATA!$AU$6:$AU$20,V31),no_value)","v":"-"},{"$f":"IFERROR(INDEX(DATA!$AY$6:$AY$20,V31,1),no_value)","v":"-"},{"$f":"IF($AD$1=\"X\",IFERROR(INDEX(DATA!$AZ$6:$AZ$20,V31,1),no_value),IF(I31=ESIV,0,IFERROR(INDEX(DATA!$BC$6:$BC$20,V31,1),no_value)))","v":"-"},"-","-",{"$f":"IF($AD$1=\"X\",IF(I31=no_value,no_value,IFERROR(infla_WD*INDEX(DATA!$BA$6:$BA$20,V31,1),no_value)),IF(I31=no_value,no_value,IFERROR(infla_WD*INDEX(DATA!$BD$6:$BD$20,V31,1),no_value)))","v":"-"},{"$f":"IFERROR(IF(INDEX(DATA!$AF$6:$AF$20,V31,1)=1,infla_WD*C_cm_WB,MAX(0,infla_WD*TREND(DATA!$BH$5:$BK$5,DATA!$BH$4:$BK$4,AE31))),no_value)","v":"-"},{"$f":"IFERROR(AB31+AC31*IF(INDEX(DATA!$AF$6:$AF$20,V31,1)=1,AA31,1),no_value)","v":"-"},"-","-",{"$f":"IFERROR(INDEX(DATA!$AE$6:$AE$20,V31,1),no_value)","v":"-"},{"$f":"IF(AND(D31<>\"\",F31<>\"\",ISNUMBER(K31)),VLOOKUP($D$3,DATA!$BF$25:$BG$27,2,FALSE),no_value)","v":"-"},"-","-","-","-","-","-","-","-","-","-","-","-","-","-"]
[null,28,"A28",null,null,null,null,null,{"$f":"IF(AND(D32<>\"\",V32<>\"-\"),IF(L32<=INDEX(DATA!$AM$6:$AM$20,V32),DATA!$AM$4,IF(L32<=INDEX(DATA!$AN$6:$AN$20,V32),DATA!$AN$4,IF(L32<=INDEX(DATA!$AO$6:$AO$20,V32),DATA!$AO$4,IF(L32<=INDEX(DATA!$AP$6:$AP$20,V32),DATA!$AP$4,\"-\")))),\"-\")","v":"-"},{"$f":"IFERROR(INDEX(DATA!$AQ$6:$AU$20,V32,T32),no_value)","v":"-"},{"$f":"IFERROR(INDEX(DATA!$AL$6:$AP$20,V32,T32),no_value)","v":"-"},null,null,"",null,{"$f":"IFERROR(IF(N32=pass,INDEX(DATA!$AG$6:$AK$20,V32,T32),no_value),no_value)","v":"-"},null,"-",null,{"$f":"IFERROR(HLOOKUP(I32,DATA!$AG$4:$AK$5,2,FALSE)-DATA!$AF$5,no_value)","v":1},{"$f":"IFERROR(VLOOKUP(D32,Liste_Bauteile,DATA!$AF$5,FALSE),no_value)","v":"-"},{"$f":"IFERROR(VLOOKUP(D32,DATA!$AC$6:$AD$20,2,FALSE),no_value)","v":"-"},{"$f":"IFERROR(INDEX(DATA!$AU$6:$AU$20,V32),no_value)","v":"-"},{"$f":"IFERROR(INDEX(DATA!$AY$6:$AY$20,V32,1),no_value)","v":"-"},{"$f":"IF($AD$1=\"X\",IFERROR(INDEX(DATA!$AZ$6:$AZ$20,V32,1),no_value),IF(I32=ESIV,0,IFERROR(INDEX(DATA!$BC$6:$BC$20,V32,1),no_value)))","v":"-"},"-","-",{"$f":"IF($AD$1=\"X\",IF(I32=no_value,no_value,IFERROR(infla_WD*INDEX(DATA!$BA$6:$BA$20,V32,1),no_value)),IF(I32=no_value,no_value,IFERROR(infla_WD*INDEX(DATA!$BD$6:$BD$20,V32,1),no_value)))","v":"-"},{"$f":"IFERROR(IF(INDEX(DATA!$AF$6:$AF$20,V32,1)=1,infla_WD*C_cm_WB,MAX(0,infla_WD*TREND(DATA!$BH$5:$BK$5,DATA!$BH$4:$BK$4,AE32))),no_value)","v":"-"},{"$f":"IFERROR(AB32+AC32*IF(INDEX(DATA!$AF$6:$AF$20,V32,1)=1,AA32,1),no_value)","v":"-"},"-","-",{"$f":"IFERROR(INDEX(DATA!$AE$6:$AE$20,V32,1),no_value)","v":"-"},{"$f":"IF(AND(D32<>\"\",F32<>\"\",ISNUMBER(K32)),VLOOKUP($D$3,DATA!$BF$25:$BG$27,2,FALSE),no_value)","v":"-"},"-","-","-","-","-","-","-","-","-","-","-","-","-","-"]
[null,29,"A29",null,null,null,null,null,{"$f":"IF(AND(D33<>\"\",V33<>\"-\"),IF(L33<=INDEX(DATA!$AM$6:$AM$20,V33),DATA!$AM$4,IF(L33<=INDEX(DATA!$AN$6:$AN$20,V33),DATA!$AN$4,IF(L33<=INDEX(DATA!$AO$6:$AO$20,V33),DATA!$AO$4,IF(L33<=INDEX(DATA!$AP$6:$AP$20,V33),DATA!$AP$4,\"-\")))),\"-\")","v":"-"},{"$f":"IFERROR(INDEX(DATA!$AQ$6:$AU$20,V33,T33),no_value)","v":"-"},{"$f":"IFERROR(INDEX(DATA!$AL$6:$AP$20,V33,T33),no_value)","v":"-"},null,null,"",null,{"$f":"IFERROR(IF(N33=pass,INDEX(DATA!$AG$6:$AK$20,V33,T33),no_value),no_value)","v":"-"},null,"-",null,{"$f":"IFERROR(HLOOKUP(I33,DATA!$AG$4:$AK$5,2,FALSE)-DATA!$AF$5,no_value)","v":1},{"$f":"IFERROR(VLOOKUP(D33,Liste_Bauteile,DATA!$AF$5,FALSE),no_value)","v":"-"},{"$f":"IFERROR(VLOOKUP(D33,DATA!$AC$6:$AD$20,2,FALSE),no_value)","v":"-"},{"$f":"IFERROR(INDEX(DATA!$AU$6:$AU$20,V33),no_value)","v":"-"},{"$f":"IFERROR(INDEX(DATA!$AY$6:$AY$20,V33,1),no_value)","v":"-"},{"$f":"IF($AD$1=\"X\",IFERROR(INDEX(DATA!$AZ$6:$AZ$20,V33,1),no_value),IF(I33=ESIV,0,IFERROR(INDEX(DATA!$BC$6:$BC$20,V33,1),no_value)))","v":"-"},"-","-",{"$f":"IF($AD$1=\"X\",IF(I33=no_value,no_value,IFERROR(infla_WD*INDEX(DATA!$BA$6:$BA$20,V33,1),no_value)),IF(I33=no_value,no_value,IFERROR(infla_WD*INDEX(DATA!$BD$6:$BD$20,V33,1),no_value)))","v":"-"},{"$f":"IFERROR(IF(INDEX(DATA!$AF$6:$AF$20,V33,1)=1,infla_WD*C_cm_WB,MAX(0,infla_WD*TREND(DATA!$BH$5:$BK$5,DATA!$BH$4:$BK$4,AE33))),no_value)","v":"-"},{"$f":"IFERROR(AB33+AC33*IF(INDEX(DATA!$AF$6:$AF$20,V33,1)=1,AA33,1),no_value)","v":"-"},"-","-",{"$f":"IFERROR(INDEX(DATA!$AE$6:$AE$20,V33,1),no_value)","v":"-"},{"$f":"IF(AND(D33<>\"\",F33<>\"\",ISNUMBER(K33)),VLOOKUP($D$3,DATA!$BF$25:$BG$27,2,FALSE),no_value)","v":"-"},"-","-","-","-","-","-","-","-","-","-","-","-","-","-"]
[null,30,"A30",null,null,null,null,null,{"$f":"IF(AND(D34<>\"\",V34<>\"-\"),IF(L34<=INDEX(DATA!$AM$6:$AM$20,V34),DATA!$AM$4,IF(L34<=INDEX(DATA!$AN$6:$AN$20,V34),DATA!$AN$4,IF(L34<=INDEX(DATA!$AO$6:$AO$20,V34),DATA!$AO$4,IF(L34<=INDEX(DATA!$AP$6:$AP$20,V34),DATA!$AP$4,\"-\")))),\"-\")","v":"-"},{"$f":"IFERROR(INDEX(DATA!$AQ$6:$AU$20,V34,T34),no_value)","v":"-"},{"$f":"IFERROR(INDEX(DATA!$AL$6:$AP$20,V34,T34),no_value)","v":"-"},null,null,"",null,{"$f":"IFERROR(IF(N34=pass,INDEX(DATA!$AG$6:$AK$20,V34,T34),no_value),no_value)","v":"-"},null,"-",null,{"$f":"IFERROR(HLOOKUP(I34,DATA!$AG$4:$AK$5,2,FALSE)-DATA!$AF$5,no_value)","v":1},{"$f":"IFERROR(VLOOKUP(D34,Liste_Bauteile,DATA!$AF$5,FALSE),no_value)","v":"-"},{"$f":"IFERROR(VLOOKUP(D34,DATA!$AC$6:$AD$20,2,FALSE),no_value)","v":"-"},{"$f":"IFERROR(INDEX(DATA!$AU$6:$AU$20,V34),no_value)","v":"-"},{"$f":"IFERROR(INDEX(DATA!$AY$6:$AY$20,V34,1),no_value)","v":"-"},{"$f":"IF($AD$1=\"X\",IFERROR(INDEX(DATA!$AZ$6:$AZ$20,V34,1),no_value),IF(I34=ESIV,0,IFERROR(INDEX(DATA!$BC$6:$BC$20,V34,1),no_value)))","v":"-"},"-","-",{"$f":"IF($AD$1=\"X\",IF(I34=no_value,no_value,IFERROR(infla_WD*INDEX(DATA!$BA$6:$BA$20,V34,1),no_value)),IF(I34=no_value,no_value,IFERROR(infla_WD*INDEX(DATA!$BD$6:$BD$20,V34,1),no_value)))","v":"-"},{"$f":"IFERROR(IF(INDEX(DATA!$AF$6:$AF$20,V34,1)=1,infla_WD*C_cm_WB,MAX(0,infla_WD*TREND(DATA!$BH$5:$BK$5,DATA!$BH$4:$BK$4,AE34))),no_value)","v":"-"},{"$f":"IFERROR(AB34+AC34*IF(INDEX(DATA!$AF$6:$AF$20,V34,1)=1,AA34,1),no_value)","v":"-"},"-","-",{"$f":"IFERROR(INDEX(DATA!$AE$6:$AE$20,V34,1),no_value)","v":"-"},{"$f":"IF(AND(D34<>\"\",F34<>\"\",ISNUMBER(K34)),VLOOKUP($D$3,DATA!$BF$25:$BG$27,2,FALSE),no_value)","v":"-"},"-","-","-","-","-","-","-","-","-","-","-","-","-","-"]
[null,31,"A31",null,null,null,null,null,{"$f":"IF(AND(D35<>\"\",V35<>\"-\"),IF(L35<=INDEX(DATA!$AM$6:$AM$20,V35),DATA!$AM$4,IF(L35<=INDEX(DATA!$AN$6:$AN$20,V35),DATA!$AN$4,IF(L35<=INDEX(DATA!$AO$6:$AO$20,V35),DATA!$AO$4,IF(L35<=INDEX(DATA!$AP$6:$AP$20,V35),DATA!$AP$4,\"-\")))),\"-\")","v":"-"},{"$f":"IFERROR(INDEX(DATA!$AQ$6:$AU$20,V35,T35),no_value)","v":"-"},{"$f":"IFERROR(INDEX(DATA!$AL$6:$AP$20,V35,T35),no_value)","v":"-"},null,null,"",null,{"$f":"IFERROR(IF(N35=pass,INDEX(DATA!$AG$6:$AK$20,V35,T35),no_value),no_value)","v":"-"},null,"-",null,{"$f":"IFERROR(HLOOKUP(I35,DATA!$AG$4:$AK$5,2,FALSE)-DATA!$AF$5,no_value)","v":1},{"$f":"IFERROR(VLOOKUP(D35,Liste_Bauteile,DATA!$AF$5,FALSE),no_value)","v":"-"},{"$f":"IFERROR(VLOOKUP(D35,DATA!$AC$6:$AD$20,2,FALSE),no_value)","v":"-"},{"$f":"IFERROR(INDEX(DATA!$AU$6:$AU$20,V35),no_value)","v":"-"},{"$f":"IFERROR(INDEX(DATA!$AY$6:$AY$20,V35,1),no_value)","v":"-"},{"$f":"IF($AD$1=\"X\",IFERROR(INDEX(DATA!$AZ$6:$AZ$20,V35,1),no_value),IF(I35=ESIV,0,IFERROR(INDEX(DATA!$BC$6:$BC$20,V35,1),no_value)))","v":"-"},"-","-",{"$f":"IF($AD$1=\"X\",IF(I35=no_value,no_value,IFERROR(infla_WD*INDEX(DATA!$BA$6:$BA$20,V35,1),no_value)),IF(I35=no_value,no_value,IFERROR(infla_WD*INDEX(DATA!$BD$6:$BD$20,V35,1),no_value)))","v":"-"},{"$f":"IFERROR(IF(INDEX(DATA!$AF$6:$AF$20,V35,1)=1,infla_WD*C_cm_WB,MAX(0,infla_WD*TREND(DATA!$BH$5:$BK$5,DATA!$BH$4:$BK$4,AE35))),no_value)","v":"-"},{"$f":"IFERROR(AB35+AC35*IF(INDEX(DATA!$AF$6:$AF$20,V35,1)=1,AA35,1),no_value)","v":"-"},"-","-",{"$f":"IFERROR(INDEX(DATA!$AE$6:$AE$20,V35,1),no_value)","v":"-"},{"$f":"IF(AND(D35<>\"\",F35<>\"\",ISNUMBER(K35)),VLOOKUP($D$3,DATA!$BF$25:$BG$27,2,FALSE),no_value)","v":"-"},"-","-","-","-","-","-","-","-","-","-","-","-","-","-"]
[null,32,"A32",null,null,null,null,null,{"$f":"IF(AND(D36<>\"\",V36<>\"-\"),IF(L36<=INDEX(DATA!$AM$6:$AM$20,V36),DATA!$AM$4,IF(L36<=INDEX(DATA!$AN$6:$AN$20,V36),DATA!$AN$4,IF(L36<=INDEX(DATA!$AO$6:$AO$20,V36),DATA!$AO$4,IF(L36<=INDEX(DATA!$AP$6:$AP$20,V36),DATA!$AP$4,\"-\")))),\"-\")","v":"-"},{"$f":"IFERROR(INDEX(DATA!$AQ$6:$AU$20,V36,T36),no_value)","v":"-"},{"$f":"IFERROR(INDEX(DATA!$AL$6:$AP$20,V36,T36),no_value)","v":"-"},null,null,"",null,{"$f":"IFERROR(IF(N36=pass,INDEX(DATA!$AG$6:$AK$20,V36,T36),no_value),no_value)","v":"-"},null,"-",null,{"$f":"IFERROR(HLOOKUP(I36,DATA!$AG$4:$AK$5,2,FALSE)-DATA!$AF$5,no_value)","v":1},{"$f":"IFERROR(VLOOKUP(D36,Liste_Bauteile,DATA!$AF$5,FALSE),no_value)","v":"-"},{"$f":"IFERROR(VLOOKUP(D36,DATA!$AC$6:$AD$20,2,FALSE),no_value)","v":"-"},{"$f":"IFERROR(INDEX(DATA!$AU$6:$AU$20,V36),no_value)","v":"-"},{"$f":"IFERROR(INDEX(DATA!$AY$6:$AY$20,V36,1),no_value)","v":"-"},{"$f":"IF($AD$1=\"X\",IFERROR(INDEX(DATA!$AZ$6:$AZ$20,V36,1),no_value),IF(I36=ESIV,0,IFERROR(INDEX(DATA!$BC$6:$BC$20,V36,1),no_value)))","v":"-"},"-","-",{"$f":"IF($AD$1=\"X\",IF(I36=no_value,no_value,IFERROR(infla_WD*INDEX(DATA!$BA$6:$BA$20,V36,1),no_value)),IF(I36=no_value,no_value,IFERROR(infla_WD*INDEX(DATA!$BD$6:$BD$20,V36,1),no_value)))","v":"-"},{"$f":"IFERROR(IF(INDEX(DATA!$AF$6:$AF$20,V36,1)=1,infla_WD*C_cm_WB,MAX(0,infla_WD*TREND(DATA!$BH$5:$BK$5,DATA!$BH$4:$BK$4,AE36))),no_value)","v":"-"},{"$f":"IFERROR(AB36+AC36*IF(INDEX(DATA!$AF$6:$AF$20,V36,1)=1,AA36,1),no_value)","v":"-"},"-","-",{"$f":"IFERROR(INDEX(DATA!$AE$6:$AE$20,V36,1),no_value)","v":"-"},{"$f":"IF(AND(D36<>\"\",F36<>\"\",ISNUMBER(K36)),VLOOKUP($D$3,DATA!$BF$25:$BG$27,2,FALSE),no_value)","v":"-"},"-","-","-","-","-","-","-","-","-","-","-","-","-","-"]
[null,33,"A33",null,null,null,null,null,{"$f":"IF(AND(D37<>\"\",V37<>\"-\"),IF(L37<=INDEX(DATA!$AM$6:$AM$20,V37),DATA!$AM$4,IF(L37<=INDEX(DATA!$AN$6:$AN$20,V37),DATA!$AN$4,IF(L37<=INDEX(DATA!$AO$6:$AO$20,V37),DATA!$AO$4,IF(L37<=INDEX(DATA!$AP$6:$AP$20,V37),DATA!$AP$4,\"-\")))),\"-\")","v":"-"},{"$f":"IFERROR(INDEX(DATA!$AQ$6:$AU$20,V37,T37),no_value)","v":"-"},{"$f":"IFERROR(INDEX(DATA!$AL$6:$AP$20,V37,T37),no_value)","v":"-"},null,null,"",null,{"$f":"IFERROR(IF(N37=pass,INDEX(DATA!$AG$6:$AK$20,V37,T37),no_value),no_value)","v":"-"},null,"-",null,{"$f":"IFERROR(HLOOKUP(I37,DATA!$AG$4:$AK$5,2,FALSE)-DATA!$AF$5,no_value)","v":1},{"$f":"IFERROR(VLOOKUP(D37,Liste_Bauteile,DATA!$AF$5,FALSE),no_value)","v":"-"},{"$f":"IFERROR(VLOOKUP(D37,DATA!$AC$6:$AD$20,2,FALSE),no_value)","v":"-"},{"$f":"IFERROR(INDEX(DATA!$AU$6:$AU$20,V37),no_value)","v":"-"},{"$f":"IFERROR(INDEX(DATA!$AY$6:$AY$20,V37,1),no_value)","v":"-"},{"$f":"IF($AD$1=\"X\",IFERROR(INDEX(DATA!$AZ$6:$AZ$20,V37,1),no_value),IF(I37=ESIV,0,IFERROR(INDEX(DATA!$BC$6:$BC$20,V37,1),no_value)))","v":"-"},"-","-",{"$f":"IF($AD$1=\"X\",IF(I37=no_value,no_value,IFERROR(infla_WD*INDEX(DATA!$BA$6:$BA$20,V37,1),no_value)),IF(I37=no_value,no_value,IFERROR(infla_WD*INDEX(DATA!$BD$6:$BD$20,V37,1),no_value)))","v":"-"},{"$f":"IFERROR(IF(INDEX(DATA!$AF$6:$AF$20,V37,1)=1,infla_WD*C_cm_WB,MAX(0,infla_WD*TREND(DATA!$BH$5:$BK$5,DATA!$BH$4:$BK$4,AE37))),no_value)","v":"-"},{"$f":"IFERROR(AB37+AC37*IF(INDEX(DATA!$AF$6:$AF$20,V37,1)=1,AA37,1),no_value)","v":"-"},"-","-",{"$f":"IFERROR(INDEX(DATA!$AE$6:$AE$20,V37,1),no_value)","v":"-"},{"$f":"IF(AND(D37<>\"\",F37<>\"\",ISNUMBER(K37)),VLOOKUP($D$3,DATA!$BF$25:$BG$27,2,FALSE),no_value)","v":"-"},"-","-","-","-","-","-","-","-","-","-","-","-","-","-"]
[null,34,"A34",null,null,null,null,null,{"$f":"IF(AND(D38<>\"\",V38<>\"-\"),IF(L38<=INDEX(DATA!$AM$6:$AM$20,V38),DATA!$AM$4,IF(L38<=INDEX(DATA!$AN$6:$AN$20,V38),DATA!$AN$4,IF(L38<=INDEX(DATA!$AO$6:$AO$20,V38),DATA!$AO$4,IF(L38<=INDEX(DATA!$AP$6:$AP$20,V38),DATA!$AP$4,\"-\")))),\"-\")","v":"-"},{"$f":"IFERROR(INDEX(DATA!$AQ$6:$AU$20,V38,T38),no_value)","v":"-"},{"$f":"IFERROR(INDEX(DATA!$AL$6:$AP$20,V38,T38),no_value)","v":"-"},null,null,"",null,{"$f":"IFERROR(IF(N38=pass,INDEX(DATA!$AG$6:$AK$20,V38,T38),no_value),no_value)","v":"-"},null,"-",null,{"$f":"IFERROR(HLOOKUP(I38,DATA!$AG$4:$AK$5,2,FALSE)-DATA!$AF$5,no_value)","v":1},{"$f":"IFERROR(VLOOKUP(D38,Liste_Bauteile,DATA!$AF$5,FALSE),no_value)","v":"-"},{"$f":"IFERROR(VLOOKUP(D38,DATA!$AC$6:$AD$20,2,FALSE),no_value)","v":"-"},{"$f":"IFERROR(INDEX(DATA!$AU$6:$AU$20,V38),no_value)","v":"-"},{"$f":"IFERROR(INDEX(DATA!$AY$6:$AY$20,V38,1),no_value)","v":"-"},{"$f":"IF($AD$1=\"X\",IFERROR(INDEX(DATA!$AZ$6:$AZ$20,V38,1),no_value),IF(I38=ESIV,0,IFERROR(INDEX(DATA!$BC$6:$BC$20,V38,1),no_value)))","v":"-"},"-","-",{"$f":"IF($AD$1=\"X\",IF(I38=no_value,no_value,IFERROR(infla_WD*INDEX(DATA!$BA$6:$BA$20,V38,1),no_value)),IF(I38=no_value,no_value,IFERROR(infla_WD*INDEX(DATA!$BD$6:$BD$20,V38,1),no_value)))","v":"-"},{"$f":"IFERROR(IF(INDEX(DATA!$AF$6:$AF$20,V38,1)=1,infla_WD*C_cm_WB,MAX(0,infla_WD*TREND(DATA!$BH$5:$BK$5,DATA!$BH$4:$BK$4,AE38))),no_value)","v":"-"},{"$f":"IFERROR(AB38+AC38*IF(INDEX(DATA!$AF$6:$AF$20,V38,1)=1,AA38,1),no_value)","v":"-"},"-","-",{"$f":"IFERROR(INDEX(DATA!$AE$6:$AE$20,V38,1),no_value)","v":"-"},{"$f":"IF(AND(D38<>\"\",F38<>\"\",ISNUMBER(K38)),VLOOKUP($D$3,DATA!$BF$25:$BG$27,2,FALSE),no_value)","v":"-"},"-","-","-","-","-","-","-","-","-","-","-","-","-","-"]
[null,35,"A35",null,null,null,null,null,{"$f":"IF(AND(D39<>\"\",V39<>\"-\"),IF(L39<=INDEX(DATA!$AM$6:$AM$20,V39),DATA!$AM$4,IF(L39<=INDEX(DATA!$AN$6:$AN$20,V39),DATA!$AN$4,IF(L39<=INDEX(DATA!$AO$6:$AO$20,V39),DATA!$AO$4,IF(L39<=INDEX(DATA!$AP$6:$AP$20,V39),DATA!$AP$4,\"-\")))),\"-\")","v":"-"},{"$f":"IFERROR(INDEX(DATA!$AQ$6:$AU$20,V39,T39),no_value)","v":"-"},{"$f":"IFERROR(INDEX(DATA!$AL$6:$AP$20,V39,T39),no_value)","v":"-"},null,null,"",null,{"$f":"IFERROR(IF(N39=pass,INDEX(DATA!$AG$6:$AK$20,V39,T39),no_value),no_value)","v":"-"},null,"-",null,{"$f":"IFERROR(HLOOKUP(I39,DATA!$AG$4:$AK$5,2,FALSE)-DATA!$AF$5,no_value)","v":1},{"$f":"IFERROR(VLOOKUP(D39,Liste_Bauteile,DATA!$AF$5,FALSE),no_value)","v":"-"},{"$f":"IFERROR(VLOOKUP(D39,DATA!$AC$6:$AD$20,2,FALSE),no_value)","v":"-"},{"$f":"IFERROR(INDEX(DATA!$AU$6:$AU$20,V39),no_value)","v":"-"},{"$f":"IFERROR(INDEX(DATA!$AY$6:$AY$20,V39,1),no_value)","v":"-"},{"$f":"IF($AD$1=\"X\",IFERROR(INDEX(DATA!$AZ$6:$AZ$20,V39,1),no_value),IF(I39=ESIV,0,IFERROR(INDEX(DATA!$BC$6:$BC$20,V39,1),no_value)))","v":"-"},"-","-",{"$f":"IF($AD$1=\"X\",IF(I39=no_value,no_value,IFERROR(infla_WD*INDEX(DATA!$BA$6:$BA$20,V39,1),no_value)),IF(I39=no_value,no_value,IFERROR(infla_WD*INDEX(DATA!$BD$6:$BD$20,V39,1),no_value)))","v":"-"},{"$f":"IFERROR(IF(INDEX(DATA!$AF$6:$AF$20,V39,1)=1,infla_WD*C_cm_WB,MAX(0,infla_WD*TREND(DATA!$BH$5:$BK$5,DATA!$BH$4:$BK$4,AE39))),no_value)","v":"-"},{"$f":"IFERROR(AB39+AC39*IF(INDEX(DATA!$AF$6:$AF$20,V39,1)=1,AA39,1),no_value)","v":"-"},"-","-",{"$f":"IFERROR(INDEX(DATA!$AE$6:$AE$20,V39,1),no_value)","v":"-"},{"$f":"IF(AND(D39<>\"\",F39<>\"\",ISNUMBER(K39)),VLOOKUP($D$3,DATA!$BF$25:$BG$27,2,FALSE),no_value)","v":"-"},"-","-","-","-","-","-","-","-","-","-","-","-","-","-"]
[null,36,"A36",null,null,null,null,null,{"$f":"IF(AND(D40<>\"\",V40<>\"-\"),IF(L40<=INDEX(DATA!$AM$6:$AM$20,V40),DATA!$AM$4,IF(L40<=INDEX(DATA!$AN$6:$AN$20,V40),DATA!$AN$4,IF(L40<=INDEX(DATA!$AO$6:$AO$20,V40),DATA!$AO$4,IF(L40<=INDEX(DATA!$AP$6:$AP$20,V40),DATA!$AP$4,\"-\")))),\"-\")","v":"-"},{"$f":"IFERROR(INDEX(DATA!$AQ$6:$AU$20,V40,T40),no_value)","v":"-"},{"$f":"IFERROR(INDEX(DATA!$AL$6:$AP$20,V40,T40),no_value)","v":"-"},null,null,"",null,{"$f":"IFERROR(IF(N40=pass,INDEX(DATA!$AG$6:$AK$20,V40,T40),no_value),no_value)","v":"-"},null,"-",null,{"$f":"IFERROR(HLOOKUP(I40,DATA!$AG$4:$AK$5,2,FALSE)-DATA!$AF$5,no_value)","v":1},{"$f":"IFERROR(VLOOKUP(D40,Liste_Bauteile,DATA!$AF$5,FALSE),no_value)","v":"-"},{"$f":"IFERROR(VLOOKUP(D40,DATA!$AC$6:$AD$20,2,FALSE),no_value)","v":"-"},{"$f":"IFERROR(INDEX(DATA!$AU$6:$AU$20,V40),no_value)","v":"-"},{"$f":"IFERROR(INDEX(DATA!$AY$6:$AY$20,V40,1),no_value)","v":"-"},{"$f":"IF($AD$1=\"X\",IFERROR(INDEX(DATA!$AZ$6:$AZ$20,V40,1),no_value),IF(I40=ESIV,0,IFERROR(INDEX(DATA!$BC$6:$BC$20,V40,1),no_value)))","v":"-"},"-","-",{"$f":"IF($AD$1=\"X\",IF(I40=no_value,no_value,IFERROR(infla_WD*INDEX(DATA!$BA$6:$BA$20,V40,1),no_value)),IF(I40=no_value,no_value,IFERROR(infla_WD*INDEX(DATA!$BD$6:$BD$20,V40,1),no_value)))","v":"-"},{"$f":"IFERROR(IF(INDEX(DATA!$AF$6:$AF$20,V40,1)=1,infla_WD*C_cm_WB,MAX(0,infla_WD*TREND(DATA!$BH$5:$BK$5,DATA!$BH$4:$BK$4,AE40))),no_value)","v":"-"},{"$f":"IFERROR(AB40+AC40*IF(INDEX(DATA!$AF$6:$AF$20,V40,1)=1,AA40,1),no_value)","v":"-"},"-","-",{"$f":"IFERROR(INDEX(DATA!$AE$6:$AE$20,V40,1),no_value)","v":"-"},{"$f":"IF(AND(D40<>\"\",F40<>\"\",ISNUMBER(K40)),VLOOKUP($D$3,DATA!$BF$25:$BG$27,2,FALSE),no_value)","v":"-"},"-","-","-","-","-","-","-","-","-","-","-","-","-","-"]
[null,37,"A37",null,null,null,null,null,{"$f":"IF(AND(D41<>\"\",V41<>\"-\"),IF(L41<=INDEX(DATA!$AM$6:$AM$20,V41),DATA!$AM$4,IF(L41<=INDEX(DATA!$AN$6:$AN$20,V41),DATA!$AN$4,IF(L41<=INDEX(DATA!$AO$6:$AO$20,V41),DATA!$AO$4,IF(L41<=INDEX(DATA!$AP$6:$AP$20,V41),DATA!$AP$4,\"-\")))),\"-\")","v":"-"},{"$f":"IFERROR(INDEX(DATA!$AQ$6:$AU$20,V41,T41),no_value)","v":"-"},{"$f":"IFERROR(INDEX(DATA!$AL$6:$AP$20,V41,T41),no_value)","v":"-"},null,null,"",null,{"$f":"IFERROR(IF(N41=pass,INDEX(DATA!$AG$6:$AK$20,V41,T41),no_value),no_value)","v":"-"},null,"-",null,{"$f":"IFERROR(HLOOKUP(I41,DATA!$AG$4:$AK$5,2,FALSE)-DATA!$AF$5,no_value)","v":1},{"$f":"IFERROR(VLOOKUP(D41,Liste_Bauteile,DATA!$AF$5,FALSE),no_value)","v":"-"},{"$f":"IFERROR(VLOOKUP(D41,DATA!$AC$6:$AD$20,2,FALSE),no_value)","v":"-"},{"$f":"IFERROR(INDEX(DATA!$AU$6:$AU$20,V41),no_value)","v":"-"},{"$f":"IFERROR(INDEX(DATA!$AY$6:$AY$20,V41,1),no_value)","v":"-"},{"$f":"IF($AD$1=\"X\",IFERROR(INDEX(DATA!$AZ$6:$AZ$20,V41,1),no_value),IF(I41=ESIV,0,IFERROR(INDEX(DATA!$BC$6:$BC$20,V41,1),no_value)))","v":"-"},"-","-",{"$f":"IF($AD$1=\"X\",IF(I41=no_value,no_value,IFERROR(infla_WD*INDEX(DATA!$BA$6:$BA$20,V41,1),no_value)),IF(I41=no_value,no_value,IFERROR(infla_WD*INDEX(DATA!$BD$6:$BD$20,V41,1),no_value)))","v":"-"},{"$f":"IFERROR(IF(INDEX(DATA!$AF$6:$AF$20,V41,1)=1,infla_WD*C_cm_WB,MAX(0,infla_WD*TREND(DATA!$BH$5:$BK$5,DATA!$BH$4:$BK$4,AE41))),no_value)","v":"-"},{"$f":"IFERROR(AB41+AC41*IF(INDEX(DATA!$AF$6:$AF$20,V41,1)=1,AA41,1),no_value)","v":"-"},"-","-",{"$f":"IFERROR(INDEX(DATA!$AE$6:$AE$20,V41,1),no_value)","v":"-"},{"$f":"IF(AND(D41<>\"\",F41<>\"\",ISNUMBER(K41)),VLOOKUP($D$3,DATA!$BF$25:$BG$27,2,FALSE),no_value)","v":"-"},"-","-","-","-","-","-","-","-","-","-","-","-","-","-"]
[null,38,"A38",null,null,null,null,null,{"$f":"IF(AND(D42<>\"\",V42<>\"-\"),IF(L42<=INDEX(DATA!$AM$6:$AM$20,V42),DATA!$AM$4,IF(L42<=INDEX(DATA!$AN$6:$AN$20,V42),DATA!$AN$4,IF(L42<=INDEX(DATA!$AO$6:$AO$20,V42),DATA!$AO$4,IF(L42<=INDEX(DATA!$AP$6:$AP$20,V42),DATA!$AP$4,\"-\")))),\"-\")","v":"-"},{"$f":"IFERROR(INDEX(DATA!$AQ$6:$AU$20,V42,T42),no_value)","v":"-"},{"$f":"IFERROR(INDEX(DATA!$AL$6:$AP$20,V42,T42),no_value)","v":"-"},null,null,"",null,{"$f":"IFERROR(IF(N42=pass,INDEX(DATA!$AG$6:$AK$20,V42,T42),no_value),no_value)","v":"-"},null,"-",null,{"$f":"IFERROR(HLOOKUP(I42,DATA!$AG$4:$AK$5,2,FALSE)-DATA!$AF$5,no_value)","v":1},{"$f":"IFERROR(VLOOKUP(D42,Liste_Bauteile,DATA!$AF$5,FALSE),no_value)","v":"-"},{"$f":"IFERROR(VLOOKUP(D42,DATA!$AC$6:$AD$20,2,FALSE),no_value)","v":"-"},{"$f":"IFERROR(INDEX(DATA!$AU$6:$AU$20,V42),no_value)","v":"-"},{"$f":"IFERROR(INDEX(DATA!$AY$6:$AY$20,V42,1),no_value)","v":"-"},{"$f":"IF($AD$1=\"X\",IFERROR(INDEX(DATA!$AZ$6:$AZ$20,V42,1),no_value),IF(I42=ESIV,0,IFERROR(INDEX(DATA!$BC$6:$BC$20,V42,1),no_value)))","v":"-"},"-","-",{"$f":"IF($AD$1=\"X\",IF(I42=no_value,no_value,IFERROR(infla_WD*INDEX(DATA!$BA$6:$BA$20,V42,1),no_value)),IF(I42=no_value,no_value,IFERROR(infla_WD*INDEX(DATA!$BD$6:$BD$20,V42,1),no_value)))","v":"-"},{"$f":"IFERROR(IF(INDEX(DATA!$AF$6:$AF$20,V42,1)=1,infla_WD*C_cm_WB,MAX(0,infla_WD*TREND(DATA!$BH$5:$BK$5,DATA!$BH$4:$BK$4,AE42))),no_value)","v":"-"},{"$f":"IFERROR(AB42+AC42*IF(INDEX(DATA!$AF$6:$AF$20,V42,1)=1,AA42,1),no_value)","v":"-"},"-","-",{"$f":"IFERROR(INDEX(DATA!$AE$6:$AE$20,V42,1),no_value)","v":"-"},{"$f":"IF(AND(D42<>\"\",F42<>\"\",ISNUMBER(K42)),VLOOKUP($D$3,DATA!$BF$25:$BG$27,2,FALSE),no_value)","v":"-"},"-","-","-","-","-","-","-","-","-","-","-","-","-","-"]
[null,39,"A39",null,null,null,null,null,{"$f":"IF(AND(D43<>\"\",V43<>\"-\"),IF(L43<=INDEX(DATA!$AM$6:$AM$20,V43),DATA!$AM$4,IF(L43<=INDEX(DATA!$AN$6:$AN$20,V43),DATA!$AN$4,IF(L43<=INDEX(DATA!$AO$6:$AO$20,V43),DATA!$AO$4,IF(L43<=INDEX(DATA!$AP$6:$AP$20,V43),DATA!$AP$4,\"-\")))),\"-\")","v":"-"},{"$f":"IFERROR(INDEX(DATA!$AQ$6:$AU$20,V43,T43),no_value)","v":"-"},{"$f":"IFERROR(INDEX(DATA!$AL$6:$AP$20,V43,T43),no_value)","v":"-"},null,null,"",null,{"$f":"IFERROR(IF(N43=pass,INDEX(DATA!$AG$6:$AK$20,V43,T43),no_value),no_value)","v":"-"},null,"-",null,{"$f":"IFERROR(HLOOKUP(I43,DATA!$AG$4:$AK$5,2,FALSE)-DATA!$AF$5,no_value)","v":1},{"$f":"IFERROR(VLOOKUP(D43,Liste_Bauteile,DATA!$AF$5,FALSE),no_value)","v":"-"},{"$f":"IFERROR(VLOOKUP(D43,DATA!$AC$6:$AD$20,2,FALSE),no_value)","v":"-"},{"$f":"IFERROR(INDEX(DATA!$AU$6:$AU$20,V43),no_value)","v":"-"},{"$f":"IFERROR(INDEX(DATA!$AY$6:$AY$20,V43,1),no_value)","v":"-"},{"$f":"IF($AD$1=\"X\",IFERROR(INDEX(DATA!$AZ$6:$AZ$20,V43,1),no_value),IF(I43=ESIV,0,IFERROR(INDEX(DATA!$BC$6:$BC$20,V43,1),no_value)))","v":"-"},"-","-",{"$f":"IF($AD$1=\"X\",IF(I43=no_value,no_value,IFERROR(infla_WD*INDEX(DATA!$BA$6:$BA$20,V43,1),no_value)),IF(I43=no_value,no_value,IFERROR(infla_WD*INDEX(DATA!$BD$6:$BD$20,V43,1),no_value)))","v":"-"},{"$f":"IFERROR(IF(INDEX(DATA!$AF$6:$AF$20,V43,1)=1,infla_WD*C_cm_WB,MAX(0,infla_WD*TREND(DATA!$BH$5:$BK$5,DATA!$BH$4:$BK$4,AE43))),no_value)","v":"-"},{"$f":"IFERROR(AB43+AC43*IF(INDEX(DATA!$AF$6:$AF$20,V43,1)=1,AA43,1),no_value)","v":"-"},"-","-",{"$f":"IFERROR(INDEX(DATA!$AE$6:$AE$20,V43,1),no_value)","v":"-"},{"$f":"IF(AND(D43<>\"\",F43<>\"\",ISNUMBER(K43)),VLOOKUP($D$3,DATA!$BF$25:$BG$27,2,FALSE),no_value)","v":"-"},"-","-","-","-","-","-","-","-","-","-","-","-","-","-"]
[null,40,"A40",null,null,null,null,null,{"$f":"IF(AND(D44<>\"\",V44<>\"-\"),IF(L44<=INDEX(DATA!$AM$6:$AM$20,V44),DATA!$AM$4,IF(L44<=INDEX(DATA!$AN$6:$AN$20,V44),DATA!$AN$4,IF(L44<=INDEX(DATA!$AO$6:$AO$20,V44),DATA!$AO$4,IF(L44<=INDEX(DATA!$AP$6:$AP$20,V44),DATA!$AP$4,\"-\")))),\"-\")","v":"-"},{"$f":"IFERROR(INDEX(DATA!$AQ$6:$AU$20,V44,T44),no_value)","v":"-"},{"$f":"IFERROR(INDEX(DATA!$AL$6:$AP$20,V44,T44),no_value)","v":"-"},null,null,"",null,{"$f":"IFERROR(IF(N44=pass,INDEX(DATA!$AG$6:$AK$20,V44,T44),no_value),no_value)","v":"-"},null,"-",null,{"$f":"IFERROR(HLOOKUP(I44,DATA!$AG$4:$AK$5,2,FALSE)-DATA!$AF$5,no_value)","v":1},{"$f":"IFERROR(VLOOKUP(D44,Liste_Bauteile,DATA!$AF$5,FALSE),no_value)","v":"-"},{"$f":"IFERROR(VLOOKUP(D44,DATA!$AC$6:$AD$20,2,FALSE),no_value)","v":"-"},{"$f":"IFERROR(INDEX(DATA!$AU$6:$AU$20,V44),no_value)","v":"-"},{"$f":"IFERROR(INDEX(DATA!$AY$6:$AY$20,V44,1),no_value)","v":"-"},{"$f":"IF($AD$1=\"X\",IFERROR(INDEX(DATA!$AZ$6:$AZ$20,V44,1),no_value),IF(I44=ESIV,0,IFERROR(INDEX(DATA!$BC$6:$BC$20,V44,1),no_value)))","v":"-"},"-","-",{"$f":"IF($AD$1=\"X\",IF(I44=no_value,no_value,IFERROR(infla_WD*INDEX(DATA!$BA$6:$BA$20,V44,1),no_value)),IF(I44=no_value,no_value,IFERROR(infla_WD*INDEX(DATA!$BD$6:$BD$20,V44,1),no_value)))","v":"-"},{"$f":"IFERROR(IF(INDEX(DATA!$AF$6:$AF$20,V44,1)=1,infla_WD*C_cm_WB,MAX(0,infla_WD*TREND(DATA!$BH$5:$BK$5,DATA!$BH$4:$BK$4,AE44))),no_value)","v":"-"},{"$f":"IFERROR(AB44+AC44*IF(INDEX(DATA!$AF$6:$AF$20,V44,1)=1,AA44,1),no_value)","v":"-"},"-","-",{"$f":"IFERROR(INDEX(DATA!$AE$6:$AE$20,V44,1),no_value)","v":"-"},{"$f":"IF(AND(D44<>\"\",F44<>\"\",ISNUMBER(K44)),VLOOKUP($D$3,DATA!$BF$25:$BG$27,2,FALSE),no_value)","v":"-"},"-","-","-","-","-","-","-","-","-","-","-","-","-","-"]
[]
[null,"Förderung für die Bauteilmodernisierung",null,null,null,"fFörderung, Bau",null,null,"Energiekennwerte auf An bezogen",null,null,null,null,null,null,"Qp,Heiz"]
[null,"Mittlerer U-Wert aller Bauteile Bestand (inkl. FX)",null,null,null,{"$f":"IFERROR(SUMPRODUCT(G5:G44,F5:F44,AG5:AG44)/SUM(F5:F44),no_value)","v":"-"},null,null,{"$f":"Anlagen!B42","v":"Bestand"},null,null,null,null,null,null,{"$f":"IFERROR(SUMPRODUCT(AI5:AI44,F5:F44)/Start!F18,no_value)","v":"-"},null,null,null,null,null,null,null,null,null,null,null,null,null,null,null,null,null,null,null,null,null,null,null,{"$f":"SUMPRODUCT(AN5:AN44,F5:F44)/SUM(F5:F44)","v":{"$error":"#DIV/0!"}},null,null,{"$f":"SUMPRODUCT(AQ5:AQ44,F5:F44)/SUM(F5:F44)","v":{"$error":"#DIV/0!"}}]
[null,"Mittlerer U-Wert aller Bauteile modernisiert (inkl. FX)",null,null,null,{"$f":"IFERROR(SUMPRODUCT(L5:L44,F5:F44,AG5:AG44)/SUM(F5:F44),no_value)","v":"-"},null,null,{"$f":"Anlagen!B43","v":"Modernisiert"},null,null,null,null,null,null,{"$f":"IFERROR(SUMPRODUCT(AJ5:AJ44,F5:F44)/Start!F18,no_value)","v":"-"}]
[null,"Verbesserung im mittleren U-Wert",null,null,null,{"$f":"IFERROR(1-F48/F47,no_value)","v":"-"},null,null,{"$f":"Anlagen!B44","v":"Energetische Verbesserung in %"},null,null,null,null,null,null,{"$f":"IFERROR(1-P48/P47,no_value)","v":"-"}]
[null,"Förderung über Bauteilsanierung",null,null,null,{"$f":"IF(F56=pass,SUMIF(N5:N44,pass,R5:R44),no_value)","v":0}]
[null,"Summe Förderung",null,null,null,{"$f":"IFERROR(F50,no_value)","v":0},null,null,"Primärenergieeinsparung",null,null,null,null,null,null,{"$f":"IFERROR(P47-P48,no_value)","v":"-"}]
[]
[null,"Gesamtprojekt - Zielwerte",null,null,null,"qZiel,WS"]
[null,"Zielwert - Gesamtprojekt",null,null,null,{"$f":"IFERROR(SUMPRODUCT(F5:F44,AG5:AG44,K5:K44)/SUM(F5:F44),no_value)","v":"-"}]
[null,"Erreichter Wert - Gesamtprojekt",null,null,null,{"$f":"IFERROR(SUMPRODUCT(F5:F44,AG5:AG44,L5:L44)/SUM(F5:F44),no_value)","v":"-"}]
[null,"Anforderung erfüllt",null,null,null,{"$f":"IFERROR(IF(F55<=F54,pass,fail),fail)","v":"ü"}]
[null,{"$f":"Start!B34","v":"Ministère du Développement durable et des Infrastructures Département de l’Environnement"},null,null,null,null,null,null,null,null,null,null,null,null,null,null,null,{"$f":"Start!I34","v":"SubCalC, Version 1.02 (8.8.2014)"}]
[null,{"$f":"Start!B35","v":"Goblet Lavandier & Associés S.A."}]

{"sheet":"Anlagen","index":2,"n_rows":184,"n_cols":115,"rows_kept":184,"cut":false,"hidden":false,"merged":[[73,7,73,9],[44,5,44,9],[56,5,56,9],[72,7,72,8],[72,5,72,6],[73,5,73,6],[71,7,71,9],[70,7,70,9],[59,5,59,6],[60,5,60,6],[61,5,61,6],[70,5,70,6],[71,5,71,6],[64,5,64,6],[65,5,65,6],[66,5,66,6],[40,5,40,6],[41,5,41,7],[58,5,58,6],[43,5,43,6],[52,5,52,6],[53,5,53,9],[54,5,54,9],[55,5,55,9],[70,77,70,79],[71,77,71,79],[72,77,72,78],[67,5,67,6],[42,5,42,7]]}
[null,null,null,null,null,null,null,null,null,null,null,null,null,null,null,null,null,null,null,null,null,null,null,null,null,null,null,null,null,null,null,null,null,null,null,null,null,null,null,null,"x",null,null,11,2543,207,0.3,null,null,0.25,null,null,null,null,null,null,null,null,null,null,null,null,null,null,null,null,null,null,null,null,null,null,null,null,null,null,null,null,null,null,null,null,null,null,250,null,null,null,13]
[null,null,"Kurz-","Nutzungsart",null,"Raumanzahl","Raumfläche (NGF)","Modernisierung Beleuchtung","Modernisierung hygienische Lüftung","Nettogrundfläche der Zone",null,"typischer Raumindex","Individuelle Raumtiefe","Individuelle Raumbreite","Individuelle Raumhöhe","Höhe der Nutzebene","Individuelle Raumhöhe - Nutzebene","Individueller Raumindex","Raumindex für Zielwert",null,"typische Beleuchtungsstärke","projektierte Beleuchtungsstärke",{"$f":"\"Grenzwert Em, typ\nmax. + \"&grenz_em*100&\"%\"","v":"Grenzwert Em, typ\nmax. + 50%"},null,"Spezifische Leistung vor Modernisierung","Zielwert für spez. Leistung bei Em,proj","Projektierte spez. Leistung bei Em,proj",{"$f":"\"Grenzwert qel, ziel\nmax. + \"&grenz_Pel*100&\"%\"","v":"Grenzwert qel, ziel\nmax. + 25%"},null,"Förderung bezogen auf Em,typ",null,"Spezifisches Tageslichtangebot","Tageslichtsteuerung vorhanden","Bonusförderung Tageslichtnutzung",null,"Präsentkontrolle vorhanden","Bonusförderung Präsenzkontrolle",null,"Förderung  Beleuchtung",null,{"$f":"Y2","v":"Spezifische Leistung vor Modernisierung"},"Förderbare Beleuchtungstärke","Förderbare Beleuchtungstärke","Tage im Jahr","Tagstungen","Nachtstunden","Rel.Abwesenheit","Manuelle Bediehnung","Präsentmelder","Basiswert für Tageslichtnutzung","Stunde tLi,11, manuel","Stunde tLi,11, geregelt","Betriebszeit manuelle Steuerung","Betriebszeit Präsenzerfassung","Betriebszeit Tageslichtsteuerung","Betriebszeit Tages-licht + Präsenz","Betriebszeit für Berechnung","Tageslichtautonomie","Energiebedarf vor Modernisierung","Energiebedarf nach Modernisierung","Energieeinsparung","Primärenergie-einsparung","Energiekosten-einsparung","Kosten Beleuchtung","Kosten Tageslicht","Kosten Präsenz","Kosten Gesamt","Kapitalrücklauf","Förderung","Eigeninvestition","Kapitalrücklauf mit Förderung",{"$f":"DG2","v":"Kapitalrücklauf mit Förderung"},"Förderung je CO2 Einsparung","Investitionskosten","Förderung","Förderquote",null,"Hygienischer Volumenstrom","Projektierter Volumenstrom","Volumenstrom",{"$f":"\"Grenzwert Vrlt, typ\nmax. + \"&grenz_nRLT*100&\"%\"","v":"Grenzwert Vrlt, typ\nmax. + 50%"},null,"Förderung Lüftungsanlage",null,"Betriebstage im Jahr","Check if Subsidies are applicable","Förderbarer spez. Volumenstrom","Förderbarer Volumenstrom","tägliche Betriebszeit","Betriebsstunden Lüftung","Zonentemperatur","Luftungsgradtage",{"$f":"\"Kosten \"&DATA_RLT!B5","v":"Kosten Abuftanlage"},{"$f":"\"Kosten \"&DATA_RLT!B12","v":"Kosten RLT-H70SFP"},"Kostendifferenz","Thermischer Bedarf Abluft",{"$f":"\"Thermischer Bedarf \"&DATA_RLT!B12","v":"Thermischer Bedarf RLT-H70SFP"},{"$f":"\"Strombedarf \"&DATA_RLT!B5","v":"Strombedarf Abuftanlage"},{"$f":"\"Strombedarf \"&DATA_RLT!B12","v":"Strombedarf RLT-H70SFP"},{"$f":"CY2","v":"Primärenergie-einsparung"},"Thermische Einsparung zu Abluft","Elektrische Einsparung zu Abluft",{"$f":"BJ2","v":"Primärenergie-einsparung"},{"$f":"BK2","v":"Energiekosten-einsparung"},"Wartung","Jahreskosten-Einsparung",{"$f":"BP2","v":"Kapitalrücklauf"},{"$f":"BQ2","v":"Förderung"},{"$f":"BR2","v":"Eigeninvestition"},{"$f":"BS2","v":"Kapitalrücklauf mit Förderung"},{"$f":"BS2","v":"Kapitalrücklauf mit Förderung"},{"$f":"BU2","v":"Förderung je CO2 Einsparung"},{"$f":"BV2","v":"Investitionskosten"},"Förderung",{"$f":"BX2","v":"Förderquote"}]
[null,null,"name","nach Reglement grand-ducal 2010",null,"St.","An","ja/nein","ja/nein","An",null,"ktyp","TRaum","BRaum","hRaum","hNe","h'Raum","kind","kuse",null,"Em, typ","Em,proj","-",null,"qel,base","qel,ziel","qel,proj","-",null,"fBel",null,"AFe/An","ja/nein","fday",null,"ja/nein","fprä",null,"fsub,Bel",null,"fRef","Em,sub","Em,sub","dJahr"," tTag"," tNacht","Ca","rman","rprä","zg0","tLi,11,man","tLi,11,auto","hman","hprä","hday","hprä,day","huse","%hday","qbel,basis","qbel,proj","Dqbel","Dqbel,prim","Dkbel","Kbel","Kday","Kprä","Kbel,proj","rbel","fsub,bel","Kbel,sub","rbel,sub","CO2RLT","fbel,CO2","Ibel,proj","Ibel,sub","zbel",null,"nhyg","nproj","VRLT","-",null,"fsub,RLT",null,"dRLT","sub","n'RLT,sub","V'RLT,sub","tRLT","hRLT","Heat","HGTRLT","KAbluft","KRLT-H70SFP","DKRLT","qh,RLT","qel,RLT","qh,RLT","qel,RLT","DqPrim","Dqh,RLT","Dqel,RLT","DqPrim","DkRLT,e","DkRLT,w","DkRLT","rRLT","fsub,RLT","KRLT,sub","rRLT,sub","CO2RLT","fbel,CO2","IRLT,proj","IRLT,sub","zRLT"]
[null,"N°","-","Bezeichnung",null,"-","m²","-","-","m²",null,"-","m","m","m","m","m","-","-",null,"lux","lux","-",null,"W/m²","W/m²","W/m²","-",null,"€/m²",null,"m²/m²","-",{"$f":"AD4","v":"€/m²"},null,"-",{"$f":"AH4","v":"€/m²"},null,"€",null,1,"Lux","W/m²","d/a","h/a","h/a","-","-","-","-",{"$f":"AZ80","v":6.5999999999999988},{"$f":"BA80","v":3.2999999999999994},"h/a","h/a","h/a","h/a","h/a","%","kWh/m²","kWh/m²","kWh/m²","kWh/m²","€/(m².a)","€/m²","€/m²","€/m²","€/m²","a","€/m²","€/m²","a","kgCO2/m²","€/toCo2","€","€","%",null,"(m³/h)/m²","(m³/h)/m²","m³/h","-",null,"€",null,"d/a","1, 0","m³/h","m³/h","h/d","h/a","ja/nein","Kkh/a","€/(m³/h)","€/(m³/h)","€/(m³/h)","kWh/(m³/h)","kWh/(m³/h)","kWh/(m³/h)","kWh/(m³/h)","kWh/(m³/h)","kWh/(m³/h)","kWh/(m³/h)","kWh/(m³/h)","€/(m³/h)","€/(m³/h)","€/(m³/h)","a","€/(m³/h)","€/(m³/h)",{"$f":"DC4","v":"a"},"kgCO2/(m³/h)","€/toCO2","€","€","-"]
[null,1,"A01",null,null,null,null,null,null,{"$f":"IFERROR(IF(AND(ISNUMBER(F5),ISNUMBER(G5)),F5*G5,no_value),no_value)","v":"-"},null,{"$f":"IF(H5=ja,IFERROR(VLOOKUP(D5,Tabelle_Nutzung,Nutzungen!$S$75,FALSE),no_value),no_value)","v":"-"},{"$f":"VLOOKUP($D5,Tabelle_Nutzung,Nutzungen!$BC$75,FALSE)","v":{"$error":"#N/A"}},{"$f":"VLOOKUP($D5,Tabelle_Nutzung,Nutzungen!$BB$75,FALSE)","v":{"$error":"#N/A"}},{"$f":"VLOOKUP($D5,Tabelle_Nutzung,Nutzungen!$BA$75,FALSE)","v":{"$error":"#N/A"}},{"$f":"IFERROR(VLOOKUP(D5,Tabelle_Nutzung,Nutzungen!$P$75,FALSE),no_value)","v":"-"},{"$f":"IFERROR(IF(O5<>\"\",MAX(O5-P5,0),no_value),no_value)","v":"-"},{"$f":"IF(AND(ISNUMBER(Q5),ISNUMBER(N5),ISNUMBER(Q5)),M5*N5/(Q5*(M5+N5)),no_value)","v":"-"},{"$f":"IF(H5=ja,IFERROR(IF(AND(ISNUMBER(R5),M5<>\"\",N5<>\"\",O5<>\"\",M5>0,N5>0,O5>0),R5,L5),no_value),no_value)","v":"-"},null,{"$f":"IF(H5=ja,IFERROR(VLOOKUP(D5,Tabelle_Nutzung,Nutzungen!$O$75,FALSE),no_value),no_value)","v":"-"},{"$f":"U5","v":"-"},{"$f":"IFERROR(IF(IFERROR(IF(ISNUMBER(V5),V5,U5),no_value)>U5*(1+grenz_em),fail,pass),\"\")","v":""},null,{"$f":"IFERROR(Z5*(1+$AO$4),no_value)","v":"-"},{"$f":"IFERROR(IF(ISNUMBER(V5),V5,U5)/(f_WF*f_lm*f_nlb*(a0_ID*LN(S5)+a1_ID))*(1+f_bel_req),no_value)","v":"-"},{"$f":"Z5","v":"-"},{"$f":"IFERROR(IF(AA5>Z5*(1+grenz_Pel),fail,pass),\"\")","v":""},null,{"$f":"IFERROR(IF(AND(J5<>no_value,H5=ja),IF(OR(W5=fail,AB5=fail),no_value,MAX(MIN(K_bel_sub_max,AP5*K_bel_sub_m+K_bel_sub_b),K_bel_sub_min)),no_value),no_value)","v":"-"},null,{"$f":"IF($AO$1=\"X\",IFERROR(VLOOKUP(D5,Tabelle_Nutzung,Nutzungen!$BM$75,FALSE),no_value),$AX$1)","v":"-"},"ja",{"$f":"IFERROR(IF(AND(AG5=ja,W5=pass,AB5=pass,AF5>=f_day_min,AF5<>\"\"),MAX(MIN(K_day_sub_max,AP5*K_day_sub_m+K_day_sub_b),K_day_sub_min),no_valu),no_value)","v":"-"},null,"ja",{"$f":"IFERROR(IF(AND(AJ5=ja,W5=pass,AB5=pass),MAX(MIN(K_pr_sub_max,AP5*K_pr_sub_m+K_pr_sub_b),K_pr_sub_min),no_valu),no_value)","v":"-"},null,{"$f":"IFERROR(IF(ROUND(SUM(AD5,AH5,AK5)*J5,-1)>0,ROUND(SUM(AD5,AH5,AK5)*J5,-1),no_value),no_value)","v":"-"},null,{"$f":"Y5","v":"-"},{"$f":"IFERROR(MIN(U5,V5),no_value)","v":0},{"$f":"IFERROR(MIN(Z5,AA5),no_value)","v":0},{"$f":"IF($AO$1=\"X\",IFERROR(VLOOKUP($D5,Tabelle_Nutzung,Nutzungen!$G$75,FALSE),no_value),$AR$1)","v":"-"},{"$f":"IF($AO$1=\"X\",IFERROR(VLOOKUP($D5,Tabelle_Nutzung,Nutzungen!$I$75,FALSE),no_value),$AS$1)","v":"-"},{"$f":"IF($AO$1=\"X\",IFERROR(VLOOKUP($D5,Tabelle_Nutzung,Nutzungen!$J$75,FALSE),no_value),$AT$1)","v":"-"},{"$f":"IF($AO$1=\"X\",IFERROR(VLOOKUP(D5,Tabelle_Nutzung,Nutzungen!$R$75,FALSE),no_value),$AU$1)","v":"-"},{"$f":"IF(ISNUMBER(AU5),IF(AND(AU5>=0.9,D5<>Nutzungen!$B$93),1-AU5*0.95,1-AU5*0.5),no_value)","v":"-"},{"$f":"IF(ISNUMBER(AU5),1-AU5*0.95,no_value)","v":"-"},{"$f":"IF(AND($J5<>no_value,H5=ja),MAX(0.175,0.35*(0.375+V5/800)),no_value)","v":"-"},{"$f":"IF(ISNUMBER($AX5),IF($AF5>=$AX5,AY$4,0.5*(11-AY$4)*COS(PI()*$AF5/$AX5)+0.5*(11+AY$4)),no_value)","v":"-"},{"$f":"IF(ISNUMBER($AX5),IF($AF5>=$AX5,AZ$4,0.5*(11-AZ$4)*COS(PI()*$AF5/$AX5)+0.5*(11+AZ$4)),no_value)","v":"-"},{"$f":"IFERROR(AV5*($AY5*$AS5/$AR5/11+$AT5/$AR5)*$AR5,no_value)","v":"-"},{"$f":"IFERROR(AW5*($AY5*$AS5/$AR5/11+$AT5/$AR5)*$AR5,no_value)","v":"-"},{"$f":"IFERROR(AV5*($AZ5*$AS5/$AR5/11+$AT5/$AR5)*$AR5,no_value)","v":"-"},{"$f":"IFERROR(AW5*($AZ5*$AS5/$AR5/11+$AT5/$AR5)*$AR5,no_value)","v":"-"},{"$f":"IF(AND(AG5=ja,AJ5=ja),BD5,IF(AG5=ja,BC5,IF(AJ5=ja,BB5,BA5)))","v":"-"},{"$f":"IFERROR(BE5/BA5,no_value)","v":"-"},{"$f":"IFERROR(AO5*BA5/1000,no_value)","v":"-"},{"$f":"IFERROR(BE5*IF(ISNUMBER(AA5),AA5,Z5)/1000,no_value)","v":"-"},{"$f":"IFERROR(BG5-BH5,no_value)","v":"-"},{"$f":"IFERROR(BI5*qpel,0)","v":0},{"$f":"IFERROR(BI5*c_el,no_value)","v":"-"},{"$f":"IFERROR(IF(AND(J5<>no_value,H5=ja),IF(OR(W5=fail,AB5=fail),no_value,infla_Bel*MAX(MIN(K_bel_inv_max,AP5*K_bel_inv_m+K_bel_inv_b),K_bel_inv_min)),no_value),no_value)","v":"-"},{"$f":"IFERROR(IF(AND(AG5=ja,W5=pass,AB5=pass),infla_Bel*MAX(MIN(K_day_inv_max,AP5*K_day_inv_m+K_day_inv_b),K_day_inv_min),no_valu),no_value)","v":"-"},{"$f":"IFERROR(IF(AND(AJ5=ja,W5=pass,AB5=pass),infla_Bel*MAX(MIN(K_pr_inv_max,AP5*K_pr_inv_m+K_pr_inv_b),K_pr_inv_min),no_valu),no_value)","v":"-"},{"$f":"IF(SUM(BL5:BN5)>0,SUM(BL5:BN5),no_value)","v":"-"},{"$f":"IFERROR(BO5/BK5,no_value)","v":"-"},{"$f":"IFERROR(IF(H5=ja,AM5/J5,no_value),no_value)","v":"-"},{"$f":"IFERROR(BO5-BQ5,no_value)","v":"-"},{"$f":"IFERROR(BR5/BK5,no_value)","v":"-"},{"$f":"IFERROR(MAX(0,BI5*co2_el),no_value)","v":"-"},{"$f":"IFERROR(ROUND(BQ5/(BI5*0.651/1000),-2),no_value)","v":"-"},{"$f":"IFERROR(BO5*J5,no_value)","v":"-"},{"$f":"IFERROR(AM5,no_value)","v":"-"},{"$f":"IFERROR(BW5/BV5,no_value)","v":"-"},null,{"$f":"IF(I5=ja,VLOOKUP(D5,Tabelle_Nutzung,Nutzungen!$AA$75,FALSE),no_value)","v":"-"},null,{"$f":"IFERROR(IF(CH5=1,J5*IF(ISNUMBER(CA5),CA5,BZ5),no_value),no_value)","v":"-"},{"$f":"IFERROR(IF(CH5=1,IF(IFERROR(IF(ISNUMBER(CA5),CA5,BZ5),no_value)>BZ5*(1+grenz_nRLT),fail,pass),\"\"),\"\")","v":""},null,{"$f":"IFERROR(DD5*CI5*J5,no_value)","v":"-"},null,{"$f":"IF($AO$1=\"X\",IFERROR(VLOOKUP($D5,Tabelle_Nutzung,Nutzungen!$L$75,FALSE),no_value),$CG$1)","v":"-"},{"$f":"IFERROR(VLOOKUP(D5,Tabelle_Nutzung,Nutzungen!$BN$75,FALSE),no_value)","v":"-"},{"$f":"IF(CH5=1,MIN(BZ5,CA5),no_value)","v":"-"},{"$f":"IFERROR(J5*CI5,no_value)","v":"-"},{"$f":"IF($AO$1=\"X\",IFERROR(VLOOKUP($D5,Tabelle_Nutzung,Nutzungen!$K$75,FALSE),no_value),$CK$1)","v":"-"},{"$f":"IFERROR(IF(CH5=1,CG5*CK5,no_value),no_value)","v":"-"},{"$f":"IFERROR(IF(VLOOKUP($D5,Tabelle_Nutzung,Nutzungen!$AK$75,FALSE)>15,ja,nein),no_value)","v":"-"},{"$f":"IFERROR(IF(CH5=1,IF(CM5=ja,HGT_Global/24*CK5,0),no_value),no_value)","v":"-"},{"$f":"IFERROR(IF(AND(CH5=1,CJ5>0),DATA_RLT!$AA$5,no_value),no_value)","v":"-"},{"$f":"IFERROR(IF(AND(CH5=1,CJ5>0),DATA_RLT!$AA$12,no_value),no_value)","v":"-"},{"$f":"IFERROR(CP5-CO5,no_value)","v":"-"},{"$f":"IF(AND(CJ5>0,I5=ja),IFERROR(e_Heiz*cpl*CN5*((1-WRG_Abluft)),no_value),no_value)","v":"-"},{"$f":"IF(AND(CJ5>0,I5=ja),IFERROR(e_Heiz*cpl*CN5*((1-WRG_RLT_H70SFP)),no_value),no_value)","v":"-"},{"$f":"IF(AND(CJ5>0,I5=ja,CH5=1),CL5*(SFP_Abluft)/3600,no_value)","v":"-"},{"$f":"IF(AND(CJ5>0,I5=ja,CH5=1),CL5*(SFP_RLT_H70SFP)/3600,no_value)","v":"-"},{"$f":"IFERROR((CR5-CS5)*qPh+(CT5-CU5)*qpel,no_value)","v":"-"},{"$f":"IF(AND(CJ5>0,I5=ja,CH5=1),IFERROR(e_Heiz*cpl*CN5*((1-WRG_Abluft)-(1-WRG_RLT_H70SFP)),no_value),no_value)","v":"-"},{"$f":"IF(AND(CJ5>0,I5=ja,CH5=1),CL5*(SFP_Abluft-SFP_RLT_H70SFP)/3600,no_value)","v":"-"},{"$f":"IFERROR(CW5*qPh+CX5*qpel,0)","v":0},{"$f":"IFERROR(CW5*c_H+CX5*c_el,no_value)","v":"-"},{"$f":"IFERROR(IF(AND(CJ5>0),CQ5*Wartung_RLT*-1,no_value),no_value)","v":"-"},{"$f":"IFERROR(CZ5+DA5,no_value)","v":"-"},{"$f":"IFERROR(IF(CQ5/DB5>0,CQ5/DB5,0),0)","v":0},{"$f":"IF(AND(CJ5>0,CC5=pass,ISNUMBER(DC5)),$F$73,no_value)","v":"-"},{"$f":"IFERROR(CQ5-DD5,no_value)","v":"-"},{"$f":"IFERROR(IF(DE5/DB5>=0,DE5/DB5,0),0)","v":0},{"$f":"IFERROR(MAX(0,CW5*co2_h+CX5*co2_el),no_value)","v":"-"},{"$f":"IFERROR(MAX(0,ROUND(DD5/(CX5*co2_el+CW5*co2_h)*1000,-2)),0)","v":0},{"$f":"IFERROR(CP5*CA5*G5,no_value)","v":"-"},{"$f":"CE5","v":"-"},{"$f":"IFERROR(DD5/CP5,no_value)","v":"-"}]
[null,{"$f":"B5+1","v":2},"A02",null,null,null,null,null,null,"-",null,{"$f":"IF(H6=ja,IFERROR(VLOOKUP(D6,Tabelle_Nutzung,Nutzungen!$S$75,FALSE),no_value),no_value)","v":"-"},{"$f":"VLOOKUP($D6,Tabelle_Nutzung,Nutzungen!$BC$75,FALSE)","v":{"$error":"#N/A"}},{"$f":"VLOOKUP($D6,Tabelle_Nutzung,Nutzungen!$BB$75,FALSE)","v":{"$error":"#N/A"}},{"$f":"VLOOKUP($D6,Tabelle_Nutzung,Nutzungen!$BA$75,FALSE)","v":{"$error":"#N/A"}},{"$f":"IFERROR(VLOOKUP(D6,Tabelle_Nutzung,Nutzungen!$P$75,FALSE),no_value)","v":"-"},{"$f":"IFERROR(IF(O6<>\"\",MAX(O6-P6,0),no_value),no_value)","v":"-"},{"$f":"IF(AND(ISNUMBER(Q6),ISNUMBER(N6),ISNUMBER(Q6)),M6*N6/(Q6*(M6+N6)),no_value)","v":"-"},{"$f":"IF(H6=ja,IFERROR(IF(AND(ISNUMBER(R6),M6<>\"\",N6<>\"\",O6<>\"\",M6>0,N6>0,O6>0),R6,L6),no_value),no_value)","v":"-"},null,{"$f":"IF(H6=ja,IFERROR(VLOOKUP(D6,Tabelle_Nutzung,Nutzungen!$O$75,FALSE),no_value),no_value)","v":"-"},{"$f":"U6","v":"-"},{"$f":"IFERROR(IF(IFERROR(IF(ISNUMBER(V6),V6,U6),no_value)>U6*(1+grenz_em),fail,pass),\"\")","v":""},null,{"$f":"IFERROR(Z6*(1+$AO$4),no_value)","v":"-"},{"$f":"IFERROR(IF(ISNUMBER(V6),V6,U6)/(f_WF*f_lm*f_nlb*(a0_ID*LN(S6)+a1_ID))*(1+f_bel_req),no_value)","v":"-"},{"$f":"Z6","v":"-"},{"$f":"IFERROR(IF(AA6>Z6*(1+grenz_Pel),fail,pass),\"\")","v":""},null,"-",null,{"$f":"IF($AO$1=\"X\",IFERROR(VLOOKUP(D6,Tabelle_Nutzung,Nutzungen!$BM$75,FALSE),no_value),$AX$1)","v":"-"},{"$f":"AG5","v":"ja"},{"$f":"IFERROR(IF(AND(AG6=ja,W6=pass,AB6=pass,AF6>=f_day_min,AF6<>\"\"),MAX(MIN(K_day_sub_max,AP6*K_day_sub_m+K_day_sub_b),K_day_sub_min),no_valu),no_value)","v":"-"},null,{"$f":"AJ5","v":"ja"},{"$f":"IFERROR(IF(AND(AJ6=ja,W6=pass,AB6=pass),MAX(MIN(K_pr_sub_max,AP6*K_pr_sub_m+K_pr_sub_b),K_pr_sub_min),no_valu),no_value)","v":"-"},null,{"$f":"IFERROR(IF(ROUND(SUM(AD6,AH6,AK6)*J6,-1)>0,ROUND(SUM(AD6,AH6,AK6)*J6,-1),no_value),no_value)","v":"-"},null,{"$f":"Y6","v":"-"},0,0,{"$f":"IF($AO$1=\"X\",IFERROR(VLOOKUP($D6,Tabelle_Nutzung,Nutzungen!$G$75,FALSE),no_value),$AR$1)","v":"-"},{"$f":"IF($AO$1=\"X\",IFERROR(VLOOKUP($D6,Tabelle_Nutzung,Nutzungen!$I$75,FALSE),no_value),$AS$1)","v":"-"},{"$f":"IF($AO$1=\"X\",IFERROR(VLOOKUP($D6,Tabelle_Nutzung,Nutzungen!$J$75,FALSE),no_value),$AT$1)","v":"-"},{"$f":"IF($AO$1=\"X\",IFERROR(VLOOKUP(D6,Tabelle_Nutzung,Nutzungen!$R$75,FALSE),no_value),$AU$1)","v":"-"},{"$f":"IF(ISNUMBER(AU6),IF(AND(AU6>=0.9,D6<>Nutzungen!$B$93),1-AU6*0.95,1-AU6*0.5),no_value)","v":"-"},{"$f":"IF(ISNUMBER(AU6),1-AU6*0.95,no_value)","v":"-"},"-",{"$f":"IF(ISNUMBER($AX6),IF($AF6>=$AX6,AY$4,0.5*(11-AY$4)*COS(PI()*$AF6/$AX6)+0.5*(11+AY$4)),no_value)","v":"-"},{"$f":"IF(ISNUMBER($AX6),IF($AF6>=$AX6,AZ$4,0.5*(11-AZ$4)*COS(PI()*$AF6/$AX6)+0.5*(11+AZ$4)),no_value)","v":"-"},{"$f":"IFERROR(AV6*($AY6*$AS6/$AR6/11+$AT6/$AR6)*$AR6,no_value)","v":"-"},{"$f":"IFERROR(AW6*($AY6*$AS6/$AR6/11+$AT6/$AR6)*$AR6,no_value)","v":"-"},{"$f":"IFERROR(AV6*($AZ6*$AS6/$AR6/11+$AT6/$AR6)*$AR6,no_value)","v":"-"},{"$f":"IFERROR(AW6*($AZ6*$AS6/$AR6/11+$AT6/$AR6)*$AR6,no_value)","v":"-"},{"$f":"IF(AND(AG6=ja,AJ6=ja),BD6,IF(AG6=ja,BC6,IF(AJ6=ja,BB6,BA6)))","v":"-"},"-",{"$f":"IFERROR(AO6*BA6/1000,no_value)","v":"-"},"-",{"$f":"IFERROR(BG6-BH6,no_value)","v":"-"},0,"-","-",{"$f":"IFERROR(IF(AND(AG6=ja,W6=pass,AB6=pass),infla_Bel*MAX(MIN(K_day_inv_max,AP6*K_day_inv_m+K_day_inv_b),K_day_inv_min),no_valu),no_value)","v":"-"},{"$f":"IFERROR(IF(AND(AJ6=ja,W6=pass,AB6=pass),infla_Bel*MAX(MIN(K_pr_inv_max,AP6*K_pr_inv_m+K_pr_inv_b),K_pr_inv_min),no_valu),no_value)","v":"-"},{"$f":"IF(SUM(BL6:BN6)>0,SUM(BL6:BN6),no_value)","v":"-"},{"$f":"IFERROR(BO6/BK6,no_value)","v":"-"},"-",{"$f":"IFERROR(BO6-BQ6,no_value)","v":"-"},{"$f":"IFERROR(BR6/BK6,no_value)","v":"-"},"-",{"$f":"IFERROR(ROUND(BQ6/(BI6*0.651/1000),-2),no_value)","v":"-"},{"$f":"IFERROR(BO6*J6,no_value)","v":"-"},{"$f":"IFERROR(AM6,no_value)","v":"-"},{"$f":"IFERROR(BW6/BV6,no_value)","v":"-"},null,{"$f":"IF(I6=ja,VLOOKUP(D6,Tabelle_Nutzung,Nutzungen!$AA$75,FALSE),no_value)","v":"-"},null,"-","",null,"-",null,{"$f":"IF($AO$1=\"X\",IFERROR(VLOOKUP($D6,Tabelle_Nutzung,Nutzungen!$L$75,FALSE),no_value),$CG$1)","v":"-"},{"$f":"IFERROR(VLOOKUP(D6,Tabelle_Nutzung,Nutzungen!$BN$75,FALSE),no_value)","v":"-"},"-","-",{"$f":"IF($AO$1=\"X\",IFERROR(VLOOKUP($D6,Tabelle_Nutzung,Nutzungen!$K$75,FALSE),no_value),$CK$1)","v":"-"},"-",{"$f":"IFERROR(IF(VLOOKUP($D6,Tabelle_Nutzung,Nutzungen!$AK$75,FALSE)>15,ja,nein),no_value)","v":"-"},"-",{"$f":"IFERROR(IF(AND(CH6=1,CJ6>0),DATA_RLT!$AA$5,no_value),no_value)","v":"-"},{"$f":"IFERROR(IF(AND(CH6=1,CJ6>0),DATA_RLT!$AA$12,no_value),no_value)","v":"-"},{"$f":"IFERROR(CP6-CO6,no_value)","v":"-"},"-","-","-","-",{"$f":"IFERROR((CR6-CS6)*qPh+(CT6-CU6)*qpel,no_value)","v":"-"},"-","-",{"$f":"IFERROR(CW6*qPh+CX6*qpel,0)","v":0},{"$f":"IFERROR(CW6*c_H+CX6*c_el,no_value)","v":"-"},"-",{"$f":"IFERROR(CZ6+DA6,no_value)","v":"-"},{"$f":"IFERROR(IF(CQ6/DB6>0,CQ6/DB6,0),0)","v":0},"-",{"$f":"IFERROR(CQ6-DD6,no_value)","v":"-"},{"$f":"IFERROR(IF(DE6/DB6>=0,DE6/DB6,0),0)","v":0},"-",0,"-",{"$f":"CE6","v":"-"},{"$f":"IFERROR(DD6/CP6,no_value)","v":"-"}]
[null,{"$f":"B6+1","v":3},"A03",null,null,null,null,null,null,"-",null,{"$f":"IF(H7=ja,IFERROR(VLOOKUP(D7,Tabelle_Nutzung,Nutzungen!$S$75,FALSE),no_value),no_value)","v":"-"},{"$f":"VLOOKUP($D7,Tabelle_Nutzung,Nutzungen!$BC$75,FALSE)","v":{"$error":"#N/A"}},{"$f":"VLOOKUP($D7,Tabelle_Nutzung,Nutzungen!$BB$75,FALSE)","v":{"$error":"#N/A"}},{"$f":"VLOOKUP($D7,Tabelle_Nutzung,Nutzungen!$BA$75,FALSE)","v":{"$error":"#N/A"}},{"$f":"IFERROR(VLOOKUP(D7,Tabelle_Nutzung,Nutzungen!$P$75,FALSE),no_value)","v":"-"},"-","-","-",null,{"$f":"IF(H7=ja,IFERROR(VLOOKUP(D7,Tabelle_Nutzung,Nutzungen!$O$75,FALSE),no_value),no_value)","v":"-"},"-","",null,"-","-","-","",null,"-",null,{"$f":"IF($AO$1=\"X\",IFERROR(VLOOKUP(D7,Tabelle_Nutzung,Nutzungen!$BM$75,FALSE),no_value),$AX$1)","v":"-"},{"$f":"AG6","v":"ja"},{"$f":"IFERROR(IF(AND(AG7=ja,W7=pass,AB7=pass,AF7>=f_day_min,AF7<>\"\"),MAX(MIN(K_day_sub_max,AP7*K_day_sub_m+K_day_sub_b),K_day_sub_min),no_valu),no_value)","v":"-"},null,{"$f":"AJ6","v":"ja"},{"$f":"IFERROR(IF(AND(AJ7=ja,W7=pass,AB7=pass),MAX(MIN(K_pr_sub_max,AP7*K_pr_sub_m+K_pr_sub_b),K_pr_sub_min),no_valu),no_value)","v":"-"},null,"-",null,{"$f":"Y7","v":"-"},0,0,{"$f":"IF($AO$1=\"X\",IFERROR(VLOOKUP($D7,Tabelle_Nutzung,Nutzungen!$G$75,FALSE),no_value),$AR$1)","v":"-"},{"$f":"IF($AO$1=\"X\",IFERROR(VLOOKUP($D7,Tabelle_Nutzung,Nutzungen!$I$75,FALSE),no_value),$AS$1)","v":"-"},{"$f":"IF($AO$1=\"X\",IFERROR(VLOOKUP($D7,Tabelle_Nutzung,Nutzungen!$J$75,FALSE),no_value),$AT$1)","v":"-"},{"$f":"IF($AO$1=\"X\",IFERROR(VLOOKUP(D7,Tabelle_Nutzung,Nutzungen!$R$75,FALSE),no_value),$AU$1)","v":"-"},{"$f":"IF(ISNUMBER(AU7),IF(AND(AU7>=0.9,D7<>Nutzungen!$B$93),1-AU7*0.95,1-AU7*0.5),no_value)","v":"-"},"-","-",{"$f":"IF(ISNUMBER($AX7),IF($AF7>=$AX7,AY$4,0.5*(11-AY$4)*COS(PI()*$AF7/$AX7)+0.5*(11+AY$4)),no_value)","v":"-"},"-","-","-","-","-","-","-","-","-",{"$f":"IFERROR(BG7-BH7,no_value)","v":"-"},0,"-","-",{"$f":"IFERROR(IF(AND(AG7=ja,W7=pass,AB7=pass),infla_Bel*MAX(MIN(K_day_inv_max,AP7*K_day_inv_m+K_day_inv_b),K_day_inv_min),no_valu),no_value)","v":"-"},{"$f":"IFERROR(IF(AND(AJ7=ja,W7=pass,AB7=pass),infla_Bel*MAX(MIN(K_pr_inv_max,AP7*K_pr_inv_m+K_pr_inv_b),K_pr_inv_min),no_valu),no_value)","v":"-"},"-","-","-","-","-","-","-","-","-","-",null,{"$f":"IF(I7=ja,VLOOKUP(D7,Tabelle_Nutzung,Nutzungen!$AA$75,FALSE),no_value)","v":"-"},null,"-","",null,"-",null,{"$f":"IF($AO$1=\"X\",IFERROR(VLOOKUP($D7,Tabelle_Nutzung,Nutzungen!$L$75,FALSE),no_value),$CG$1)","v":"-"},{"$f":"IFERROR(VLOOKUP(D7,Tabelle_Nutzung,Nutzungen!$BN$75,FALSE),no_value)","v":"-"},"-","-",{"$f":"IF($AO$1=\"X\",IFERROR(VLOOKUP($D7,Tabelle_Nutzung,Nutzungen!$K$75,FALSE),no_value),$CK$1)","v":"-"},"-",{"$f":"IFERROR(IF(VLOOKUP($D7,Tabelle_Nutzung,Nutzungen!$AK$75,FALSE)>15,ja,nein),no_value)","v":"-"},"-",{"$f":"IFERROR(IF(AND(CH7=1,CJ7>0),DATA_RLT!$AA$5,no_value),no_value)","v":"-"},{"$f":"IFERROR(IF(AND(CH7=1,CJ7>0),DATA_RLT!$AA$12,no_value),no_value)","v":"-"},"-","-","-","-","-","-","-","-",0,"-","-","-",0,"-","-",0,"-",0,"-","-","-"]
[null,4,"A04",null,null,null,null,null,null,"-",null,{"$f":"IF(H8=ja,IFERROR(VLOOKUP(D8,Tabelle_Nutzung,Nutzungen!$S$75,FALSE),no_value),no_value)","v":"-"},{"$f":"VLOOKUP($D8,Tabelle_Nutzung,Nutzungen!$BC$75,FALSE)","v":{"$error":"#N/A"}},{"$f":"VLOOKUP($D8,Tabelle_Nutzung,Nutzungen!$BB$75,FALSE)","v":{"$error":"#N/A"}},{"$f":"VLOOKUP($D8,Tabelle_Nutzung,Nutzungen!$BA$75,FALSE)","v":{"$error":"#N/A"}},{"$f":"IFERROR(VLOOKUP(D8,Tabelle_Nutzung,Nutzungen!$P$75,FALSE),no_value)","v":"-"},"-","-","-",null,{"$f":"IF(H8=ja,IFERROR(VLOOKUP(D8,Tabelle_Nutzung,Nutzungen!$O$75,FALSE),no_value),no_value)","v":"-"},"-","",null,"-","-","-","",null,"-",null,{"$f":"IF($AO$1=\"X\",IFERROR(VLOOKUP(D8,Tabelle_Nutzung,Nutzungen!$BM$75,FALSE),no_value),$AX$1)","v":"-"},"ja",{"$f":"IFERROR(IF(AND(AG8=ja,W8=pass,AB8=pass,AF8>=f_day_min,AF8<>\"\"),MAX(MIN(K_day_sub_max,AP8*K_day_sub_m+K_day_sub_b),K_day_sub_min),no_valu),no_value)","v":"-"},null,"ja",{"$f":"IFERROR(IF(AND(AJ8=ja,W8=pass,AB8=pass),MAX(MIN(K_pr_sub_max,AP8*K_pr_sub_m+K_pr_sub_b),K_pr_sub_min),no_valu),no_value)","v":"-"},null,"-",null,"-",0,0,{"$f":"IF($AO$1=\"X\",IFERROR(VLOOKUP($D8,Tabelle_Nutzung,Nutzungen!$G$75,FALSE),no_value),$AR$1)","v":"-"},{"$f":"IF($AO$1=\"X\",IFERROR(VLOOKUP($D8,Tabelle_Nutzung,Nutzungen!$I$75,FALSE),no_value),$AS$1)","v":"-"},{"$f":"IF($AO$1=\"X\",IFERROR(VLOOKUP($D8,Tabelle_Nutzung,Nutzungen!$J$75,FALSE),no_value),$AT$1)","v":"-"},{"$f":"IF($AO$1=\"X\",IFERROR(VLOOKUP(D8,Tabelle_Nutzung,Nutzungen!$R$75,FALSE),no_value),$AU$1)","v":"-"},{"$f":"IF(ISNUMBER(AU8),IF(AND(AU8>=0.9,D8<>Nutzungen!$B$93),1-AU8*0.95,1-AU8*0.5),no_value)","v":"-"},"-","-","-","-","-","-","-","-","-","-","-","-",{"$f":"IFERROR(BG8-BH8,no_value)","v":"-"},0,"-","-",{"$f":"IFERROR(IF(AND(AG8=ja,W8=pass,AB8=pass),infla_Bel*MAX(MIN(K_day_inv_max,AP8*K_day_inv_m+K_day_inv_b),K_day_inv_min),no_valu),no_value)","v":"-"},{"$f":"IFERROR(IF(AND(AJ8=ja,W8=pass,AB8=pass),infla_Bel*MAX(MIN(K_pr_inv_max,AP8*K_pr_inv_m+K_pr_inv_b),K_pr_inv_min),no_valu),no_value)","v":"-"},"-","-","-","-","-","-","-","-","-","-",null,{"$f":"IF(I8=ja,VLOOKUP(D8,Tabelle_Nutzung,Nutzungen!$AA$75,FALSE),no_value)","v":"-"},null,"-","",null,"-",null,{"$f":"IF($AO$1=\"X\",IFERROR(VLOOKUP($D8,Tabelle_Nutzung,Nutzungen!$L$75,FALSE),no_value),$CG$1)","v":"-"},{"$f":"IFERROR(VLOOKUP(D8,Tabelle_Nutzung,Nutzungen!$BN$75,FALSE),no_value)","v":"-"},"-","-",{"$f":"IF($AO$1=\"X\",IFERROR(VLOOKUP($D8,Tabelle_Nutzung,Nutzungen!$K$75,FALSE),no_value),$CK$1)","v":"-"},"-",{"$f":"IFERROR(IF(VLOOKUP($D8,Tabelle_Nutzung,Nutzungen!$AK$75,FALSE)>15,ja,nein),no_value)","v":"-"},"-",{"$f":"IFERROR(IF(AND(CH8=1,CJ8>0),DATA_RLT!$AA$5,no_value),no_value)","v":"-"},{"$f":"IFERROR(IF(AND(CH8=1,CJ8>0),DATA_RLT!$AA$12,no_value),no_value)","v":"-"},"-","-","-","-","-","-","-","-",0,"-","-","-",0,"-","-",0,"-",0,"-","-","-"]
[null,5,"A05",null,null,null,null,null,null,"-",null,{"$f":"IF(H9=ja,IFERROR(VLOOKUP(D9,Tabelle_Nutzung,Nutzungen!$S$75,FALSE),no_value),no_value)","v":"-"},{"$f":"VLOOKUP($D9,Tabelle_Nutzung,Nutzungen!$BC$75,FALSE)","v":{"$error":"#N/A"}},{"$f":"VLOOKUP($D9,Tabelle_Nutzung,Nutzungen!$BB$75,FALSE)","v":{"$error":"#N/A"}},{"$f":"VLOOKUP($D9,Tabelle_Nutzung,Nutzungen!$BA$75,FALSE)","v":{"$error":"#N/A"}},{"$f":"IFERROR(VLOOKUP(D9,Tabelle_Nutzung,Nutzungen!$P$75,FALSE),no_value)","v":"-"},"-","-","-",null,{"$f":"IF(H9=ja,IFERROR(VLOOKUP(D9,Tabelle_Nutzung,Nutzungen!$O$75,FALSE),no_value),no_value)","v":"-"},"-","",null,"-","-","-","",null,"-",null,{"$f":"IF($AO$1=\"X\",IFERROR(VLOOKUP(D9,Tabelle_Nutzung,Nutzungen!$BM$75,FALSE),no_value),$AX$1)","v":"-"},"ja",{"$f":"IFERROR(IF(AND(AG9=ja,W9=pass,AB9=pass,AF9>=f_day_min,AF9<>\"\"),MAX(MIN(K_day_sub_max,AP9*K_day_sub_m+K_day_sub_b),K_day_sub_min),no_valu),no_value)","v":"-"},null,"ja",{"$f":"IFERROR(IF(AND(AJ9=ja,W9=pass,AB9=pass),MAX(MIN(K_pr_sub_max,AP9*K_pr_sub_m+K_pr_sub_b),K_pr_sub_min),no_valu),no_value)","v":"-"},null,"-",null,"-",0,0,{"$f":"IF($AO$1=\"X\",IFERROR(VLOOKUP($D9,Tabelle_Nutzung,Nutzungen!$G$75,FALSE),no_value),$AR$1)","v":"-"},{"$f":"IF($AO$1=\"X\",IFERROR(VLOOKUP($D9,Tabelle_Nutzung,Nutzungen!$I$75,FALSE),no_value),$AS$1)","v":"-"},{"$f":"IF($AO$1=\"X\",IFERROR(VLOOKUP($D9,Tabelle_Nutzung,Nutzungen!$J$75,FALSE),no_value),$AT$1)","v":"-"},{"$f":"IF($AO$1=\"X\",IFERROR(VLOOKUP(D9,Tabelle_Nutzung,Nutzungen!$R$75,FALSE),no_value),$AU$1)","v":"-"},{"$f":"IF(ISNUMBER(AU9),IF(AND(AU9>=0.9,D9<>Nutzungen!$B$93),1-AU9*0.95,1-AU9*0.5),no_value)","v":"-"},"-","-","-","-","-","-","-","-","-","-","-","-",{"$f":"IFERROR(BG9-BH9,no_value)","v":"-"},0,"-","-",{"$f":"IFERROR(IF(AND(AG9=ja,W9=pass,AB9=pass),infla_Bel*MAX(MIN(K_day_inv_max,AP9*K_day_inv_m+K_day_inv_b),K_day_inv_min),no_valu),no_value)","v":"-"},{"$f":"IFERROR(IF(AND(AJ9=ja,W9=pass,AB9=pass),infla_Bel*MAX(MIN(K_pr_inv_max,AP9*K_pr_inv_m+K_pr_inv_b),K_pr_inv_min),no_valu),no_value)","v":"-"},"-","-","-","-","-","-","-","-","-","-",null,{"$f":"IF(I9=ja,VLOOKUP(D9,Tabelle_Nutzung,Nutzungen!$AA$75,FALSE),no_value)","v":"-"},null,"-","",null,"-",null,{"$f":"IF($AO$1=\"X\",IFERROR(VLOOKUP($D9,Tabelle_Nutzung,Nutzungen!$L$75,FALSE),no_value),$CG$1)","v":"-"},{"$f":"IFERROR(VLOOKUP(D9,Tabelle_Nutzung,Nutzungen!$BN$75,FALSE),no_value)","v":"-"},"-","-",{"$f":"IF($AO$1=\"X\",IFERROR(VLOOKUP($D9,Tabelle_Nutzung,Nutzungen!$K$75,FALSE),no_value),$CK$1)","v":"-"},"-",{"$f":"IFERROR(IF(VLOOKUP($D9,Tabelle_Nutzung,Nutzungen!$AK$75,FALSE)>15,ja,nein),no_value)","v":"-"},"-",{"$f":"IFERROR(IF(AND(CH9=1,CJ9>0),DATA_RLT!$AA$5,no_value),no_value)","v":"-"},{"$f":"IFERROR(IF(AND(CH9=1,CJ9>0),DATA_RLT!$AA$12,no_value),no_value)","v":"-"},"-","-","-","-","-","-","-","-",0,"-","-","-",0,"-","-",0,"-",0,"-","-","-"]
[null,6,"A06",null,null,null,null,null,null,"-",null,{"$f":"IF(H10=ja,IFERROR(VLOOKUP(D10,Tabelle_Nutzung,Nutzungen!$S$75,FALSE),no_value),no_value)","v":"-"},{"$f":"VLOOKUP($D10,Tabelle_Nutzung,Nutzungen!$BC$75,FALSE)","v":{"$error":"#N/A"}},{"$f":"VLOOKUP($D10,Tabelle_Nutzung,Nutzungen!$BB$75,FALSE)","v":{"$error":"#N/A"}},{"$f":"VLOOKUP($D10,Tabelle_Nutzung,Nutzungen!$BA$75,FALSE)","v":{"$error":"#N/A"}},{"$f":"IFERROR(VLOOKUP(D10,Tabelle_Nutzung,Nutzungen!$P$75,FALSE),no_value)","v":"-"},"-","-","-",null,{"$f":"IF(H10=ja,IFERROR(VLOOKUP(D10,Tabelle_Nutzung,Nutzungen!$O$75,FALSE),no_value),no_value)","v":"-"},"-","",null,"-","-","-","",null,"-",null,{"$f":"IF($AO$1=\"X\",IFERROR(VLOOKUP(D10,Tabelle_Nutzung,Nutzungen!$BM$75,FALSE),no_value),$AX$1)","v":"-"},"ja",{"$f":"IFERROR(IF(AND(AG10=ja,W10=pass,AB10=pass,AF10>=f_day_min,AF10<>\"\"),MAX(MIN(K_day_sub_max,AP10*K_day_sub_m+K_day_sub_b),K_day_sub_min),no_valu),no_value)","v":"-"},null,"ja",{"$f":"IFERROR(IF(AND(AJ10=ja,W10=pass,AB10=pass),MAX(MIN(K_pr_sub_max,AP10*K_pr_sub_m+K_pr_sub_b),K_pr_sub_min),no_valu),no_value)","v":"-"},null,"-",null,"-",0,0,{"$f":"IF($AO$1=\"X\",IFERROR(VLOOKUP($D10,Tabelle_Nutzung,Nutzungen!$G$75,FALSE),no_value),$AR$1)","v":"-"},{"$f":"IF($AO$1=\"X\",IFERROR(VLOOKUP($D10,Tabelle_Nutzung,Nutzungen!$I$75,FALSE),no_value),$AS$1)","v":"-"},{"$f":"IF($AO$1=\"X\",IFERROR(VLOOKUP($D10,Tabelle_Nutzung,Nutzungen!$J$75,FALSE),no_value),$AT$1)","v":"-"},{"$f":"IF($AO$1=\"X\",IFERROR(VLOOKUP(D10,Tabelle_Nutzung,Nutzungen!$R$75,FALSE),no_value),$AU$1)","v":"-"},{"$f":"IF(ISNUMBER(AU10),IF(AND(AU10>=0.9,D10<>Nutzungen!$B$93),1-AU10*0.95,1-AU10*0.5),no_value)","v":"-"},"-","-","-","-","-","-","-","-","-","-","-","-","-",0,"-","-",{"$f":"IFERROR(IF(AND(AG10=ja,W10=pass,AB10=pass),infla_Bel*MAX(MIN(K_day_inv_max,AP10*K_day_inv_m+K_day_inv_b),K_day_inv_min),no_valu),no_value)","v":"-"},{"$f":"IFERROR(IF(AND(AJ10=ja,W10=pass,AB10=pass),infla_Bel*MAX(MIN(K_pr_inv_max,AP10*K_pr_inv_m+K_pr_inv_b),K_pr_inv_min),no_valu),no_value)","v":"-"},"-","-","-","-","-","-","-","-","-","-",null,{"$f":"IF(I10=ja,VLOOKUP(D10,Tabelle_Nutzung,Nutzungen!$AA$75,FALSE),no_value)","v":"-"},null,"-","",null,"-",null,{"$f":"IF($AO$1=\"X\",IFERROR(VLOOKUP($D10,Tabelle_Nutzung,Nutzungen!$L$75,FALSE),no_value),$CG$1)","v":"-"},{"$f":"IFERROR(VLOOKUP(D10,Tabelle_Nutzung,Nutzungen!$BN$75,FALSE),no_value)","v":"-"},"-","-",{"$f":"IF($AO$1=\"X\",IFERROR(VLOOKUP($D10,Tabelle_Nutzung,Nutzungen!$K$75,FALSE),no_value),$CK$1)","v":"-"},"-",{"$f":"IFERROR(IF(VLOOKUP($D10,Tabelle_Nutzung,Nutzungen!$AK$75,FALSE)>15,ja,nein),no_value)","v":"-"},"-",{"$f":"IFERROR(IF(AND(CH10=1,CJ10>0),DATA_RLT!$AA$5,no_value),no_value)","v":"-"},{"$f":"IFERROR(IF(AND(CH10=1,CJ10>0),DATA_RLT!$AA$12,no_value),no_value)","v":"-"},"-","-","-","-","-","-","-","-",0,"-","-","-",0,"-","-",0,"-",0,"-","-","-"]
[null,7,"A07",null,null,null,null,null,null,"-",null,{"$f":"IF(H11=ja,IFERROR(VLOOKUP(D11,Tabelle_Nutzung,Nutzungen!$S$75,FALSE),no_value),no_value)","v":"-"},{"$f":"VLOOKUP($D11,Tabelle_Nutzung,Nutzungen!$BC$75,FALSE)","v":{"$error":"#N/A"}},{"$f":"VLOOKUP($D11,Tabelle_Nutzung,Nutzungen!$BB$75,FALSE)","v":{"$error":"#N/A"}},{"$f":"VLOOKUP($D11,Tabelle_Nutzung,Nutzungen!$BA$75,FALSE)","v":{"$error":"#N/A"}},{"$f":"IFERROR(VLOOKUP(D11,Tabelle_Nutzung,Nutzungen!$P$75,FALSE),no_value)","v":"-"},"-","-","-",null,{"$f":"IF(H11=ja,IFERROR(VLOOKUP(D11,Tabelle_Nutzung,Nutzungen!$O$75,FALSE),no_value),no_value)","v":"-"},"-","",null,"-","-","-","",null,"-",null,{"$f":"IF($AO$1=\"X\",IFERROR(VLOOKUP(D11,Tabelle_Nutzung,Nutzungen!$BM$75,FALSE),no_value),$AX$1)","v":"-"},"ja",{"$f":"IFERROR(IF(AND(AG11=ja,W11=pass,AB11=pass,AF11>=f_day_min,AF11<>\"\"),MAX(MIN(K_day_sub_max,AP11*K_day_sub_m+K_day_sub_b),K_day_sub_min),no_valu),no_value)","v":"-"},null,"ja",{"$f":"IFERROR(IF(AND(AJ11=ja,W11=pass,AB11=pass),MAX(MIN(K_pr_sub_max,AP11*K_pr_sub_m+K_pr_sub_b),K_pr_sub_min),no_valu),no_value)","v":"-"},null,"-",null,"-",0,0,{"$f":"IF($AO$1=\"X\",IFERROR(VLOOKUP($D11,Tabelle_Nutzung,Nutzungen!$G$75,FALSE),no_value),$AR$1)","v":"-"},{"$f":"IF($AO$1=\"X\",IFERROR(VLOOKUP($D11,Tabelle_Nutzung,Nutzungen!$I$75,FALSE),no_value),$AS$1)","v":"-"},{"$f":"IF($AO$1=\"X\",IFERROR(VLOOKUP($D11,Tabelle_Nutzung,Nutzungen!$J$75,FALSE),no_value),$AT$1)","v":"-"},{"$f":"IF($AO$1=\"X\",IFERROR(VLOOKUP(D11,Tabelle_Nutzung,Nutzungen!$R$75,FALSE),no_value),$AU$1)","v":"-"},{"$f":"IF(ISNUMBER(AU11),IF(AND(AU11>=0.9,D11<>Nutzungen!$B$93),1-AU11*0.95,1-AU11*0.5),no_value)","v":"-"},"-","-","-","-","-","-","-","-","-","-","-","-","-",0,"-","-",{"$f":"IFERROR(IF(AND(AG11=ja,W11=pass,AB11=pass),infla_Bel*MAX(MIN(K_day_inv_max,AP11*K_day_inv_m+K_day_inv_b),K_day_inv_min),no_valu),no_value)","v":"-"},{"$f":"IFERROR(IF(AND(AJ11=ja,W11=pass,AB11=pass),infla_Bel*MAX(MIN(K_pr_inv_max,AP11*K_pr_inv_m+K_pr_inv_b),K_pr_inv_min),no_valu),no_value)","v":"-"},"-","-","-","-","-","-","-","-","-","-",null,{"$f":"IF(I11=ja,VLOOKUP(D11,Tabelle_Nutzung,Nutzungen!$AA$75,FALSE),no_value)","v":"-"},null,"-","",null,"-",null,{"$f":"IF($AO$1=\"X\",IFERROR(VLOOKUP($D11,Tabelle_Nutzung,Nutzungen!$L$75,FALSE),no_value),$CG$1)","v":"-"},{"$f":"IFERROR(VLOOKUP(D11,Tabelle_Nutzung,Nutzungen!$BN$75,FALSE),no_value)","v":"-"},"-","-",{"$f":"IF($AO$1=\"X\",IFERROR(VLOOKUP($D11,Tabelle_Nutzung,Nutzungen!$K$75,FALSE),no_value),$CK$1)","v":"-"},"-",{"$f":"IFERROR(IF(VLOOKUP($D11,Tabelle_Nutzung,Nutzungen!$AK$75,FALSE)>15,ja,nein),no_value)","v":"-"},"-",{"$f":"IFERROR(IF(AND(CH11=1,CJ11>0),DATA_RLT!$AA$5,no_value),no_value)","v":"-"},{"$f":"IFERROR(IF(AND(CH11=1,CJ11>0),DATA_RLT!$AA$12,no_value),no_value)","v":"-"},"-","-","-","-","-","-","-","-",0,"-","-","-",0,"-","-",0,"-",0,"-","-","-"]
[null,8,"A08",null,null,null,null,null,null,"-",null,{"$f":"IF(H12=ja,IFERROR(VLOOKUP(D12,Tabelle_Nutzung,Nutzungen!$S$75,FALSE),no_value),no_value)","v":"-"},{"$f":"VLOOKUP($D12,Tabelle_Nutzung,Nutzungen!$BC$75,FALSE)","v":{"$error":"#N/A"}},{"$f":"VLOOKUP($D12,Tabelle_Nutzung,Nutzungen!$BB$75,FALSE)","v":{"$error":"#N/A"}},{"$f":"VLOOKUP($D12,Tabelle_Nutzung,Nutzungen!$BA$75,FALSE)","v":{"$error":"#N/A"}},{"$f":"IFERROR(VLOOKUP(D12,Tabelle_Nutzung,Nutzungen!$P$75,FALSE),no_value)","v":"-"},"-","-","-",null,{"$f":"IF(H12=ja,IFERROR(VLOOKUP(D12,Tabelle_Nutzung,Nutzungen!$O$75,FALSE),no_value),no_value)","v":"-"},"-","",null,"-","-","-","",null,"-",null,{"$f":"IF($AO$1=\"X\",IFERROR(VLOOKUP(D12,Tabelle_Nutzung,Nutzungen!$BM$75,FALSE),no_value),$AX$1)","v":"-"},"ja",{"$f":"IFERROR(IF(AND(AG12=ja,W12=pass,AB12=pass,AF12>=f_day_min,AF12<>\"\"),MAX(MIN(K_day_sub_max,AP12*K_day_sub_m+K_day_sub_b),K_day_sub_min),no_valu),no_value)","v":"-"},null,"ja",{"$f":"IFERROR(IF(AND(AJ12=ja,W12=pass,AB12=pass),MAX(MIN(K_pr_sub_max,AP12*K_pr_sub_m+K_pr_sub_b),K_pr_sub_min),no_valu),no_value)","v":"-"},null,"-",null,"-",0,0,{"$f":"IF($AO$1=\"X\",IFERROR(VLOOKUP($D12,Tabelle_Nutzung,Nutzungen!$G$75,FALSE),no_value),$AR$1)","v":"-"},{"$f":"IF($AO$1=\"X\",IFERROR(VLOOKUP($D12,Tabelle_Nutzung,Nutzungen!$I$75,FALSE),no_value),$AS$1)","v":"-"},{"$f":"IF($AO$1=\"X\",IFERROR(VLOOKUP($D12,Tabelle_Nutzung,Nutzungen!$J$75,FALSE),no_value),$AT$1)","v":"-"},{"$f":"IF($AO$1=\"X\",IFERROR(VLOOKUP(D12,Tabelle_Nutzung,Nutzungen!$R$75,FALSE),no_value),$AU$1)","v":"-"},{"$f":"IF(ISNUMBER(AU12),IF(AND(AU12>=0.9,D12<>Nutzungen!$B$93),1-AU12*0.95,1-AU12*0.5),no_value)","v":"-"},"-","-","-","-","-","-","-","-","-","-","-","-","-",0,"-","-",{"$f":"IFERROR(IF(AND(AG12=ja,W12=pass,AB12=pass),infla_Bel*MAX(MIN(K_day_inv_max,AP12*K_day_inv_m+K_day_inv_b),K_day_inv_min),no_valu),no_value)","v":"-"},{"$f":"IFERROR(IF(AND(AJ12=ja,W12=pass,AB12=pass),infla_Bel*MAX(MIN(K_pr_inv_max,AP12*K_pr_inv_m+K_pr_inv_b),K_pr_inv_min),no_valu),no_value)","v":"-"},"-","-","-","-","-","-","-","-","-","-",null,{"$f":"IF(I12=ja,VLOOKUP(D12,Tabelle_Nutzung,Nutzungen!$AA$75,FALSE),no_value)","v":"-"},null,"-","",null,"-",null,{"$f":"IF($AO$1=\"X\",IFERROR(VLOOKUP($D12,Tabelle_Nutzung,Nutzungen!$L$75,FALSE),no_value),$CG$1)","v":"-"},{"$f":"IFERROR(VLOOKUP(D12,Tabelle_Nutzung,Nutzungen!$BN$75,FALSE),no_value)","v":"-"},"-","-",{"$f":"IF($AO$1=\"X\",IFERROR(VLOOKUP($D12,Tabelle_Nutzung,Nutzungen!$K$75,FALSE),no_value),$CK$1)","v":"-"},"-",{"$f":"IFERROR(IF(VLOOKUP($D12,Tabelle_Nutzung,Nutzungen!$AK$75,FALSE)>15,ja,nein),no_value)","v":"-"},"-",{"$f":"IFERROR(IF(AND(CH12=1,CJ12>0),DATA_RLT!$AA$5,no_value),no_value)","v":"-"},{"$f":"IFERROR(IF(AND(CH12=1,CJ12>0),DATA_RLT!$AA$12,no_value),no_value)","v":"-"},"-","-","-","-","-","-","-","-",0,"-","-","-",0,"-","-",0,"-",0,"-","-","-"]
[null,9,"A09",null,null,null,null,null,null,"-",null,{"$f":"IF(H13=ja,IFERROR(VLOOKUP(D13,Tabelle_Nutzung,Nutzungen!$S$75,FALSE),no_value),no_value)","v":"-"},{"$f":"VLOOKUP($D13,Tabelle_Nutzung,Nutzungen!$BC$75,FALSE)","v":{"$error":"#N/A"}},{"$f":"VLOOKUP($D13,Tabelle_Nutzung,Nutzungen!$BB$75,FALSE)","v":{"$error":"#N/A"}},{"$f":"VLOOKUP($D13,Tabelle_Nutzung,Nutzungen!$BA$75,FALSE)","v":{"$error":"#N/A"}},{"$f":"IFERROR(VLOOKUP(D13,Tabelle_Nutzung,Nutzungen!$P$75,FALSE),no_value)","v":"-"},"-","-","-",null,{"$f":"IF(H13=ja,IFERROR(VLOOKUP(D13,Tabelle_Nutzung,Nutzungen!$O$75,FALSE),no_value),no_value)","v":"-"},"-","",null,"-","-","-","",null,"-",null,{"$f":"IF($AO$1=\"X\",IFERROR(VLOOKUP(D13,Tabelle_Nutzung,Nutzungen!$BM$75,FALSE),no_value),$AX$1)","v":"-"},"ja",{"$f":"IFERROR(IF(AND(AG13=ja,W13=pass,AB13=pass,AF13>=f_day_min,AF13<>\"\"),MAX(MIN(K_day_sub_max,AP13*K_day_sub_m+K_day_sub_b),K_day_sub_min),no_valu),no_value)","v":"-"},null,"ja",{"$f":"IFERROR(IF(AND(AJ13=ja,W13=pass,AB13=pass),MAX(MIN(K_pr_sub_max,AP13*K_pr_sub_m+K_pr_sub_b),K_pr_sub_min),no_valu),no_value)","v":"-"},null,"-",null,"-",0,0,{"$f":"IF($AO$1=\"X\",IFERROR(VLOOKUP($D13,Tabelle_Nutzung,Nutzungen!$G$75,FALSE),no_value),$AR$1)","v":"-"},{"$f":"IF($AO$1=\"X\",IFERROR(VLOOKUP($D13,Tabelle_Nutzung,Nutzungen!$I$75,FALSE),no_value),$AS$1)","v":"-"},{"$f":"IF($AO$1=\"X\",IFERROR(VLOOKUP($D13,Tabelle_Nutzung,Nutzungen!$J$75,FALSE),no_value),$AT$1)","v":"-"},{"$f":"IF($AO$1=\"X\",IFERROR(VLOOKUP(D13,Tabelle_Nutzung,Nutzungen!$R$75,FALSE),no_value),$AU$1)","v":"-"},{"$f":"IF(ISNUMBER(AU13),IF(AND(AU13>=0.9,D13<>Nutzungen!$B$93),1-AU13*0.95,1-AU13*0.5),no_value)","v":"-"},"-","-","-","-","-","-","-","-","-","-","-","-","-",0,"-","-",{"$f":"IFERROR(IF(AND(AG13=ja,W13=pass,AB13=pass),infla_Bel*MAX(MIN(K_day_inv_max,AP13*K_day_inv_m+K_day_inv_b),K_day_inv_min),no_valu),no_value)","v":"-"},{"$f":"IFERROR(IF(AND(AJ13=ja,W13=pass,AB13=pass),infla_Bel*MAX(MIN(K_pr_inv_max,AP13*K_pr_inv_m+K_pr_inv_b),K_pr_inv_min),no_valu),no_value)","v":"-"},"-","-","-","-","-","-","-","-","-","-",null,{"$f":"IF(I13=ja,VLOOKUP(D13,Tabelle_Nutzung,Nutzungen!$AA$75,FALSE),no_value)","v":"-"},null,"-","",null,"-",null,{"$f":"IF($AO$1=\"X\",IFERROR(VLOOKUP($D13,Tabelle_Nutzung,Nutzungen!$L$75,FALSE),no_value),$CG$1)","v":"-"},{"$f":"IFERROR(VLOOKUP(D13,Tabelle_Nutzung,Nutzungen!$BN$75,FALSE),no_value)","v":"-"},"-","-",{"$f":"IF($AO$1=\"X\",IFERROR(VLOOKUP($D13,Tabelle_Nutzung,Nutzungen!$K$75,FALSE),no_value),$CK$1)","v":"-"},"-",{"$f":"IFERROR(IF(VLOOKUP($D13,Tabelle_Nutzung,Nutzungen!$AK$75,FALSE)>15,ja,nein),no_value)","v":"-"},"-",{"$f":"IFERROR(IF(AND(CH13=1,CJ13>0),DATA_RLT!$AA$5,no_value),no_value)","v":"-"},{"$f":"IFERROR(IF(AND(CH13=1,CJ13>0),DATA_RLT!$AA$12,no_value),no_value)","v":"-"},"-","-","-","-","-","-","-","-",0,"-","-","-",0,"-","-",0,"-",0,"-","-","-"]
[null,10,"A10",null,null,null,null,null,null,"-",null,{"$f":"IF(H14=ja,IFERROR(VLOOKUP(D14,Tabelle_Nutzung,Nutzungen!$S$75,FALSE),no_value),no_value)","v":"-"},{"$f":"VLOOKUP($D14,Tabelle_Nutzung,Nutzungen!$BC$75,FALSE)","v":{"$error":"#N/A"}},{"$f":"VLOOKUP($D14,Tabelle_Nutzung,Nutzungen!$BB$75,FALSE)","v":{"$error":"#N/A"}},{"$f":"VLOOKUP($D14,Tabelle_Nutzung,Nutzungen!$BA$75,FALSE)","v":{"$error":"#N/A"}},{"$f":"IFERROR(VLOOKUP(D14,Tabelle_Nutzung,Nutzungen!$P$75,FALSE),no_value)","v":"-"},"-","-","-",null,{"$f":"IF(H14=ja,IFERROR(VLOOKUP(D14,Tabelle_Nutzung,Nutzungen!$O$75,FALSE),no_value),no_value)","v":"-"},"-","",null,"-","-","-","",null,"-",null,{"$f":"IF($AO$1=\"X\",IFERROR(VLOOKUP(D14,Tabelle_Nutzung,Nutzungen!$BM$75,FALSE),no_value),$AX$1)","v":"-"},"ja",{"$f":"IFERROR(IF(AND(AG14=ja,W14=pass,AB14=pass,AF14>=f_day_min,AF14<>\"\"),MAX(MIN(K_day_sub_max,AP14*K_day_sub_m+K_day_sub_b),K_day_sub_min),no_valu),no_value)","v":"-"},null,"ja",{"$f":"IFERROR(IF(AND(AJ14=ja,W14=pass,AB14=pass),MAX(MIN(K_pr_sub_max,AP14*K_pr_sub_m+K_pr_sub_b),K_pr_sub_min),no_valu),no_value)","v":"-"},null,"-",null,"-",0,0,{"$f":"IF($AO$1=\"X\",IFERROR(VLOOKUP($D14,Tabelle_Nutzung,Nutzungen!$G$75,FALSE),no_value),$AR$1)","v":"-"},{"$f":"IF($AO$1=\"X\",IFERROR(VLOOKUP($D14,Tabelle_Nutzung,Nutzungen!$I$75,FALSE),no_value),$AS$1)","v":"-"},{"$f":"IF($AO$1=\"X\",IFERROR(VLOOKUP($D14,Tabelle_Nutzung,Nutzungen!$J$75,FALSE),no_value),$AT$1)","v":"-"},{"$f":"IF($AO$1=\"X\",IFERROR(VLOOKUP(D14,Tabelle_Nutzung,Nutzungen!$R$75,FALSE),no_value),$AU$1)","v":"-"},{"$f":"IF(ISNUMBER(AU14),IF(AND(AU14>=0.9,D14<>Nutzungen!$B$93),1-AU14*0.95,1-AU14*0.5),no_value)","v":"-"},"-","-","-","-","-","-","-","-","-","-","-","-","-",0,"-","-",{"$f":"IFERROR(IF(AND(AG14=ja,W14=pass,AB14=pass),infla_Bel*MAX(MIN(K_day_inv_max,AP14*K_day_inv_m+K_day_inv_b),K_day_inv_min),no_valu),no_value)","v":"-"},{"$f":"IFERROR(IF(AND(AJ14=ja,W14=pass,AB14=pass),infla_Bel*MAX(MIN(K_pr_inv_max,AP14*K_pr_inv_m+K_pr_inv_b),K_pr_inv_min),no_valu),no_value)","v":"-"},"-","-","-","-","-","-","-","-","-","-",null,{"$f":"IF(I14=ja,VLOOKUP(D14,Tabelle_Nutzung,Nutzungen!$AA$75,FALSE),no_value)","v":"-"},null,"-","",null,"-",null,{"$f":"IF($AO$1=\"X\",IFERROR(VLOOKUP($D14,Tabelle_Nutzung,Nutzungen!$L$75,FALSE),no_value),$CG$1)","v":"-"},{"$f":"IFERROR(VLOOKUP(D14,Tabelle_Nutzung,Nutzungen!$BN$75,FALSE),no_value)","v":"-"},"-","-",{"$f":"IF($AO$1=\"X\",IFERROR(VLOOKUP($D14,Tabelle_Nutzung,Nutzungen!$K$75,FALSE),no_value),$CK$1)","v":"-"},"-",{"$f":"IFERROR(IF(VLOOKUP($D14,Tabelle_Nutzung,Nutzungen!$AK$75,FALSE)>15,ja,nein),no_value)","v":"-"},"-",{"$f":"IFERROR(IF(AND(CH14=1,CJ14>0),DATA_RLT!$AA$5,no_value),no_value)","v":"-"},{"$f":"IFERROR(IF(AND(CH14=1,CJ14>0),DATA_RLT!$AA$12,no_value),no_value)","v":"-"},"-","-","-","-","-","-","-","-",0,"-","-","-",0,"-","-",0,"-",0,"-","-","-"]
[null,11,"A11",null,null,null,null,null,null,"-",null,{"$f":"IF(H15=ja,IFERROR(VLOOKUP(D15,Tabelle_Nutzung,Nutzungen!$S$75,FALSE),no_value),no_value)","v":"-"},{"$f":"VLOOKUP($D15,Tabelle_Nutzung,Nutzungen!$BC$75,FALSE)","v":{"$error":"#N/A"}},{"$f":"VLOOKUP($D15,Tabelle_Nutzung,Nutzungen!$BB$75,FALSE)","v":{"$error":"#N/A"}},{"$f":"VLOOKUP($D15,Tabelle_Nutzung,Nutzungen!$BA$75,FALSE)","v":{"$error":"#N/A"}},{"$f":"IFERROR(VLOOKUP(D15,Tabelle_Nutzung,Nutzungen!$P$75,FALSE),no_value)","v":"-"},"-","-","-",null,{"$f":"IF(H15=ja,IFERROR(VLOOKUP(D15,Tabelle_Nutzung,Nutzungen!$O$75,FALSE),no_value),no_value)","v":"-"},"-","",null,"-","-","-","",null,"-",null,{"$f":"IF($AO$1=\"X\",IFERROR(VLOOKUP(D15,Tabelle_Nutzung,Nutzungen!$BM$75,FALSE),no_value),$AX$1)","v":"-"},"ja",{"$f":"IFERROR(IF(AND(AG15=ja,W15=pass,AB15=pass,AF15>=f_day_min,AF15<>\"\"),MAX(MIN(K_day_sub_max,AP15*K_day_sub_m+K_day_sub_b),K_day_sub_min),no_valu),no_value)","v":"-"},null,"ja",{"$f":"IFERROR(IF(AND(AJ15=ja,W15=pass,AB15=pass),MAX(MIN(K_pr_sub_max,AP15*K_pr_sub_m+K_pr_sub_b),K_pr_sub_min),no_valu),no_value)","v":"-"},null,"-",null,"-",0,0,{"$f":"IF($AO$1=\"X\",IFERROR(VLOOKUP($D15,Tabelle_Nutzung,Nutzungen!$G$75,FALSE),no_value),$AR$1)","v":"-"},{"$f":"IF($AO$1=\"X\",IFERROR(VLOOKUP($D15,Tabelle_Nutzung,Nutzungen!$I$75,FALSE),no_value),$AS$1)","v":"-"},{"$f":"IF($AO$1=\"X\",IFERROR(VLOOKUP($D15,Tabelle_Nutzung,Nutzungen!$J$75,FALSE),no_value),$AT$1)","v":"-"},{"$f":"IF($AO$1=\"X\",IFERROR(VLOOKUP(D15,Tabelle_Nutzung,Nutzungen!$R$75,FALSE),no_value),$AU$1)","v":"-"},{"$f":"IF(ISNUMBER(AU15),IF(AND(AU15>=0.9,D15<>Nutzungen!$B$93),1-AU15*0.95,1-AU15*0.5),no_value)","v":"-"},"-","-","-","-","-","-","-","-","-","-","-","-","-",0,"-","-",{"$f":"IFERROR(IF(AND(AG15=ja,W15=pass,AB15=pass),infla_Bel*MAX(MIN(K_day_inv_max,AP15*K_day_inv_m+K_day_inv_b),K_day_inv_min),no_valu),no_value)","v":"-"},{"$f":"IFERROR(IF(AND(AJ15=ja,W15=pass,AB15=pass),infla_Bel*MAX(MIN(K_pr_inv_max,AP15*K_pr_inv_m+K_pr_inv_b),K_pr_inv_min),no_valu),no_value)","v":"-"},"-","-","-","-","-","-","-","-","-","-",null,{"$f":"IF(I15=ja,VLOOKUP(D15,Tabelle_Nutzung,Nutzungen!$AA$75,FALSE),no_value)","v":"-"},null,"-","",null,"-",null,{"$f":"IF($AO$1=\"X\",IFERROR(VLOOKUP($D15,Tabelle_Nutzung,Nutzungen!$L$75,FALSE),no_value),$CG$1)","v":"-"},{"$f":"IFERROR(VLOOKUP(D15,Tabelle_Nutzung,Nutzungen!$BN$75,FALSE),no_value)","v":"-"},"-","-",{"$f":"IF($AO$1=\"X\",IFERROR(VLOOKUP($D15,Tabelle_Nutzung,Nutzungen!$K$75,FALSE),no_value),$CK$1)","v":"-"},"-",{"$f":"IFERROR(IF(VLOOKUP($D15,Tabelle_Nutzung,Nutzungen!$AK$75,FALSE)>15,ja,nein),no_value)","v":"-"},"-",{"$f":"IFERROR(IF(AND(CH15=1,CJ15>0),DATA_RLT!$AA$5,no_value),no_value)","v":"-"},{"$f":"IFERROR(IF(AND(CH15=1,CJ15>0),DATA_RLT!$AA$12,no_value),no_value)","v":"-"},"-","-","-","-","-","-","-","-",0,"-","-","-",0,"-","-",0,"-",0,"-","-","-"]
[null,12,"A12",null,null,null,null,null,null,"-",null,{"$f":"IF(H16=ja,IFERROR(VLOOKUP(D16,Tabelle_Nutzung,Nutzungen!$S$75,FALSE),no_value),no_value)","v":"-"},{"$f":"VLOOKUP($D16,Tabelle_Nutzung,Nutzungen!$BC$75,FALSE)","v":{"$error":"#N/A"}},{"$f":"VLOOKUP($D16,Tabelle_Nutzung,Nutzungen!$BB$75,FALSE)","v":{"$error":"#N/A"}},{"$f":"VLOOKUP($D16,Tabelle_Nutzung,Nutzungen!$BA$75,FALSE)","v":{"$error":"#N/A"}},{"$f":"IFERROR(VLOOKUP(D16,Tabelle_Nutzung,Nutzungen!$P$75,FALSE),no_value)","v":"-"},"-","-","-",null,{"$f":"IF(H16=ja,IFERROR(VLOOKUP(D16,Tabelle_Nutzung,Nutzungen!$O$75,FALSE),no_value),no_value)","v":"-"},"-","",null,"-","-","-","",null,"-",null,{"$f":"IF($AO$1=\"X\",IFERROR(VLOOKUP(D16,Tabelle_Nutzung,Nutzungen!$BM$75,FALSE),no_value),$AX$1)","v":"-"},"ja",{"$f":"IFERROR(IF(AND(AG16=ja,W16=pass,AB16=pass,AF16>=f_day_min,AF16<>\"\"),MAX(MIN(K_day_sub_max,AP16*K_day_sub_m+K_day_sub_b),K_day_sub_min),no_valu),no_value)","v":"-"},null,"ja",{"$f":"IFERROR(IF(AND(AJ16=ja,W16=pass,AB16=pass),MAX(MIN(K_pr_sub_max,AP16*K_pr_sub_m+K_pr_sub_b),K_pr_sub_min),no_valu),no_value)","v":"-"},null,"-",null,"-",0,0,{"$f":"IF($AO$1=\"X\",IFERROR(VLOOKUP($D16,Tabelle_Nutzung,Nutzungen!$G$75,FALSE),no_value),$AR$1)","v":"-"},{"$f":"IF($AO$1=\"X\",IFERROR(VLOOKUP($D16,Tabelle_Nutzung,Nutzungen!$I$75,FALSE),no_value),$AS$1)","v":"-"},{"$f":"IF($AO$1=\"X\",IFERROR(VLOOKUP($D16,Tabelle_Nutzung,Nutzungen!$J$75,FALSE),no_value),$AT$1)","v":"-"},{"$f":"IF($AO$1=\"X\",IFERROR(VLOOKUP(D16,Tabelle_Nutzung,Nutzungen!$R$75,FALSE),no_value),$AU$1)","v":"-"},{"$f":"IF(ISNUMBER(AU16),IF(AND(AU16>=0.9,D16<>Nutzungen!$B$93),1-AU16*0.95,1-AU16*0.5),no_value)","v":"-"},"-","-","-","-","-","-","-","-","-","-","-","-","-",0,"-","-",{"$f":"IFERROR(IF(AND(AG16=ja,W16=pass,AB16=pass),infla_Bel*MAX(MIN(K_day_inv_max,AP16*K_day_inv_m+K_day_inv_b),K_day_inv_min),no_valu),no_value)","v":"-"},{"$f":"IFERROR(IF(AND(AJ16=ja,W16=pass,AB16=pass),infla_Bel*MAX(MIN(K_pr_inv_max,AP16*K_pr_inv_m+K_pr_inv_b),K_pr_inv_min),no_valu),no_value)","v":"-"},"-","-","-","-","-","-","-","-","-","-",null,{"$f":"IF(I16=ja,VLOOKUP(D16,Tabelle_Nutzung,Nutzungen!$AA$75,FALSE),no_value)","v":"-"},null,"-","",null,"-",null,{"$f":"IF($AO$1=\"X\",IFERROR(VLOOKUP($D16,Tabelle_Nutzung,Nutzungen!$L$75,FALSE),no_value),$CG$1)","v":"-"},{"$f":"IFERROR(VLOOKUP(D16,Tabelle_Nutzung,Nutzungen!$BN$75,FALSE),no_value)","v":"-"},"-","-",{"$f":"IF($AO$1=\"X\",IFERROR(VLOOKUP($D16,Tabelle_Nutzung,Nutzungen!$K$75,FALSE),no_value),$CK$1)","v":"-"},"-",{"$f":"IFERROR(IF(VLOOKUP($D16,Tabelle_Nutzung,Nutzungen!$AK$75,FALSE)>15,ja,nein),no_value)","v":"-"},"-",{"$f":"IFERROR(IF(AND(CH16=1,CJ16>0),DATA_RLT!$AA$5,no_value),no_value)","v":"-"},{"$f":"IFERROR(IF(AND(CH16=1,CJ16>0),DATA_RLT!$AA$12,no_value),no_value)","v":"-"},"-","-","-","-","-","-","-","-",0,"-","-","-",0,"-","-",0,"-",0,"-","-","-"]
[null,13,"A13",null,null,null,null,null,null,"-",null,{"$f":"IF(H17=ja,IFERROR(VLOOKUP(D17,Tabelle_Nutzung,Nutzungen!$S$75,FALSE),no_value),no_value)","v":"-"},{"$f":"VLOOKUP($D17,Tabelle_Nutzung,Nutzungen!$BC$75,FALSE)","v":{"$error":"#N/A"}},{"$f":"VLOOKUP($D17,Tabelle_Nutzung,Nutzungen!$BB$75,FALSE)","v":{"$error":"#N/A"}},{"$f":"VLOOKUP($D17,Tabelle_Nutzung,Nutzungen!$BA$75,FALSE)","v":{"$error":"#N/A"}},{"$f":"IFERROR(VLOOKUP(D17,Tabelle_Nutzung,Nutzungen!$P$75,FALSE),no_value)","v":"-"},"-","-","-",null,{"$f":"IF(H17=ja,IFERROR(VLOOKUP(D17,Tabelle_Nutzung,Nutzungen!$O$75,FALSE),no_value),no_value)","v":"-"},"-","",null,"-","-","-","",null,"-",null,{"$f":"IF($AO$1=\"X\",IFERROR(VLOOKUP(D17,Tabelle_Nutzung,Nutzungen!$BM$75,FALSE),no_value),$AX$1)","v":"-"},"ja",{"$f":"IFERROR(IF(AND(AG17=ja,W17=pass,AB17=pass,AF17>=f_day_min,AF17<>\"\"),MAX(MIN(K_day_sub_max,AP17*K_day_sub_m+K_day_sub_b),K_day_sub_min),no_valu),no_value)","v":"-"},null,"ja",{"$f":"IFERROR(IF(AND(AJ17=ja,W17=pass,AB17=pass),MAX(MIN(K_pr_sub_max,AP17*K_pr_sub_m+K_pr_sub_b),K_pr_sub_min),no_valu),no_value)","v":"-"},null,"-",null,"-",0,0,{"$f":"IF($AO$1=\"X\",IFERROR(VLOOKUP($D17,Tabelle_Nutzung,Nutzungen!$G$75,FALSE),no_value),$AR$1)","v":"-"},{"$f":"IF($AO$1=\"X\",IFERROR(VLOOKUP($D17,Tabelle_Nutzung,Nutzungen!$I$75,FALSE),no_value),$AS$1)","v":"-"},{"$f":"IF($AO$1=\"X\",IFERROR(VLOOKUP($D17,Tabelle_Nutzung,Nutzungen!$J$75,FALSE),no_value),$AT$1)","v":"-"},{"$f":"IF($AO$1=\"X\",IFERROR(VLOOKUP(D17,Tabelle_Nutzung,Nutzungen!$R$75,FALSE),no_value),$AU$1)","v":"-"},{"$f":"IF(ISNUMBER(AU17),IF(AND(AU17>=0.9,D17<>Nutzungen!$B$93),1-AU17*0.95,1-AU17*0.5),no_value)","v":"-"},"-","-",{"$f":"IF(ISNUMBER($AX17),IF($AF17>=$AX17,AY$4,0.5*(11-AY$4)*COS(PI()*$AF17/$AX17)+0.5*(11+AY$4)),no_value)","v":"-"},{"$f":"IF(ISNUMBER($AX17),IF($AF17>=$AX17,AZ$4,0.5*(11-AZ$4)*COS(PI()*$AF17/$AX17)+0.5*(11+AZ$4)),no_value)","v":"-"},"-",{"$f":"IFERROR(AW17*($AY17*$AS17/$AR17/11+$AT17/$AR17)*$AR17,no_value)","v":"-"},{"$f":"IFERROR(AV17*($AZ17*$AS17/$AR17/11+$AT17/$AR17)*$AR17,no_value)","v":"-"},{"$f":"IFERROR(AW17*($AZ17*$AS17/$AR17/11+$AT17/$AR17)*$AR17,no_value)","v":"-"},"-","-","-","-","-",0,"-","-",{"$f":"IFERROR(IF(AND(AG17=ja,W17=pass,AB17=pass),infla_Bel*MAX(MIN(K_day_inv_max,AP17*K_day_inv_m+K_day_inv_b),K_day_inv_min),no_valu),no_value)","v":"-"},{"$f":"IFERROR(IF(AND(AJ17=ja,W17=pass,AB17=pass),infla_Bel*MAX(MIN(K_pr_inv_max,AP17*K_pr_inv_m+K_pr_inv_b),K_pr_inv_min),no_valu),no_value)","v":"-"},"-","-","-","-","-","-","-","-","-","-",null,{"$f":"IF(I17=ja,VLOOKUP(D17,Tabelle_Nutzung,Nutzungen!$AA$75,FALSE),no_value)","v":"-"},null,"-","",null,"-",null,{"$f":"IF($AO$1=\"X\",IFERROR(VLOOKUP($D17,Tabelle_Nutzung,Nutzungen!$L$75,FALSE),no_value),$CG$1)","v":"-"},{"$f":"IFERROR(VLOOKUP(D17,Tabelle_Nutzung,Nutzungen!$BN$75,FALSE),no_value)","v":"-"},"-","-",{"$f":"IF($AO$1=\"X\",IFERROR(VLOOKUP($D17,Tabelle_Nutzung,Nutzungen!$K$75,FALSE),no_value),$CK$1)","v":"-"},"-",{"$f":"IFERROR(IF(VLOOKUP($D17,Tabelle_Nutzung,Nutzungen!$AK$75,FALSE)>15,ja,nein),no_value)","v":"-"},"-",{"$f":"IFERROR(IF(AND(CH17=1,CJ17>0),DATA_RLT!$AA$5,no_value),no_value)","v":"-"},{"$f":"IFERROR(IF(AND(CH17=1,CJ17>0),DATA_RLT!$AA$12,no_value),no_value)","v":"-"},"-","-","-","-","-","-","-","-",0,"-","-","-",0,"-","-",0,"-",0,"-","-","-"]
[null,14,"A15",null,null,null,null,null,null,"-",null,{"$f":"IF(H18=ja,IFERROR(VLOOKUP(D18,Tabelle_Nutzung,Nutzungen!$S$75,FALSE),no_value),no_value)","v":"-"},{"$f":"VLOOKUP($D18,Tabelle_Nutzung,Nutzungen!$BC$75,FALSE)","v":{"$error":"#N/A"}},{"$f":"VLOOKUP($D18,Tabelle_Nutzung,Nutzungen!$BB$75,FALSE)","v":{"$error":"#N/A"}},{"$f":"VLOOKUP($D18,Tabelle_Nutzung,Nutzungen!$BA$75,FALSE)","v":{"$error":"#N/A"}},{"$f":"IFERROR(VLOOKUP(D18,Tabelle_Nutzung,Nutzungen!$P$75,FALSE),no_value)","v":"-"},"-","-","-",null,{"$f":"IF(H18=ja,IFERROR(VLOOKUP(D18,Tabelle_Nutzung,Nutzungen!$O$75,FALSE),no_value),no_value)","v":"-"},"-","",null,"-","-","-","",null,"-",null,{"$f":"IF($AO$1=\"X\",IFERROR(VLOOKUP(D18,Tabelle_Nutzung,Nutzungen!$BM$75,FALSE),no_value),$AX$1)","v":"-"},"ja",{"$f":"IFERROR(IF(AND(AG18=ja,W18=pass,AB18=pass,AF18>=f_day_min,AF18<>\"\"),MAX(MIN(K_day_sub_max,AP18*K_day_sub_m+K_day_sub_b),K_day_sub_min),no_valu),no_value)","v":"-"},null,"ja",{"$f":"IFERROR(IF(AND(AJ18=ja,W18=pass,AB18=pass),MAX(MIN(K_pr_sub_max,AP18*K_pr_sub_m+K_pr_sub_b),K_pr_sub_min),no_valu),no_value)","v":"-"},null,"-",null,"-",0,0,{"$f":"IF($AO$1=\"X\",IFERROR(VLOOKUP($D18,Tabelle_Nutzung,Nutzungen!$G$75,FALSE),no_value),$AR$1)","v":"-"},{"$f":"IF($AO$1=\"X\",IFERROR(VLOOKUP($D18,Tabelle_Nutzung,Nutzungen!$I$75,FALSE),no_value),$AS$1)","v":"-"},{"$f":"IF($AO$1=\"X\",IFERROR(VLOOKUP($D18,Tabelle_Nutzung,Nutzungen!$J$75,FALSE),no_value),$AT$1)","v":"-"},{"$f":"IF($AO$1=\"X\",IFERROR(VLOOKUP(D18,Tabelle_Nutzung,Nutzungen!$R$75,FALSE),no_value),$AU$1)","v":"-"},{"$f":"IF(ISNUMBER(AU18),IF(AND(AU18>=0.9,D18<>Nutzungen!$B$93),1-AU18*0.95,1-AU18*0.5),no_value)","v":"-"},"-","-","-","-","-","-","-","-","-","-","-","-","-",0,"-","-",{"$f":"IFERROR(IF(AND(AG18=ja,W18=pass,AB18=pass),infla_Bel*MAX(MIN(K_day_inv_max,AP18*K_day_inv_m+K_day_inv_b),K_day_inv_min),no_valu),no_value)","v":"-"},{"$f":"IFERROR(IF(AND(AJ18=ja,W18=pass,AB18=pass),infla_Bel*MAX(MIN(K_pr_inv_max,AP18*K_pr_inv_m+K_pr_inv_b),K_pr_inv_min),no_valu),no_value)","v":"-"},"-","-","-","-","-","-","-","-","-","-",null,{"$f":"IF(I18=ja,VLOOKUP(D18,Tabelle_Nutzung,Nutzungen!$AA$75,FALSE),no_value)","v":"-"},null,"-","",null,"-",null,{"$f":"IF($AO$1=\"X\",IFERROR(VLOOKUP($D18,Tabelle_Nutzung,Nutzungen!$L$75,FALSE),no_value),$CG$1)","v":"-"},{"$f":"IFERROR(VLOOKUP(D18,Tabelle_Nutzung,Nutzungen!$BN$75,FALSE),no_value)","v":"-"},"-","-",{"$f":"IF($AO$1=\"X\",IFERROR(VLOOKUP($D18,Tabelle_Nutzung,Nutzungen!$K$75,FALSE),no_value),$CK$1)","v":"-"},"-",{"$f":"IFERROR(IF(VLOOKUP($D18,Tabelle_Nutzung,Nutzungen!$AK$75,FALSE)>15,ja,nein),no_value)","v":"-"},"-",{"$f":"IFERROR(IF(AND(CH18=1,CJ18>0),DATA_RLT!$AA$5,no_value),no_value)","v":"-"},{"$f":"IFERROR(IF(AND(CH18=1,CJ18>0),DATA_RLT!$AA$12,no_value),no_value)","v":"-"},"-","-","-","-","-","-","-","-",0,"-","-","-",0,"-","-",0,"-",0,"-","-","-"]
[null,15,"A16",null,null,null,null,null,null,"-",null,{"$f":"IF(H19=ja,IFERROR(VLOOKUP(D19,Tabelle_Nutzung,Nutzungen!$S$75,FALSE),no_value),no_value)","v":"-"},{"$f":"VLOOKUP($D19,Tabelle_Nutzung,Nutzungen!$BC$75,FALSE)","v":{"$error":"#N/A"}},{"$f":"VLOOKUP($D19,Tabelle_Nutzung,Nutzungen!$BB$75,FALSE)","v":{"$error":"#N/A"}},{"$f":"VLOOKUP($D19,Tabelle_Nutzung,Nutzungen!$BA$75,FALSE)","v":{"$error":"#N/A"}},{"$f":"IFERROR(VLOOKUP(D19,Tabelle_Nutzung,Nutzungen!$P$75,FALSE),no_value)","v":"-"},"-","-","-",null,{"$f":"IF(H19=ja,IFERROR(VLOOKUP(D19,Tabelle_Nutzung,Nutzungen!$O$75,FALSE),no_value),no_value)","v":"-"},"-","",null,"-","-","-","",null,"-",null,{"$f":"IF($AO$1=\"X\",IFERROR(VLOOKUP(D19,Tabelle_Nutzung,Nutzungen!$BM$75,FALSE),no_value),$AX$1)","v":"-"},"ja",{"$f":"IFERROR(IF(AND(AG19=ja,W19=pass,AB19=pass,AF19>=f_day_min,AF19<>\"\"),MAX(MIN(K_day_sub_max,AP19*K_day_sub_m+K_day_sub_b),K_day_sub_min),no_valu),no_value)","v":"-"},null,"ja",{"$f":"IFERROR(IF(AND(AJ19=ja,W19=pass,AB19=pass),MAX(MIN(K_pr_sub_max,AP19*K_pr_sub_m+K_pr_sub_b),K_pr_sub_min),no_valu),no_value)","v":"-"},null,"-",null,"-",0,0,{"$f":"IF($AO$1=\"X\",IFERROR(VLOOKUP($D19,Tabelle_Nutzung,Nutzungen!$G$75,FALSE),no_value),$AR$1)","v":"-"},{"$f":"IF($AO$1=\"X\",IFERROR(VLOOKUP($D19,Tabelle_Nutzung,Nutzungen!$I$75,FALSE),no_value),$AS$1)","v":"-"},{"$f":"IF($AO$1=\"X\",IFERROR(VLOOKUP($D19,Tabelle_Nutzung,Nutzungen!$J$75,FALSE),no_value),$AT$1)","v":"-"},{"$f":"IF($AO$1=\"X\",IFERROR(VLOOKUP(D19,Tabelle_Nutzung,Nutzungen!$R$75,FALSE),no_value),$AU$1)","v":"-"},{"$f":"IF(ISNUMBER(AU19),IF(AND(AU19>=0.9,D19<>Nutzungen!$B$93),1-AU19*0.95,1-AU19*0.5),no_value)","v":"-"},"-","-","-","-","-","-","-","-","-","-","-","-","-",0,"-","-",{"$f":"IFERROR(IF(AND(AG19=ja,W19=pass,AB19=pass),infla_Bel*MAX(MIN(K_day_inv_max,AP19*K_day_inv_m+K_day_inv_b),K_day_inv_min),no_valu),no_value)","v":"-"},{"$f":"IFERROR(IF(AND(AJ19=ja,W19=pass,AB19=pass),infla_Bel*MAX(MIN(K_pr_inv_max,AP19*K_pr_inv_m+K_pr_inv_b),K_pr_inv_min),no_valu),no_value)","v":"-"},"-","-","-","-","-","-","-","-","-","-",null,{"$f":"IF(I19=ja,VLOOKUP(D19,Tabelle_Nutzung,Nutzungen!$AA$75,FALSE),no_value)","v":"-"},null,"-","",null,"-",null,{"$f":"IF($AO$1=\"X\",IFERROR(VLOOKUP($D19,Tabelle_Nutzung,Nutzungen!$L$75,FALSE),no_value),$CG$1)","v":"-"},{"$f":"IFERROR(VLOOKUP(D19,Tabelle_Nutzung,Nutzungen!$BN$75,FALSE),no_value)","v":"-"},"-","-",{"$f":"IF($AO$1=\"X\",IFERROR(VLOOKUP($D19,Tabelle_Nutzung,Nutzungen!$K$75,FALSE),no_value),$CK$1)","v":"-"},"-",{"$f":"IFERROR(IF(VLOOKUP($D19,Tabelle_Nutzung,Nutzungen!$AK$75,FALSE)>15,ja,nein),no_value)","v":"-"},"-",{"$f":"IFERROR(IF(AND(CH19=1,CJ19>0),DATA_RLT!$AA$5,no_value),no_value)","v":"-"},{"$f":"IFERROR(IF(AND(CH19=1,CJ19>0),DATA_RLT!$AA$12,no_value),no_value)","v":"-"},"-","-","-","-","-","-","-","-",0,"-","-","-",0,"-","-",0,"-",0,"-","-","-"]
[null,16,"A17",null,null,null,null,null,null,"-",null,{"$f":"IF(H20=ja,IFERROR(VLOOKUP(D20,Tabelle_Nutzung,Nutzungen!$S$75,FALSE),no_value),no_value)","v":"-"},{"$f":"VLOOKUP($D20,Tabelle_Nutzung,Nutzungen!$BC$75,FALSE)","v":{"$error":"#N/A"}},{"$f":"VLOOKUP($D20,Tabelle_Nutzung,Nutzungen!$BB$75,FALSE)","v":{"$error":"#N/A"}},{"$f":"VLOOKUP($D20,Tabelle_Nutzung,Nutzungen!$BA$75,FALSE)","v":{"$error":"#N/A"}},{"$f":"IFERROR(VLOOKUP(D20,Tabelle_Nutzung,Nutzungen!$P$75,FALSE),no_value)","v":"-"},"-","-","-",null,{"$f":"IF(H20=ja,IFERROR(VLOOKUP(D20,Tabelle_Nutzung,Nutzungen!$O$75,FALSE),no_value),no_value)","v":"-"},"-","",null,"-","-","-","",null,"-",null,{"$f":"IF($AO$1=\"X\",IFERROR(VLOOKUP(D20,Tabelle_Nutzung,Nutzungen!$BM$75,FALSE),no_value),$AX$1)","v":"-"},"ja",{"$f":"IFERROR(IF(AND(AG20=ja,W20=pass,AB20=pass,AF20>=f_day_min,AF20<>\"\"),MAX(MIN(K_day_sub_max,AP20*K_day_sub_m+K_day_sub_b),K_day_sub_min),no_valu),no_value)","v":"-"},null,"ja",{"$f":"IFERROR(IF(AND(AJ20=ja,W20=pass,AB20=pass),MAX(MIN(K_pr_sub_max,AP20*K_pr_sub_m+K_pr_sub_b),K_pr_sub_min),no_valu),no_value)","v":"-"},null,"-",null,"-",0,0,{"$f":"IF($AO$1=\"X\",IFERROR(VLOOKUP($D20,Tabelle_Nutzung,Nutzungen!$G$75,FALSE),no_value),$AR$1)","v":"-"},{"$f":"IF($AO$1=\"X\",IFERROR(VLOOKUP($D20,Tabelle_Nutzung,Nutzungen!$I$75,FALSE),no_value),$AS$1)","v":"-"},{"$f":"IF($AO$1=\"X\",IFERROR(VLOOKUP($D20,Tabelle_Nutzung,Nutzungen!$J$75,FALSE),no_value),$AT$1)","v":"-"},{"$f":"IF($AO$1=\"X\",IFERROR(VLOOKUP(D20,Tabelle_Nutzung,Nutzungen!$R$75,FALSE),no_value),$AU$1)","v":"-"},{"$f":"IF(ISNUMBER(AU20),IF(AND(AU20>=0.9,D20<>Nutzungen!$B$93),1-AU20*0.95,1-AU20*0.5),no_value)","v":"-"},"-","-","-","-","-","-","-","-","-","-","-","-","-",0,"-","-",{"$f":"IFERROR(IF(AND(AG20=ja,W20=pass,AB20=pass),infla_Bel*MAX(MIN(K_day_inv_max,AP20*K_day_inv_m+K_day_inv_b),K_day_inv_min),no_valu),no_value)","v":"-"},{"$f":"IFERROR(IF(AND(AJ20=ja,W20=pass,AB20=pass),infla_Bel*MAX(MIN(K_pr_inv_max,AP20*K_pr_inv_m+K_pr_inv_b),K_pr_inv_min),no_valu),no_value)","v":"-"},"-","-","-","-","-","-","-","-","-","-",null,{"$f":"IF(I20=ja,VLOOKUP(D20,Tabelle_Nutzung,Nutzungen!$AA$75,FALSE),no_value)","v":"-"},null,"-","",null,"-",null,{"$f":"IF($AO$1=\"X\",IFERROR(VLOOKUP($D20,Tabelle_Nutzung,Nutzungen!$L$75,FALSE),no_value),$CG$1)","v":"-"},{"$f":"IFERROR(VLOOKUP(D20,Tabelle_Nutzung,Nutzungen!$BN$75,FALSE),no_value)","v":"-"},"-","-",{"$f":"IF($AO$1=\"X\",IFERROR(VLOOKUP($D20,Tabelle_Nutzung,Nutzungen!$K$75,FALSE),no_value),$CK$1)","v":"-"},"-",{"$f":"IFERROR(IF(VLOOKUP($D20,Tabelle_Nutzung,Nutzungen!$AK$75,FALSE)>15,ja,nein),no_value)","v":"-"},"-",{"$f":"IFERROR(IF(AND(CH20=1,CJ20>0),DATA_RLT!$AA$5,no_value),no_value)","v":"-"},{"$f":"IFERROR(IF(AND(CH20=1,CJ20>0),DATA_RLT!$AA$12,no_value),no_value)","v":"-"},"-","-","-","-","-","-","-","-",0,"-","-","-",0,"-","-",0,"-",0,"-","-","-"]
[null,17,"A18",null,null,null,null,null,null,"-",null,{"$f":"IF(H21=ja,IFERROR(VLOOKUP(D21,Tabelle_Nutzung,Nutzungen!$S$75,FALSE),no_value),no_value)","v":"-"},{"$f":"VLOOKUP($D21,Tabelle_Nutzung,Nutzungen!$BC$75,FALSE)","v":{"$error":"#N/A"}},{"$f":"VLOOKUP($D21,Tabelle_Nutzung,Nutzungen!$BB$75,FALSE)","v":{"$error":"#N/A"}},{"$f":"VLOOKUP($D21,Tabelle_Nutzung,Nutzungen!$BA$75,FALSE)","v":{"$error":"#N/A"}},{"$f":"IFERROR(VLOOKUP(D21,Tabelle_Nutzung,Nutzungen!$P$75,FALSE),no_value)","v":"-"},"-","-","-",null,{"$f":"IF(H21=ja,IFERROR(VLOOKUP(D21,Tabelle_Nutzung,Nutzungen!$O$75,FALSE),no_value),no_value)","v":"-"},"-","",null,"-","-","-","",null,"-",null,{"$f":"IF($AO$1=\"X\",IFERROR(VLOOKUP(D21,Tabelle_Nutzung,Nutzungen!$BM$75,FALSE),no_value),$AX$1)","v":"-"},"ja",{"$f":"IFERROR(IF(AND(AG21=ja,W21=pass,AB21=pass,AF21>=f_day_min,AF21<>\"\"),MAX(MIN(K_day_sub_max,AP21*K_day_sub_m+K_day_sub_b),K_day_sub_min),no_valu),no_value)","v":"-"},null,"ja",{"$f":"IFERROR(IF(AND(AJ21=ja,W21=pass,AB21=pass),MAX(MIN(K_pr_sub_max,AP21*K_pr_sub_m+K_pr_sub_b),K_pr_sub_min),no_valu),no_value)","v":"-"},null,"-",null,"-",0,0,{"$f":"IF($AO$1=\"X\",IFERROR(VLOOKUP($D21,Tabelle_Nutzung,Nutzungen!$G$75,FALSE),no_value),$AR$1)","v":"-"},{"$f":"IF($AO$1=\"X\",IFERROR(VLOOKUP($D21,Tabelle_Nutzung,Nutzungen!$I$75,FALSE),no_value),$AS$1)","v":"-"},{"$f":"IF($AO$1=\"X\",IFERROR(VLOOKUP($D21,Tabelle_Nutzung,Nutzungen!$J$75,FALSE),no_value),$AT$1)","v":"-"},{"$f":"IF($AO$1=\"X\",IFERROR(VLOOKUP(D21,Tabelle_Nutzung,Nutzungen!$R$75,FALSE),no_value),$AU$1)","v":"-"},{"$f":"IF(ISNUMBER(AU21),IF(AND(AU21>=0.9,D21<>Nutzungen!$B$93),1-AU21*0.95,1-AU21*0.5),no_value)","v":"-"},"-","-","-","-","-","-","-","-","-","-","-","-","-",0,"-","-",{"$f":"IFERROR(IF(AND(AG21=ja,W21=pass,AB21=pass),infla_Bel*MAX(MIN(K_day_inv_max,AP21*K_day_inv_m+K_day_inv_b),K_day_inv_min),no_valu),no_value)","v":"-"},{"$f":"IFERROR(IF(AND(AJ21=ja,W21=pass,AB21=pass),infla_Bel*MAX(MIN(K_pr_inv_max,AP21*K_pr_inv_m+K_pr_inv_b),K_pr_inv_min),no_valu),no_value)","v":"-"},"-","-","-","-","-","-","-","-","-","-",null,{"$f":"IF(I21=ja,VLOOKUP(D21,Tabelle_Nutzung,Nutzungen!$AA$75,FALSE),no_value)","v":"-"},null,"-","",null,"-",null,{"$f":"IF($AO$1=\"X\",IFERROR(VLOOKUP($D21,Tabelle_Nutzung,Nutzungen!$L$75,FALSE),no_value),$CG$1)","v":"-"},{"$f":"IFERROR(VLOOKUP(D21,Tabelle_Nutzung,Nutzungen!$BN$75,FALSE),no_value)","v":"-"},"-","-",{"$f":"IF($AO$1=\"X\",IFERROR(VLOOKUP($D21,Tabelle_Nutzung,Nutzungen!$K$75,FALSE),no_value),$CK$1)","v":"-"},"-",{"$f":"IFERROR(IF(VLOOKUP($D21,Tabelle_Nutzung,Nutzungen!$AK$75,FALSE)>15,ja,nein),no_value)","v":"-"},"-",{"$f":"IFERROR(IF(AND(CH21=1,CJ21>0),DATA_RLT!$AA$5,no_value),no_value)","v":"-"},{"$f":"IFERROR(IF(AND(CH21=1,CJ21>0),DATA_RLT!$AA$12,no_value),no_value)","v":"-"},"-","-","-","-","-","-","-","-",0,"-","-","-",0,"-","-",0,"-",0,"-","-","-"]
[null,18,"A19",null,null,null,null,null,null,"-",null,{"$f":"IF(H22=ja,IFERROR(VLOOKUP(D22,Tabelle_Nutzung,Nutzungen!$S$75,FALSE),no_value),no_value)","v":"-"},{"$f":"VLOOKUP($D22,Tabelle_Nutzung,Nutzungen!$BC$75,FALSE)","v":{"$error":"#N/A"}},{"$f":"VLOOKUP($D22,Tabelle_Nutzung,Nutzungen!$BB$75,FALSE)","v":{"$error":"#N/A"}},{"$f":"VLOOKUP($D22,Tabelle_Nutzung,Nutzungen!$BA$75,FALSE)","v":{"$error":"#N/A"}},{"$f":"IFERROR(VLOOKUP(D22,Tabelle_Nutzung,Nutzungen!$P$75,FALSE),no_value)","v":"-"},"-","-","-",null,{"$f":"IF(H22=ja,IFERROR(VLOOKUP(D22,Tabelle_Nutzung,Nutzungen!$O$75,FALSE),no_value),no_value)","v":"-"},"-","",null,"-","-","-","",null,"-",null,{"$f":"IF($AO$1=\"X\",IFERROR(VLOOKUP(D22,Tabelle_Nutzung,Nutzungen!$BM$75,FALSE),no_value),$AX$1)","v":"-"},"ja",{"$f":"IFERROR(IF(AND(AG22=ja,W22=pass,AB22=pass,AF22>=f_day_min,AF22<>\"\"),MAX(MIN(K_day_sub_max,AP22*K_day_sub_m+K_day_sub_b),K_day_sub_min),no_valu),no_value)","v":"-"},null,"ja",{"$f":"IFERROR(IF(AND(AJ22=ja,W22=pass,AB22=pass),MAX(MIN(K_pr_sub_max,AP22*K_pr_sub_m+K_pr_sub_b),K_pr_sub_min),no_valu),no_value)","v":"-"},null,"-",null,"-",0,0,{"$f":"IF($AO$1=\"X\",IFERROR(VLOOKUP($D22,Tabelle_Nutzung,Nutzungen!$G$75,FALSE),no_value),$AR$1)","v":"-"},{"$f":"IF($AO$1=\"X\",IFERROR(VLOOKUP($D22,Tabelle_Nutzung,Nutzungen!$I$75,FALSE),no_value),$AS$1)","v":"-"},{"$f":"IF($AO$1=\"X\",IFERROR(VLOOKUP($D22,Tabelle_Nutzung,Nutzungen!$J$75,FALSE),no_value),$AT$1)","v":"-"},{"$f":"IF($AO$1=\"X\",IFERROR(VLOOKUP(D22,Tabelle_Nutzung,Nutzungen!$R$75,FALSE),no_value),$AU$1)","v":"-"},{"$f":"IF(ISNUMBER(AU22),IF(AND(AU22>=0.9,D22<>Nutzungen!$B$93),1-AU22*0.95,1-AU22*0.5),no_value)","v":"-"},"-","-","-","-","-","-","-","-","-","-","-","-","-",0,"-","-",{"$f":"IFERROR(IF(AND(AG22=ja,W22=pass,AB22=pass),infla_Bel*MAX(MIN(K_day_inv_max,AP22*K_day_inv_m+K_day_inv_b),K_day_inv_min),no_valu),no_value)","v":"-"},{"$f":"IFERROR(IF(AND(AJ22=ja,W22=pass,AB22=pass),infla_Bel*MAX(MIN(K_pr_inv_max,AP22*K_pr_inv_m+K_pr_inv_b),K_pr_inv_min),no_valu),no_value)","v":"-"},"-","-","-","-","-","-","-","-","-","-",null,{"$f":"IF(I22=ja,VLOOKUP(D22,Tabelle_Nutzung,Nutzungen!$AA$75,FALSE),no_value)","v":"-"},null,"-","",null,"-",null,{"$f":"IF($AO$1=\"X\",IFERROR(VLOOKUP($D22,Tabelle_Nutzung,Nutzungen!$L$75,FALSE),no_value),$CG$1)","v":"-"},{"$f":"IFERROR(VLOOKUP(D22,Tabelle_Nutzung,Nutzungen!$BN$75,FALSE),no_value)","v":"-"},"-","-",{"$f":"IF($AO$1=\"X\",IFERROR(VLOOKUP($D22,Tabelle_Nutzung,Nutzungen!$K$75,FALSE),no_value),$CK$1)","v":"-"},"-",{"$f":"IFERROR(IF(VLOOKUP($D22,Tabelle_Nutzung,Nutzungen!$AK$75,FALSE)>15,ja,nein),no_value)","v":"-"},"-",{"$f":"IFERROR(IF(AND(CH22=1,CJ22>0),DATA_RLT!$AA$5,no_value),no_value)","v":"-"},{"$f":"IFERROR(IF(AND(CH22=1,CJ22>0),DATA_RLT!$AA$12,no_value),no_value)","v":"-"},"-","-","-","-","-","-","-","-",0,"-","-","-",0,"-","-",0,"-",0,"-","-","-"]
[null,19,"A20",null,null,null,null,null,null,"-",null,{"$f":"IF(H23=ja,IFERROR(VLOOKUP(D23,Tabelle_Nutzung,Nutzungen!$S$75,FALSE),no_value),no_value)","v":"-"},{"$f":"VLOOKUP($D23,Tabelle_Nutzung,Nutzungen!$BC$75,FALSE)","v":{"$error":"#N/A"}},{"$f":"VLOOKUP($D23,Tabelle_Nutzung,Nutzungen!$BB$75,FALSE)","v":{"$error":"#N/A"}},{"$f":"VLOOKUP($D23,Tabelle_Nutzung,Nutzungen!$BA$75,FALSE)","v":{"$error":"#N/A"}},{"$f":"IFERROR(VLOOKUP(D23,Tabelle_Nutzung,Nutzungen!$P$75,FALSE),no_value)","v":"-"},"-","-","-",null,{"$f":"IF(H23=ja,IFERROR(VLOOKUP(D23,Tabelle_Nutzung,Nutzungen!$O$75,FALSE),no_value),no_value)","v":"-"},"-","",null,"-","-","-","",null,"-",null,{"$f":"IF($AO$1=\"X\",IFERROR(VLOOKUP(D23,Tabelle_Nutzung,Nutzungen!$BM$75,FALSE),no_value),$AX$1)","v":"-"},"ja",{"$f":"IFERROR(IF(AND(AG23=ja,W23=pass,AB23=pass,AF23>=f_day_min,AF23<>\"\"),MAX(MIN(K_day_sub_max,AP23*K_day_sub_m+K_day_sub_b),K_day_sub_min),no_valu),no_value)","v":"-"},null,"ja",{"$f":"IFERROR(IF(AND(AJ23=ja,W23=pass,AB23=pass),MAX(MIN(K_pr_sub_max,AP23*K_pr_sub_m+K_pr_sub_b),K_pr_sub_min),no_valu),no_value)","v":"-"},null,"-",null,"-",0,0,{"$f":"IF($AO$1=\"X\",IFERROR(VLOOKUP($D23,Tabelle_Nutzung,Nutzungen!$G$75,FALSE),no_value),$AR$1)","v":"-"},{"$f":"IF($AO$1=\"X\",IFERROR(VLOOKUP($D23,Tabelle_Nutzung,Nutzungen!$I$75,FALSE),no_value),$AS$1)","v":"-"},{"$f":"IF($AO$1=\"X\",IFERROR(VLOOKUP($D23,Tabelle_Nutzung,Nutzungen!$J$75,FALSE),no_value),$AT$1)","v":"-"},{"$f":"IF($AO$1=\"X\",IFERROR(VLOOKUP(D23,Tabelle_Nutzung,Nutzungen!$R$75,FALSE),no_value),$AU$1)","v":"-"},{"$f":"IF(ISNUMBER(AU23),IF(AND(AU23>=0.9,D23<>Nutzungen!$B$93),1-AU23*0.95,1-AU23*0.5),no_value)","v":"-"},"-","-","-","-","-","-","-","-","-","-","-","-","-",0,"-","-",{"$f":"IFERROR(IF(AND(AG23=ja,W23=pass,AB23=pass),infla_Bel*MAX(MIN(K_day_inv_max,AP23*K_day_inv_m+K_day_inv_b),K_day_inv_min),no_valu),no_value)","v":"-"},{"$f":"IFERROR(IF(AND(AJ23=ja,W23=pass,AB23=pass),infla_Bel*MAX(MIN(K_pr_inv_max,AP23*K_pr_inv_m+K_pr_inv_b),K_pr_inv_min),no_valu),no_value)","v":"-"},"-","-","-","-","-","-","-","-","-","-",null,{"$f":"IF(I23=ja,VLOOKUP(D23,Tabelle_Nutzung,Nutzungen!$AA$75,FALSE),no_value)","v":"-"},null,"-","",null,"-",null,{"$f":"IF($AO$1=\"X\",IFERROR(VLOOKUP($D23,Tabelle_Nutzung,Nutzungen!$L$75,FALSE),no_value),$CG$1)","v":"-"},{"$f":"IFERROR(VLOOKUP(D23,Tabelle_Nutzung,Nutzungen!$BN$75,FALSE),no_value)","v":"-"},"-","-",{"$f":"IF($AO$1=\"X\",IFERROR(VLOOKUP($D23,Tabelle_Nutzung,Nutzungen!$K$75,FALSE),no_value),$CK$1)","v":"-"},"-",{"$f":"IFERROR(IF(VLOOKUP($D23,Tabelle_Nutzung,Nutzungen!$AK$75,FALSE)>15,ja,nein),no_value)","v":"-"},"-",{"$f":"IFERROR(IF(AND(CH23=1,CJ23>0),DATA_RLT!$AA$5,no_value),no_value)","v":"-"},{"$f":"IFERROR(IF(AND(CH23=1,CJ23>0),DATA_RLT!$AA$12,no_value),no_value)","v":"-"},"-","-","-","-","-","-","-","-",0,"-","-","-",0,"-","-",0,"-",0,"-","-","-"]
[null,20,"A22",null,null,null,null,null,null,{"$f":"IFERROR(IF(AND(ISNUMBER(F24),ISNUMBER(G24)),F24*G24,no_value),no_value)","v":"-"},null,{"$f":"IF(H24=ja,IFERROR(VLOOKUP(D24,Tabelle_Nutzung,Nutzungen!$S$75,FALSE),no_value),no_value)","v":"-"},{"$f":"VLOOKUP($D24,Tabelle_Nutzung,Nutzungen!$BC$75,FALSE)","v":{"$error":"#N/A"}},{"$f":"VLOOKUP($D24,Tabelle_Nutzung,Nutzungen!$BB$75,FALSE)","v":{"$error":"#N/A"}},{"$f":"VLOOKUP($D24,Tabelle_Nutzung,Nutzungen!$BA$75,FALSE)","v":{"$error":"#N/A"}},{"$f":"IFERROR(VLOOKUP(D24,Tabelle_Nutzung,Nutzungen!$P$75,FALSE),no_value)","v":"-"},"-","-","-",null,{"$f":"IF(H24=ja,IFERROR(VLOOKUP(D24,Tabelle_Nutzung,Nutzungen!$O$75,FALSE),no_value),no_value)","v":"-"},"-","",null,"-","-","-","",null,"-",null,{"$f":"IF($AO$1=\"X\",IFERROR(VLOOKUP(D24,Tabelle_Nutzung,Nutzungen!$BM$75,FALSE),no_value),$AX$1)","v":"-"},"ja",{"$f":"IFERROR(IF(AND(AG24=ja,W24=pass,AB24=pass,AF24>=f_day_min,AF24<>\"\"),MAX(MIN(K_day_sub_max,AP24*K_day_sub_m+K_day_sub_b),K_day_sub_min),no_valu),no_value)","v":"-"},null,"ja",{"$f":"IFERROR(IF(AND(AJ24=ja,W24=pass,AB24=pass),MAX(MIN(K_pr_sub_max,AP24*K_pr_sub_m+K_pr_sub_b),K_pr_sub_min),no_valu),no_value)","v":"-"},null,{"$f":"IFERROR(IF(ROUND(SUM(AD24,AH24,AK24)*J24,-1)>0,ROUND(SUM(AD24,AH24,AK24)*J24,-1),no_value),no_value)","v":"-"},null,"-",0,0,{"$f":"IF($AO$1=\"X\",IFERROR(VLOOKUP($D24,Tabelle_Nutzung,Nutzungen!$G$75,FALSE),no_value),$AR$1)","v":"-"},{"$f":"IF($AO$1=\"X\",IFERROR(VLOOKUP($D24,Tabelle_Nutzung,Nutzungen!$I$75,FALSE),no_value),$AS$1)","v":"-"},{"$f":"IF($AO$1=\"X\",IFERROR(VLOOKUP($D24,Tabelle_Nutzung,Nutzungen!$J$75,FALSE),no_value),$AT$1)","v":"-"},{"$f":"IF($AO$1=\"X\",IFERROR(VLOOKUP(D24,Tabelle_Nutzung,Nutzungen!$R$75,FALSE),no_value),$AU$1)","v":"-"},{"$f":"IF(ISNUMBER(AU24),IF(AND(AU24>=0.9,D24<>Nutzungen!$B$93),1-AU24*0.95,1-AU24*0.5),no_value)","v":"-"},"-","-","-","-","-","-","-","-","-","-","-","-","-",0,"-","-",{"$f":"IFERROR(IF(AND(AG24=ja,W24=pass,AB24=pass),infla_Bel*MAX(MIN(K_day_inv_max,AP24*K_day_inv_m+K_day_inv_b),K_day_inv_min),no_valu),no_value)","v":"-"},{"$f":"IFERROR(IF(AND(AJ24=ja,W24=pass,AB24=pass),infla_Bel*MAX(MIN(K_pr_inv_max,AP24*K_pr_inv_m+K_pr_inv_b),K_pr_inv_min),no_valu),no_value)","v":"-"},"-","-","-","-","-","-","-","-","-","-",null,{"$f":"IF(I24=ja,VLOOKUP(D24,Tabelle_Nutzung,Nutzungen!$AA$75,FALSE),no_value)","v":"-"},null,"-","",null,"-",null,{"$f":"IF($AO$1=\"X\",IFERROR(VLOOKUP($D24,Tabelle_Nutzung,Nutzungen!$L$75,FALSE),no_value),$CG$1)","v":"-"},{"$f":"IFERROR(VLOOKUP(D24,Tabelle_Nutzung,Nutzungen!$BN$75,FALSE),no_value)","v":"-"},"-","-",{"$f":"IF($AO$1=\"X\",IFERROR(VLOOKUP($D24,Tabelle_Nutzung,Nutzungen!$K$75,FALSE),no_value),$CK$1)","v":"-"},"-",{"$f":"IFERROR(IF(VLOOKUP($D24,Tabelle_Nutzung,Nutzungen!$AK$75,FALSE)>15,ja,nein),no_value)","v":"-"},"-",{"$f":"IFERROR(IF(AND(CH24=1,CJ24>0),DATA_RLT!$AA$5,no_value),no_value)","v":"-"},{"$f":"IFERROR(IF(AND(CH24=1,CJ24>0),DATA_RLT!$AA$12,no_value),no_value)","v":"-"},"-","-","-","-","-","-","-","-",0,"-","-","-",0,"-","-",0,"-",0,"-","-","-"]
[null,21,"A21",null,null,null,null,null,null,"-",null,{"$f":"IF(H25=ja,IFERROR(VLOOKUP(D25,Tabelle_Nutzung,Nutzungen!$S$75,FALSE),no_value),no_value)","v":"-"},{"$f":"VLOOKUP($D25,Tabelle_Nutzung,Nutzungen!$BC$75,FALSE)","v":{"$error":"#N/A"}},{"$f":"VLOOKUP($D25,Tabelle_Nutzung,Nutzungen!$BB$75,FALSE)","v":{"$error":"#N/A"}},{"$f":"VLOOKUP($D25,Tabelle_Nutzung,Nutzungen!$BA$75,FALSE)","v":{"$error":"#N/A"}},{"$f":"IFERROR(VLOOKUP(D25,Tabelle_Nutzung,Nutzungen!$P$75,FALSE),no_value)","v":"-"},"-","-","-",null,{"$f":"IF(H25=ja,IFERROR(VLOOKUP(D25,Tabelle_Nutzung,Nutzungen!$O$75,FALSE),no_value),no_value)","v":"-"},"-","",null,"-","-","-","",null,"-",null,{"$f":"IF($AO$1=\"X\",IFERROR(VLOOKUP(D25,Tabelle_Nutzung,Nutzungen!$BM$75,FALSE),no_value),$AX$1)","v":"-"},"ja",{"$f":"IFERROR(IF(AND(AG25=ja,W25=pass,AB25=pass,AF25>=f_day_min,AF25<>\"\"),MAX(MIN(K_day_sub_max,AP25*K_day_sub_m+K_day_sub_b),K_day_sub_min),no_valu),no_value)","v":"-"},null,"ja",{"$f":"IFERROR(IF(AND(AJ25=ja,W25=pass,AB25=pass),MAX(MIN(K_pr_sub_max,AP25*K_pr_sub_m+K_pr_sub_b),K_pr_sub_min),no_valu),no_value)","v":"-"},null,"-",null,"-",0,0,{"$f":"IF($AO$1=\"X\",IFERROR(VLOOKUP($D25,Tabelle_Nutzung,Nutzungen!$G$75,FALSE),no_value),$AR$1)","v":"-"},{"$f":"IF($AO$1=\"X\",IFERROR(VLOOKUP($D25,Tabelle_Nutzung,Nutzungen!$I$75,FALSE),no_value),$AS$1)","v":"-"},{"$f":"IF($AO$1=\"X\",IFERROR(VLOOKUP($D25,Tabelle_Nutzung,Nutzungen!$J$75,FALSE),no_value),$AT$1)","v":"-"},{"$f":"IF($AO$1=\"X\",IFERROR(VLOOKUP(D25,Tabelle_Nutzung,Nutzungen!$R$75,FALSE),no_value),$AU$1)","v":"-"},{"$f":"IF(ISNUMBER(AU25),IF(AND(AU25>=0.9,D25<>Nutzungen!$B$93),1-AU25*0.95,1-AU25*0.5),no_value)","v":"-"},"-","-",{"$f":"IF(ISNUMBER($AX25),IF($AF25>=$AX25,AY$4,0.5*(11-AY$4)*COS(PI()*$AF25/$AX25)+0.5*(11+AY$4)),no_value)","v":"-"},"-","-","-","-","-","-","-","-","-","-",0,"-","-",{"$f":"IFERROR(IF(AND(AG25=ja,W25=pass,AB25=pass),infla_Bel*MAX(MIN(K_day_inv_max,AP25*K_day_inv_m+K_day_inv_b),K_day_inv_min),no_valu),no_value)","v":"-"},{"$f":"IFERROR(IF(AND(AJ25=ja,W25=pass,AB25=pass),infla_Bel*MAX(MIN(K_pr_inv_max,AP25*K_pr_inv_m+K_pr_inv_b),K_pr_inv_min),no_valu),no_value)","v":"-"},"-","-","-","-","-","-","-","-","-","-",null,{"$f":"IF(I25=ja,VLOOKUP(D25,Tabelle_Nutzung,Nutzungen!$AA$75,FALSE),no_value)","v":"-"},null,"-","",null,"-",null,{"$f":"IF($AO$1=\"X\",IFERROR(VLOOKUP($D25,Tabelle_Nutzung,Nutzungen!$L$75,FALSE),no_value),$CG$1)","v":"-"},{"$f":"IFERROR(VLOOKUP(D25,Tabelle_Nutzung,Nutzungen!$BN$75,FALSE),no_value)","v":"-"},"-","-",{"$f":"IF($AO$1=\"X\",IFERROR(VLOOKUP($D25,Tabelle_Nutzung,Nutzungen!$K$75,FALSE),no_value),$CK$1)","v":"-"},"-",{"$f":"IFERROR(IF(VLOOKUP($D25,Tabelle_Nutzung,Nutzungen!$AK$75,FALSE)>15,ja,nein),no_value)","v":"-"},"-",{"$f":"IFERROR(IF(AND(CH25=1,CJ25>0),DATA_RLT!$AA$5,no_value),no_value)","v":"-"},{"$f":"IFERROR(IF(AND(CH25=1,CJ25>0),DATA_RLT!$AA$12,no_value),no_value)","v":"-"},"-","-","-","-","-","-","-","-",0,"-","-","-",0,"-","-",0,"-",0,"-","-","-"]
[null,22,"A22",null,null,null,null,null,null,{"$f":"IFERROR(IF(AND(ISNUMBER(F26),ISNUMBER(G26)),F26*G26,no_value),no_value)","v":"-"},null,{"$f":"IF(H26=ja,IFERROR(VLOOKUP(D26,Tabelle_Nutzung,Nutzungen!$S$75,FALSE),no_value),no_value)","v":"-"},{"$f":"VLOOKUP($D26,Tabelle_Nutzung,Nutzungen!$BC$75,FALSE)","v":{"$error":"#N/A"}},{"$f":"VLOOKUP($D26,Tabelle_Nutzung,Nutzungen!$BB$75,FALSE)","v":{"$error":"#N/A"}},{"$f":"VLOOKUP($D26,Tabelle_Nutzung,Nutzungen!$BA$75,FALSE)","v":{"$error":"#N/A"}},{"$f":"IFERROR(VLOOKUP(D26,Tabelle_Nutzung,Nutzungen!$P$75,FALSE),no_value)","v":"-"},"-","-","-",null,{"$f":"IF(H26=ja,IFERROR(VLOOKUP(D26,Tabelle_Nutzung,Nutzungen!$O$75,FALSE),no_value),no_value)","v":"-"},"-","",null,"-","-","-","",null,"-",null,{"$f":"IF($AO$1=\"X\",IFERROR(VLOOKUP(D26,Tabelle_Nutzung,Nutzungen!$BM$75,FALSE),no_value),$AX$1)","v":"-"},"ja",{"$f":"IFERROR(IF(AND(AG26=ja,W26=pass,AB26=pass,AF26>=f_day_min,AF26<>\"\"),MAX(MIN(K_day_sub_max,AP26*K_day_sub_m+K_day_sub_b),K_day_sub_min),no_valu),no_value)","v":"-"},null,"ja",{"$f":"IFERROR(IF(AND(AJ26=ja,W26=pass,AB26=pass),MAX(MIN(K_pr_sub_max,AP26*K_pr_sub_m+K_pr_sub_b),K_pr_sub_min),no_valu),no_value)","v":"-"},null,{"$f":"IFERROR(IF(ROUND(SUM(AD26,AH26,AK26)*J26,-1)>0,ROUND(SUM(AD26,AH26,AK26)*J26,-1),no_value),no_value)","v":"-"},null,"-",0,0,{"$f":"IF($AO$1=\"X\",IFERROR(VLOOKUP($D26,Tabelle_Nutzung,Nutzungen!$G$75,FALSE),no_value),$AR$1)","v":"-"},{"$f":"IF($AO$1=\"X\",IFERROR(VLOOKUP($D26,Tabelle_Nutzung,Nutzungen!$I$75,FALSE),no_value),$AS$1)","v":"-"},{"$f":"IF($AO$1=\"X\",IFERROR(VLOOKUP($D26,Tabelle_Nutzung,Nutzungen!$J$75,FALSE),no_value),$AT$1)","v":"-"},{"$f":"IF($AO$1=\"X\",IFERROR(VLOOKUP(D26,Tabelle_Nutzung,Nutzungen!$R$75,FALSE),no_value),$AU$1)","v":"-"},{"$f":"IF(ISNUMBER(AU26),IF(AND(AU26>=0.9,D26<>Nutzungen!$B$93),1-AU26*0.95,1-AU26*0.5),no_value)","v":"-"},{"$f":"IF(ISNUMBER(AU26),1-AU26*0.95,no_value)","v":"-"},"-","-","-","-","-","-","-",{"$f":"IF(AND(AG26=ja,AJ26=ja),BD26,IF(AG26=ja,BC26,IF(AJ26=ja,BB26,BA26)))","v":"-"},"-",{"$f":"IFERROR(AO26*BA26/1000,no_value)","v":"-"},"-",{"$f":"IFERROR(BG26-BH26,no_value)","v":"-"},0,"-","-",{"$f":"IFERROR(IF(AND(AG26=ja,W26=pass,AB26=pass),infla_Bel*MAX(MIN(K_day_inv_max,AP26*K_day_inv_m+K_day_inv_b),K_day_inv_min),no_valu),no_value)","v":"-"},{"$f":"IFERROR(IF(AND(AJ26=ja,W26=pass,AB26=pass),infla_Bel*MAX(MIN(K_pr_inv_max,AP26*K_pr_inv_m+K_pr_inv_b),K_pr_inv_min),no_valu),no_value)","v":"-"},{"$f":"IF(SUM(BL26:BN26)>0,SUM(BL26:BN26),no_value)","v":"-"},{"$f":"IFERROR(BO26/BK26,no_value)","v":"-"},"-",{"$f":"IFERROR(BO26-BQ26,no_value)","v":"-"},{"$f":"IFERROR(BR26/BK26,no_value)","v":"-"},"-","-","-",{"$f":"IFERROR(AM26,no_value)","v":"-"},{"$f":"IFERROR(BW26/BV26,no_value)","v":"-"},null,{"$f":"IF(I26=ja,VLOOKUP(D26,Tabelle_Nutzung,Nutzungen!$AA$75,FALSE),no_value)","v":"-"},null,"-","",null,"-",null,{"$f":"IF($AO$1=\"X\",IFERROR(VLOOKUP($D26,Tabelle_Nutzung,Nutzungen!$L$75,FALSE),no_value),$CG$1)","v":"-"},{"$f":"IFERROR(VLOOKUP(D26,Tabelle_Nutzung,Nutzungen!$BN$75,FALSE),no_value)","v":"-"},"-","-",{"$f":"IF($AO$1=\"X\",IFERROR(VLOOKUP($D26,Tabelle_Nutzung,Nutzungen!$K$75,FALSE),no_value),$CK$1)","v":"-"},"-",{"$f":"IFERROR(IF(VLOOKUP($D26,Tabelle_Nutzung,Nutzungen!$AK$75,FALSE)>15,ja,nein),no_value)","v":"-"},"-",{"$f":"IFERROR(IF(AND(CH26=1,CJ26>0),DATA_RLT!$AA$5,no_value),no_value)","v":"-"},{"$f":"IFERROR(IF(AND(CH26=1,CJ26>0),DATA_RLT!$AA$12,no_value),no_value)","v":"-"},"-","-","-","-","-","-","-","-",0,"-","-","-",0,"-","-",0,"-",0,"-","-","-"]
[null,23,"A23",null,null,null,null,null,null,"-",null,{"$f":"IF(H27=ja,IFERROR(VLOOKUP(D27,Tabelle_Nutzung,Nutzungen!$S$75,FALSE),no_value),no_value)","v":"-"},{"$f":"VLOOKUP($D27,Tabelle_Nutzung,Nutzungen!$BC$75,FALSE)","v":{"$error":"#N/A"}},{"$f":"VLOOKUP($D27,Tabelle_Nutzung,Nutzungen!$BB$75,FALSE)","v":{"$error":"#N/A"}},{"$f":"VLOOKUP($D27,Tabelle_Nutzung,Nutzungen!$BA$75,FALSE)","v":{"$error":"#N/A"}},{"$f":"IFERROR(VLOOKUP(D27,Tabelle_Nutzung,Nutzungen!$P$75,FALSE),no_value)","v":"-"},"-","-","-",null,{"$f":"IF(H27=ja,IFERROR(VLOOKUP(D27,Tabelle_Nutzung,Nutzungen!$O$75,FALSE),no_value),no_value)","v":"-"},"-","",null,"-","-","-","",null,"-",null,{"$f":"IF($AO$1=\"X\",IFERROR(VLOOKUP(D27,Tabelle_Nutzung,Nutzungen!$BM$75,FALSE),no_value),$AX$1)","v":"-"},"ja",{"$f":"IFERROR(IF(AND(AG27=ja,W27=pass,AB27=pass,AF27>=f_day_min,AF27<>\"\"),MAX(MIN(K_day_sub_max,AP27*K_day_sub_m+K_day_sub_b),K_day_sub_min),no_valu),no_value)","v":"-"},null,"ja",{"$f":"IFERROR(IF(AND(AJ27=ja,W27=pass,AB27=pass),MAX(MIN(K_pr_sub_max,AP27*K_pr_sub_m+K_pr_sub_b),K_pr_sub_min),no_valu),no_value)","v":"-"},null,"-",null,"-",0,0,{"$f":"IF($AO$1=\"X\",IFERROR(VLOOKUP($D27,Tabelle_Nutzung,Nutzungen!$G$75,FALSE),no_value),$AR$1)","v":"-"},{"$f":"IF($AO$1=\"X\",IFERROR(VLOOKUP($D27,Tabelle_Nutzung,Nutzungen!$I$75,FALSE),no_value),$AS$1)","v":"-"},{"$f":"IF($AO$1=\"X\",IFERROR(VLOOKUP($D27,Tabelle_Nutzung,Nutzungen!$J$75,FALSE),no_value),$AT$1)","v":"-"},{"$f":"IF($AO$1=\"X\",IFERROR(VLOOKUP(D27,Tabelle_Nutzung,Nutzungen!$R$75,FALSE),no_value),$AU$1)","v":"-"},{"$f":"IF(ISNUMBER(AU27),IF(AND(AU27>=0.9,D27<>Nutzungen!$B$93),1-AU27*0.95,1-AU27*0.5),no_value)","v":"-"},"-","-","-","-","-","-","-","-","-","-","-","-","-",0,"-","-",{"$f":"IFERROR(IF(AND(AG27=ja,W27=pass,AB27=pass),infla_Bel*MAX(MIN(K_day_inv_max,AP27*K_day_inv_m+K_day_inv_b),K_day_inv_min),no_valu),no_value)","v":"-"},{"$f":"IFERROR(IF(AND(AJ27=ja,W27=pass,AB27=pass),infla_Bel*MAX(MIN(K_pr_inv_max,AP27*K_pr_inv_m+K_pr_inv_b),K_pr_inv_min),no_valu),no_value)","v":"-"},"-","-","-","-","-","-","-","-","-","-",null,{"$f":"IF(I27=ja,VLOOKUP(D27,Tabelle_Nutzung,Nutzungen!$AA$75,FALSE),no_value)","v":"-"},null,"-","",null,"-",null,{"$f":"IF($AO$1=\"X\",IFERROR(VLOOKUP($D27,Tabelle_Nutzung,Nutzungen!$L$75,FALSE),no_value),$CG$1)","v":"-"},{"$f":"IFERROR(VLOOKUP(D27,Tabelle_Nutzung,Nutzungen!$BN$75,FALSE),no_value)","v":"-"},"-","-",{"$f":"IF($AO$1=\"X\",IFERROR(VLOOKUP($D27,Tabelle_Nutzung,Nutzungen!$K$75,FALSE),no_value),$CK$1)","v":"-"},"-",{"$f":"IFERROR(IF(VLOOKUP($D27,Tabelle_Nutzung,Nutzungen!$AK$75,FALSE)>15,ja,nein),no_value)","v":"-"},"-",{"$f":"IFERROR(IF(AND(CH27=1,CJ27>0),DATA_RLT!$AA$5,no_value),no_value)","v":"-"},{"$f":"IFERROR(IF(AND(CH27=1,CJ27>0),DATA_RLT!$AA$12,no_value),no_value)","v":"-"},"-","-","-","-","-","-","-","-",0,"-","-","-",0,"-","-",0,"-",0,"-","-","-"]
[null,24,"A24",null,null,null,null,null,null,"-",null,{"$f":"IF(H28=ja,IFERROR(VLOOKUP(D28,Tabelle_Nutzung,Nutzungen!$S$75,FALSE),no_value),no_value)","v":"-"},{"$f":"VLOOKUP($D28,Tabelle_Nutzung,Nutzungen!$BC$75,FALSE)","v":{"$error":"#N/A"}},{"$f":"VLOOKUP($D28,Tabelle_Nutzung,Nutzungen!$BB$75,FALSE)","v":{"$error":"#N/A"}},{"$f":"VLOOKUP($D28,Tabelle_Nutzung,Nutzungen!$BA$75,FALSE)","v":{"$error":"#N/A"}},{"$f":"IFERROR(VLOOKUP(D28,Tabelle_Nutzung,Nutzungen!$P$75,FALSE),no_value)","v":"-"},"-","-","-",null,{"$f":"IF(H28=ja,IFERROR(VLOOKUP(D28,Tabelle_Nutzung,Nutzungen!$O$75,FALSE),no_value),no_value)","v":"-"},"-","",null,"-","-","-","",null,"-",null,{"$f":"IF($AO$1=\"X\",IFERROR(VLOOKUP(D28,Tabelle_Nutzung,Nutzungen!$BM$75,FALSE),no_value),$AX$1)","v":"-"},"ja",{"$f":"IFERROR(IF(AND(AG28=ja,W28=pass,AB28=pass,AF28>=f_day_min,AF28<>\"\"),MAX(MIN(K_day_sub_max,AP28*K_day_sub_m+K_day_sub_b),K_day_sub_min),no_valu),no_value)","v":"-"},null,"ja",{"$f":"IFERROR(IF(AND(AJ28=ja,W28=pass,AB28=pass),MAX(MIN(K_pr_sub_max,AP28*K_pr_sub_m+K_pr_sub_b),K_pr_sub_min),no_valu),no_value)","v":"-"},null,"-",null,"-",0,0,{"$f":"IF($AO$1=\"X\",IFERROR(VLOOKUP($D28,Tabelle_Nutzung,Nutzungen!$G$75,FALSE),no_value),$AR$1)","v":"-"},{"$f":"IF($AO$1=\"X\",IFERROR(VLOOKUP($D28,Tabelle_Nutzung,Nutzungen!$I$75,FALSE),no_value),$AS$1)","v":"-"},{"$f":"IF($AO$1=\"X\",IFERROR(VLOOKUP($D28,Tabelle_Nutzung,Nutzungen!$J$75,FALSE),no_value),$AT$1)","v":"-"},{"$f":"IF($AO$1=\"X\",IFERROR(VLOOKUP(D28,Tabelle_Nutzung,Nutzungen!$R$75,FALSE),no_value),$AU$1)","v":"-"},{"$f":"IF(ISNUMBER(AU28),IF(AND(AU28>=0.9,D28<>Nutzungen!$B$93),1-AU28*0.95,1-AU28*0.5),no_value)","v":"-"},"-","-","-","-","-","-","-","-","-","-","-","-","-",0,"-","-",{"$f":"IFERROR(IF(AND(AG28=ja,W28=pass,AB28=pass),infla_Bel*MAX(MIN(K_day_inv_max,AP28*K_day_inv_m+K_day_inv_b),K_day_inv_min),no_valu),no_value)","v":"-"},{"$f":"IFERROR(IF(AND(AJ28=ja,W28=pass,AB28=pass),infla_Bel*MAX(MIN(K_pr_inv_max,AP28*K_pr_inv_m+K_pr_inv_b),K_pr_inv_min),no_valu),no_value)","v":"-"},"-","-","-","-","-","-","-","-","-","-",null,{"$f":"IF(I28=ja,VLOOKUP(D28,Tabelle_Nutzung,Nutzungen!$AA$75,FALSE),no_value)","v":"-"},null,"-","",null,"-",null,{"$f":"IF($AO$1=\"X\",IFERROR(VLOOKUP($D28,Tabelle_Nutzung,Nutzungen!$L$75,FALSE),no_value),$CG$1)","v":"-"},{"$f":"IFERROR(VLOOKUP(D28,Tabelle_Nutzung,Nutzungen!$BN$75,FALSE),no_value)","v":"-"},"-","-",{"$f":"IF($AO$1=\"X\",IFERROR(VLOOKUP($D28,Tabelle_Nutzung,Nutzungen!$K$75,FALSE),no_value),$CK$1)","v":"-"},"-",{"$f":"IFERROR(IF(VLOOKUP($D28,Tabelle_Nutzung,Nutzungen!$AK$75,FALSE)>15,ja,nein),no_value)","v":"-"},"-",{"$f":"IFERROR(IF(AND(CH28=1,CJ28>0),DATA_RLT!$AA$5,no_value),no_value)","v":"-"},{"$f":"IFERROR(IF(AND(CH28=1,CJ28>0),DATA_RLT!$AA$12,no_value),no_value)","v":"-"},"-","-","-","-","-","-","-","-",0,"-","-","-",0,"-","-",0,"-",0,"-","-","-"]
[null,25,"A25",null,null,null,null,null,null,"-",null,{"$f":"IF(H29=ja,IFERROR(VLOOKUP(D29,Tabelle_Nutzung,Nutzungen!$S$75,FALSE),no_value),no_value)","v":"-"},{"$f":"VLOOKUP($D29,Tabelle_Nutzung,Nutzungen!$BC$75,FALSE)","v":{"$error":"#N/A"}},{"$f":"VLOOKUP($D29,Tabelle_Nutzung,Nutzungen!$BB$75,FALSE)","v":{"$error":"#N/A"}},{"$f":"VLOOKUP($D29,Tabelle_Nutzung,Nutzungen!$BA$75,FALSE)","v":{"$error":"#N/A"}},{"$f":"IFERROR(VLOOKUP(D29,Tabelle_Nutzung,Nutzungen!$P$75,FALSE),no_value)","v":"-"},"-","-","-",null,{"$f":"IF(H29=ja,IFERROR(VLOOKUP(D29,Tabelle_Nutzung,Nutzungen!$O$75,FALSE),no_value),no_value)","v":"-"},"-","",null,"-","-","-","",null,"-",null,{"$f":"IF($AO$1=\"X\",IFERROR(VLOOKUP(D29,Tabelle_Nutzung,Nutzungen!$BM$75,FALSE),no_value),$AX$1)","v":"-"},"ja",{"$f":"IFERROR(IF(AND(AG29=ja,W29=pass,AB29=pass,AF29>=f_day_min,AF29<>\"\"),MAX(MIN(K_day_sub_max,AP29*K_day_sub_m+K_day_sub_b),K_day_sub_min),no_valu),no_value)","v":"-"},null,"ja",{"$f":"IFERROR(IF(AND(AJ29=ja,W29=pass,AB29=pass),MAX(MIN(K_pr_sub_max,AP29*K_pr_sub_m+K_pr_sub_b),K_pr_sub_min),no_valu),no_value)","v":"-"},null,"-",null,"-",0,0,{"$f":"IF($AO$1=\"X\",IFERROR(VLOOKUP($D29,Tabelle_Nutzung,Nutzungen!$G$75,FALSE),no_value),$AR$1)","v":"-"},{"$f":"IF($AO$1=\"X\",IFERROR(VLOOKUP($D29,Tabelle_Nutzung,Nutzungen!$I$75,FALSE),no_value),$AS$1)","v":"-"},{"$f":"IF($AO$1=\"X\",IFERROR(VLOOKUP($D29,Tabelle_Nutzung,Nutzungen!$J$75,FALSE),no_value),$AT$1)","v":"-"},{"$f":"IF($AO$1=\"X\",IFERROR(VLOOKUP(D29,Tabelle_Nutzung,Nutzungen!$R$75,FALSE),no_value),$AU$1)","v":"-"},{"$f":"IF(ISNUMBER(AU29),IF(AND(AU29>=0.9,D29<>Nutzungen!$B$93),1-AU29*0.95,1-AU29*0.5),no_value)","v":"-"},"-","-","-","-","-","-","-","-","-","-","-","-","-",0,"-","-",{"$f":"IFERROR(IF(AND(AG29=ja,W29=pass,AB29=pass),infla_Bel*MAX(MIN(K_day_inv_max,AP29*K_day_inv_m+K_day_inv_b),K_day_inv_min),no_valu),no_value)","v":"-"},{"$f":"IFERROR(IF(AND(AJ29=ja,W29=pass,AB29=pass),infla_Bel*MAX(MIN(K_pr_inv_max,AP29*K_pr_inv_m+K_pr_inv_b),K_pr_inv_min),no_valu),no_value)","v":"-"},"-","-","-","-","-","-","-","-","-","-",null,{"$f":"IF(I29=ja,VLOOKUP(D29,Tabelle_Nutzung,Nutzungen!$AA$75,FALSE),no_value)","v":"-"},null,"-","",null,"-",null,{"$f":"IF($AO$1=\"X\",IFERROR(VLOOKUP($D29,Tabelle_Nutzung,Nutzungen!$L$75,FALSE),no_value),$CG$1)","v":"-"},{"$f":"IFERROR(VLOOKUP(D29,Tabelle_Nutzung,Nutzungen!$BN$75,FALSE),no_value)","v":"-"},"-","-",{"$f":"IF($AO$1=\"X\",IFERROR(VLOOKUP($D29,Tabelle_Nutzung,Nutzungen!$K$75,FALSE),no_value),$CK$1)","v":"-"},"-",{"$f":"IFERROR(IF(VLOOKUP($D29,Tabelle_Nutzung,Nutzungen!$AK$75,FALSE)>15,ja,nein),no_value)","v":"-"},"-",{"$f":"IFERROR(IF(AND(CH29=1,CJ29>0),DATA_RLT!$AA$5,no_value),no_value)","v":"-"},{"$f":"IFERROR(IF(AND(CH29=1,CJ29>0),DATA_RLT!$AA$12,no_value),no_value)","v":"-"},"-","-","-","-","-","-","-","-",0,"-","-","-",0,"-","-",0,"-",0,"-","-","-"]
[null,26,"A26",null,null,null,null,null,null,"-",null,{"$f":"IF(H30=ja,IFERROR(VLOOKUP(D30,Tabelle_Nutzung,Nutzungen!$S$75,FALSE),no_value),no_value)","v":"-"},{"$f":"VLOOKUP($D30,Tabelle_Nutzung,Nutzungen!$BC$75,FALSE)","v":{"$error":"#N/A"}},{"$f":"VLOOKUP($D30,Tabelle_Nutzung,Nutzungen!$BB$75,FALSE)","v":{"$error":"#N/A"}},{"$f":"VLOOKUP($D30,Tabelle_Nutzung,Nutzungen!$BA$75,FALSE)","v":{"$error":"#N/A"}},{"$f":"IFERROR(VLOOKUP(D30,Tabelle_Nutzung,Nutzungen!$P$75,FALSE),no_value)","v":"-"},"-","-","-",null,{"$f":"IF(H30=ja,IFERROR(VLOOKUP(D30,Tabelle_Nutzung,Nutzungen!$O$75,FALSE),no_value),no_value)","v":"-"},"-","",null,"-","-","-","",null,"-",null,{"$f":"IF($AO$1=\"X\",IFERROR(VLOOKUP(D30,Tabelle_Nutzung,Nutzungen!$BM$75,FALSE),no_value),$AX$1)","v":"-"},"ja",{"$f":"IFERROR(IF(AND(AG30=ja,W30=pass,AB30=pass,AF30>=f_day_min,AF30<>\"\"),MAX(MIN(K_day_sub_max,AP30*K_day_sub_m+K_day_sub_b),K_day_sub_min),no_valu),no_value)","v":"-"},null,"ja",{"$f":"IFERROR(IF(AND(AJ30=ja,W30=pass,AB30=pass),MAX(MIN(K_pr_sub_max,AP30*K_pr_sub_m+K_pr_sub_b),K_pr_sub_min),no_valu),no_value)","v":"-"},null,"-",null,"-",0,0,{"$f":"IF($AO$1=\"X\",IFERROR(VLOOKUP($D30,Tabelle_Nutzung,Nutzungen!$G$75,FALSE),no_value),$AR$1)","v":"-"},{"$f":"IF($AO$1=\"X\",IFERROR(VLOOKUP($D30,Tabelle_Nutzung,Nutzungen!$I$75,FALSE),no_value),$AS$1)","v":"-"},{"$f":"IF($AO$1=\"X\",IFERROR(VLOOKUP($D30,Tabelle_Nutzung,Nutzungen!$J$75,FALSE),no_value),$AT$1)","v":"-"},{"$f":"IF($AO$1=\"X\",IFERROR(VLOOKUP(D30,Tabelle_Nutzung,Nutzungen!$R$75,FALSE),no_value),$AU$1)","v":"-"},{"$f":"IF(ISNUMBER(AU30),IF(AND(AU30>=0.9,D30<>Nutzungen!$B$93),1-AU30*0.95,1-AU30*0.5),no_value)","v":"-"},"-","-","-","-","-","-","-","-","-","-",{"$f":"IFERROR(AO30*BA30/1000,no_value)","v":"-"},"-",{"$f":"IFERROR(BG30-BH30,no_value)","v":"-"},0,"-","-",{"$f":"IFERROR(IF(AND(AG30=ja,W30=pass,AB30=pass),infla_Bel*MAX(MIN(K_day_inv_max,AP30*K_day_inv_m+K_day_inv_b),K_day_inv_min),no_valu),no_value)","v":"-"},{"$f":"IFERROR(IF(AND(AJ30=ja,W30=pass,AB30=pass),infla_Bel*MAX(MIN(K_pr_inv_max,AP30*K_pr_inv_m+K_pr_inv_b),K_pr_inv_min),no_valu),no_value)","v":"-"},"-","-","-","-","-","-","-","-","-","-",null,{"$f":"IF(I30=ja,VLOOKUP(D30,Tabelle_Nutzung,Nutzungen!$AA$75,FALSE),no_value)","v":"-"},null,"-","",null,"-",null,{"$f":"IF($AO$1=\"X\",IFERROR(VLOOKUP($D30,Tabelle_Nutzung,Nutzungen!$L$75,FALSE),no_value),$CG$1)","v":"-"},{"$f":"IFERROR(VLOOKUP(D30,Tabelle_Nutzung,Nutzungen!$BN$75,FALSE),no_value)","v":"-"},"-","-",{"$f":"IF($AO$1=\"X\",IFERROR(VLOOKUP($D30,Tabelle_Nutzung,Nutzungen!$K$75,FALSE),no_value),$CK$1)","v":"-"},"-",{"$f":"IFERROR(IF(VLOOKUP($D30,Tabelle_Nutzung,Nutzungen!$AK$75,FALSE)>15,ja,nein),no_value)","v":"-"},"-",{"$f":"IFERROR(IF(AND(CH30=1,CJ30>0),DATA_RLT!$AA$5,no_value),no_value)","v":"-"},{"$f":"IFERROR(IF(AND(CH30=1,CJ30>0),DATA_RLT!$AA$12,no_value),no_value)","v":"-"},"-","-","-","-","-","-","-","-",0,"-","-","-",0,"-","-",0,"-",0,"-","-","-"]
[null,27,"A27",null,null,null,null,null,null,"-",null,{"$f":"IF(H31=ja,IFERROR(VLOOKUP(D31,Tabelle_Nutzung,Nutzungen!$S$75,FALSE),no_value),no_value)","v":"-"},{"$f":"VLOOKUP($D31,Tabelle_Nutzung,Nutzungen!$BC$75,FALSE)","v":{"$error":"#N/A"}},{"$f":"VLOOKUP($D31,Tabelle_Nutzung,Nutzungen!$BB$75,FALSE)","v":{"$error":"#N/A"}},{"$f":"VLOOKUP($D31,Tabelle_Nutzung,Nutzungen!$BA$75,FALSE)","v":{"$error":"#N/A"}},{"$f":"IFERROR(VLOOKUP(D31,Tabelle_Nutzung,Nutzungen!$P$75,FALSE),no_value)","v":"-"},"-","-","-",null,{"$f":"IF(H31=ja,IFERROR(VLOOKUP(D31,Tabelle_Nutzung,Nutzungen!$O$75,FALSE),no_value),no_value)","v":"-"},"-","",null,"-","-","-","",null,"-",null,{"$f":"IF($AO$1=\"X\",IFERROR(VLOOKUP(D31,Tabelle_Nutzung,Nutzungen!$BM$75,FALSE),no_value),$AX$1)","v":"-"},"ja",{"$f":"IFERROR(IF(AND(AG31=ja,W31=pass,AB31=pass,AF31>=f_day_min,AF31<>\"\"),MAX(MIN(K_day_sub_max,AP31*K_day_sub_m+K_day_sub_b),K_day_sub_min),no_valu),no_value)","v":"-"},null,"ja",{"$f":"IFERROR(IF(AND(AJ31=ja,W31=pass,AB31=pass),MAX(MIN(K_pr_sub_max,AP31*K_pr_sub_m+K_pr_sub_b),K_pr_sub_min),no_valu),no_value)","v":"-"},null,"-",null,"-",0,0,{"$f":"IF($AO$1=\"X\",IFERROR(VLOOKUP($D31,Tabelle_Nutzung,Nutzungen!$G$75,FALSE),no_value),$AR$1)","v":"-"},{"$f":"IF($AO$1=\"X\",IFERROR(VLOOKUP($D31,Tabelle_Nutzung,Nutzungen!$I$75,FALSE),no_value),$AS$1)","v":"-"},{"$f":"IF($AO$1=\"X\",IFERROR(VLOOKUP($D31,Tabelle_Nutzung,Nutzungen!$J$75,FALSE),no_value),$AT$1)","v":"-"},{"$f":"IF($AO$1=\"X\",IFERROR(VLOOKUP(D31,Tabelle_Nutzung,Nutzungen!$R$75,FALSE),no_value),$AU$1)","v":"-"},{"$f":"IF(ISNUMBER(AU31),IF(AND(AU31>=0.9,D31<>Nutzungen!$B$93),1-AU31*0.95,1-AU31*0.5),no_value)","v":"-"},"-","-","-","-","-","-","-","-","-","-","-","-","-",0,"-","-",{"$f":"IFERROR(IF(AND(AG31=ja,W31=pass,AB31=pass),infla_Bel*MAX(MIN(K_day_inv_max,AP31*K_day_inv_m+K_day_inv_b),K_day_inv_min),no_valu),no_value)","v":"-"},{"$f":"IFERROR(IF(AND(AJ31=ja,W31=pass,AB31=pass),infla_Bel*MAX(MIN(K_pr_inv_max,AP31*K_pr_inv_m+K_pr_inv_b),K_pr_inv_min),no_valu),no_value)","v":"-"},"-","-","-","-","-","-","-","-","-","-",null,{"$f":"IF(I31=ja,VLOOKUP(D31,Tabelle_Nutzung,Nutzungen!$AA$75,FALSE),no_value)","v":"-"},null,"-","",null,"-",null,{"$f":"IF($AO$1=\"X\",IFERROR(VLOOKUP($D31,Tabelle_Nutzung,Nutzungen!$L$75,FALSE),no_value),$CG$1)","v":"-"},{"$f":"IFERROR(VLOOKUP(D31,Tabelle_Nutzung,Nutzungen!$BN$75,FALSE),no_value)","v":"-"},"-","-",{"$f":"IF($AO$1=\"X\",IFERROR(VLOOKUP($D31,Tabelle_Nutzung,Nutzungen!$K$75,FALSE),no_value),$CK$1)","v":"-"},"-",{"$f":"IFERROR(IF(VLOOKUP($D31,Tabelle_Nutzung,Nutzungen!$AK$75,FALSE)>15,ja,nein),no_value)","v":"-"},"-",{"$f":"IFERROR(IF(AND(CH31=1,CJ31>0),DATA_RLT!$AA$5,no_value),no_value)","v":"-"},{"$f":"IFERROR(IF(AND(CH31=1,CJ31>0),DATA_RLT!$AA$12,no_value),no_value)","v":"-"},"-","-","-","-","-","-","-","-",0,"-","-","-",0,"-","-",0,"-",0,"-","-","-"]
[null,28,"A28",null,null,null,null,null,null,"-",null,{"$f":"IF(H32=ja,IFERROR(VLOOKUP(D32,Tabelle_Nutzung,Nutzungen!$S$75,FALSE),no_value),no_value)","v":"-"},{"$f":"VLOOKUP($D32,Tabelle_Nutzung,Nutzungen!$BC$75,FALSE)","v":{"$error":"#N/A"}},{"$f":"VLOOKUP($D32,Tabelle_Nutzung,Nutzungen!$BB$75,FALSE)","v":{"$error":"#N/A"}},{"$f":"VLOOKUP($D32,Tabelle_Nutzung,Nutzungen!$BA$75,FALSE)","v":{"$error":"#N/A"}},{"$f":"IFERROR(VLOOKUP(D32,Tabelle_Nutzung,Nutzungen!$P$75,FALSE),no_value)","v":"-"},"-","-","-",null,{"$f":"IF(H32=ja,IFERROR(VLOOKUP(D32,Tabelle_Nutzung,Nutzungen!$O$75,FALSE),no_value),no_value)","v":"-"},"-","",null,"-","-","-","",null,"-",null,{"$f":"IF($AO$1=\"X\",IFERROR(VLOOKUP(D32,Tabelle_Nutzung,Nutzungen!$BM$75,FALSE),no_value),$AX$1)","v":"-"},"ja",{"$f":"IFERROR(IF(AND(AG32=ja,W32=pass,AB32=pass,AF32>=f_day_min,AF32<>\"\"),MAX(MIN(K_day_sub_max,AP32*K_day_sub_m+K_day_sub_b),K_day_sub_min),no_valu),no_value)","v":"-"},null,"ja",{"$f":"IFERROR(IF(AND(AJ32=ja,W32=pass,AB32=pass),MAX(MIN(K_pr_sub_max,AP32*K_pr_sub_m+K_pr_sub_b),K_pr_sub_min),no_valu),no_value)","v":"-"},null,"-",null,"-",0,0,{"$f":"IF($AO$1=\"X\",IFERROR(VLOOKUP($D32,Tabelle_Nutzung,Nutzungen!$G$75,FALSE),no_value),$AR$1)","v":"-"},{"$f":"IF($AO$1=\"X\",IFERROR(VLOOKUP($D32,Tabelle_Nutzung,Nutzungen!$I$75,FALSE),no_value),$AS$1)","v":"-"},{"$f":"IF($AO$1=\"X\",IFERROR(VLOOKUP($D32,Tabelle_Nutzung,Nutzungen!$J$75,FALSE),no_value),$AT$1)","v":"-"},{"$f":"IF($AO$1=\"X\",IFERROR(VLOOKUP(D32,Tabelle_Nutzung,Nutzungen!$R$75,FALSE),no_value),$AU$1)","v":"-"},{"$f":"IF(ISNUMBER(AU32),IF(AND(AU32>=0.9,D32<>Nutzungen!$B$93),1-AU32*0.95,1-AU32*0.5),no_value)","v":"-"},"-","-","-","-","-","-","-","-","-","-","-","-","-",0,"-","-",{"$f":"IFERROR(IF(AND(AG32=ja,W32=pass,AB32=pass),infla_Bel*MAX(MIN(K_day_inv_max,AP32*K_day_inv_m+K_day_inv_b),K_day_inv_min),no_valu),no_value)","v":"-"},{"$f":"IFERROR(IF(AND(AJ32=ja,W32=pass,AB32=pass),infla_Bel*MAX(MIN(K_pr_inv_max,AP32*K_pr_inv_m+K_pr_inv_b),K_pr_inv_min),no_valu),no_value)","v":"-"},"-","-","-","-","-","-","-","-","-","-",null,{"$f":"IF(I32=ja,VLOOKUP(D32,Tabelle_Nutzung,Nutzungen!$AA$75,FALSE),no_value)","v":"-"},null,"-","",null,"-",null,{"$f":"IF($AO$1=\"X\",IFERROR(VLOOKUP($D32,Tabelle_Nutzung,Nutzungen!$L$75,FALSE),no_value),$CG$1)","v":"-"},{"$f":"IFERROR(VLOOKUP(D32,Tabelle_Nutzung,Nutzungen!$BN$75,FALSE),no_value)","v":"-"},"-","-",{"$f":"IF($AO$1=\"X\",IFERROR(VLOOKUP($D32,Tabelle_Nutzung,Nutzungen!$K$75,FALSE),no_value),$CK$1)","v":"-"},"-",{"$f":"IFERROR(IF(VLOOKUP($D32,Tabelle_Nutzung,Nutzungen!$AK$75,FALSE)>15,ja,nein),no_value)","v":"-"},"-",{"$f":"IFERROR(IF(AND(CH32=1,CJ32>0),DATA_RLT!$AA$5,no_value),no_value)","v":"-"},{"$f":"IFERROR(IF(AND(CH32=1,CJ32>0),DATA_RLT!$AA$12,no_value),no_value)","v":"-"},"-","-","-","-","-","-","-","-",0,"-","-","-",0,"-","-",0,"-",0,"-","-","-"]
[null,29,"A29",null,null,null,null,null,null,"-",null,{"$f":"IF(H33=ja,IFERROR(VLOOKUP(D33,Tabelle_Nutzung,Nutzungen!$S$75,FALSE),no_value),no_value)","v":"-"},{"$f":"VLOOKUP($D33,Tabelle_Nutzung,Nutzungen!$BC$75,FALSE)","v":{"$error":"#N/A"}},{"$f":"VLOOKUP($D33,Tabelle_Nutzung,Nutzungen!$BB$75,FALSE)","v":{"$error":"#N/A"}},{"$f":"VLOOKUP($D33,Tabelle_Nutzung,Nutzungen!$BA$75,FALSE)","v":{"$error":"#N/A"}},{"$f":"IFERROR(VLOOKUP(D33,Tabelle_Nutzung,Nutzungen!$P$75,FALSE),no_value)","v":"-"},"-","-","-",null,{"$f":"IF(H33=ja,IFERROR(VLOOKUP(D33,Tabelle_Nutzung,Nutzungen!$O$75,FALSE),no_value),no_value)","v":"-"},"-","",null,"-","-","-","",null,"-",null,{"$f":"IF($AO$1=\"X\",IFERROR(VLOOKUP(D33,Tabelle_Nutzung,Nutzungen!$BM$75,FALSE),no_value),$AX$1)","v":"-"},"ja",{"$f":"IFERROR(IF(AND(AG33=ja,W33=pass,AB33=pass,AF33>=f_day_min,AF33<>\"\"),MAX(MIN(K_day_sub_max,AP33*K_day_sub_m+K_day_sub_b),K_day_sub_min),no_valu),no_value)","v":"-"},null,"ja",{"$f":"IFERROR(IF(AND(AJ33=ja,W33=pass,AB33=pass),MAX(MIN(K_pr_sub_max,AP33*K_pr_sub_m+K_pr_sub_b),K_pr_sub_min),no_valu),no_value)","v":"-"},null,"-",null,"-",0,0,{"$f":"IF($AO$1=\"X\",IFERROR(VLOOKUP($D33,Tabelle_Nutzung,Nutzungen!$G$75,FALSE),no_value),$AR$1)","v":"-"},{"$f":"IF($AO$1=\"X\",IFERROR(VLOOKUP($D33,Tabelle_Nutzung,Nutzungen!$I$75,FALSE),no_value),$AS$1)","v":"-"},{"$f":"IF($AO$1=\"X\",IFERROR(VLOOKUP($D33,Tabelle_Nutzung,Nutzungen!$J$75,FALSE),no_value),$AT$1)","v":"-"},{"$f":"IF($AO$1=\"X\",IFERROR(VLOOKUP(D33,Tabelle_Nutzung,Nutzungen!$R$75,FALSE),no_value),$AU$1)","v":"-"},{"$f":"IF(ISNUMBER(AU33),IF(AND(AU33>=0.9,D33<>Nutzungen!$B$93),1-AU33*0.95,1-AU33*0.5),no_value)","v":"-"},"-","-","-","-","-","-","-","-","-","-","-","-","-",0,"-","-",{"$f":"IFERROR(IF(AND(AG33=ja,W33=pass,AB33=pass),infla_Bel*MAX(MIN(K_day_inv_max,AP33*K_day_inv_m+K_day_inv_b),K_day_inv_min),no_valu),no_value)","v":"-"},{"$f":"IFERROR(IF(AND(AJ33=ja,W33=pass,AB33=pass),infla_Bel*MAX(MIN(K_pr_inv_max,AP33*K_pr_inv_m+K_pr_inv_b),K_pr_inv_min),no_valu),no_value)","v":"-"},"-","-","-","-","-","-","-","-","-","-",null,{"$f":"IF(I33=ja,VLOOKUP(D33,Tabelle_Nutzung,Nutzungen!$AA$75,FALSE),no_value)","v":"-"},null,"-","",null,"-",null,{"$f":"IF($AO$1=\"X\",IFERROR(VLOOKUP($D33,Tabelle_Nutzung,Nutzungen!$L$75,FALSE),no_value),$CG$1)","v":"-"},{"$f":"IFERROR(VLOOKUP(D33,Tabelle_Nutzung,Nutzungen!$BN$75,FALSE),no_value)","v":"-"},"-","-",{"$f":"IF($AO$1=\"X\",IFERROR(VLOOKUP($D33,Tabelle_Nutzung,Nutzungen!$K$75,FALSE),no_value),$CK$1)","v":"-"},"-",{"$f":"IFERROR(IF(VLOOKUP($D33,Tabelle_Nutzung,Nutzungen!$AK$75,FALSE)>15,ja,nein),no_value)","v":"-"},"-",{"$f":"IFERROR(IF(AND(CH33=1,CJ33>0),DATA_RLT!$AA$5,no_value),no_value)","v":"-"},{"$f":"IFERROR(IF(AND(CH33=1,CJ33>0),DATA_RLT!$AA$12,no_value),no_value)","v":"-"},"-","-","-","-","-","-","-","-",0,"-","-","-",0,"-","-",0,"-",0,"-","-","-"]
[null,30,"A30",null,null,null,null,null,null,"-",null,{"$f":"IF(H34=ja,IFERROR(VLOOKUP(D34,Tabelle_Nutzung,Nutzungen!$S$75,FALSE),no_value),no_value)","v":"-"},{"$f":"VLOOKUP($D34,Tabelle_Nutzung,Nutzungen!$BC$75,FALSE)","v":{"$error":"#N/A"}},{"$f":"VLOOKUP($D34,Tabelle_Nutzung,Nutzungen!$BB$75,FALSE)","v":{"$error":"#N/A"}},{"$f":"VLOOKUP($D34,Tabelle_Nutzung,Nutzungen!$BA$75,FALSE)","v":{"$error":"#N/A"}},{"$f":"IFERROR(VLOOKUP(D34,Tabelle_Nutzung,Nutzungen!$P$75,FALSE),no_value)","v":"-"},"-","-","-",null,{"$f":"IF(H34=ja,IFERROR(VLOOKUP(D34,Tabelle_Nutzung,Nutzungen!$O$75,FALSE),no_value),no_value)","v":"-"},"-","",null,"-","-","-","",null,"-",null,{"$f":"IF($AO$1=\"X\",IFERROR(VLOOKUP(D34,Tabelle_Nutzung,Nutzungen!$BM$75,FALSE),no_value),$AX$1)","v":"-"},"ja",{"$f":"IFERROR(IF(AND(AG34=ja,W34=pass,AB34=pass,AF34>=f_day_min,AF34<>\"\"),MAX(MIN(K_day_sub_max,AP34*K_day_sub_m+K_day_sub_b),K_day_sub_min),no_valu),no_value)","v":"-"},null,"ja",{"$f":"IFERROR(IF(AND(AJ34=ja,W34=pass,AB34=pass),MAX(MIN(K_pr_sub_max,AP34*K_pr_sub_m+K_pr_sub_b),K_pr_sub_min),no_valu),no_value)","v":"-"},null,"-",null,"-",0,0,{"$f":"IF($AO$1=\"X\",IFERROR(VLOOKUP($D34,Tabelle_Nutzung,Nutzungen!$G$75,FALSE),no_value),$AR$1)","v":"-"},{"$f":"IF($AO$1=\"X\",IFERROR(VLOOKUP($D34,Tabelle_Nutzung,Nutzungen!$I$75,FALSE),no_value),$AS$1)","v":"-"},{"$f":"IF($AO$1=\"X\",IFERROR(VLOOKUP($D34,Tabelle_Nutzung,Nutzungen!$J$75,FALSE),no_value),$AT$1)","v":"-"},{"$f":"IF($AO$1=\"X\",IFERROR(VLOOKUP(D34,Tabelle_Nutzung,Nutzungen!$R$75,FALSE),no_value),$AU$1)","v":"-"},{"$f":"IF(ISNUMBER(AU34),IF(AND(AU34>=0.9,D34<>Nutzungen!$B$93),1-AU34*0.95,1-AU34*0.5),no_value)","v":"-"},"-","-","-","-","-","-","-","-","-","-","-","-","-",0,"-","-",{"$f":"IFERROR(IF(AND(AG34=ja,W34=pass,AB34=pass),infla_Bel*MAX(MIN(K_day_inv_max,AP34*K_day_inv_m+K_day_inv_b),K_day_inv_min),no_valu),no_value)","v":"-"},{"$f":"IFERROR(IF(AND(AJ34=ja,W34=pass,AB34=pass),infla_Bel*MAX(MIN(K_pr_inv_max,AP34*K_pr_inv_m+K_pr_inv_b),K_pr_inv_min),no_valu),no_value)","v":"-"},"-","-","-","-","-","-","-","-","-","-",null,{"$f":"IF(I34=ja,VLOOKUP(D34,Tabelle_Nutzung,Nutzungen!$AA$75,FALSE),no_value)","v":"-"},null,"-","",null,"-",null,{"$f":"IF($AO$1=\"X\",IFERROR(VLOOKUP($D34,Tabelle_Nutzung,Nutzungen!$L$75,FALSE),no_value),$CG$1)","v":"-"},{"$f":"IFERROR(VLOOKUP(D34,Tabelle_Nutzung,Nutzungen!$BN$75,FALSE),no_value)","v":"-"},"-","-",{"$f":"IF($AO$1=\"X\",IFERROR(VLOOKUP($D34,Tabelle_Nutzung,Nutzungen!$K$75,FALSE),no_value),$CK$1)","v":"-"},"-",{"$f":"IFERROR(IF(VLOOKUP($D34,Tabelle_Nutzung,Nutzungen!$AK$75,FALSE)>15,ja,nein),no_value)","v":"-"},"-",{"$f":"IFERROR(IF(AND(CH34=1,CJ34>0),DATA_RLT!$AA$5,no_value),no_value)","v":"-"},{"$f":"IFERROR(IF(AND(CH34=1,CJ34>0),DATA_RLT!$AA$12,no_value),no_value)","v":"-"},"-","-","-","-","-","-","-","-",0,"-","-","-",0,"-","-",0,"-",0,"-","-","-"]
[null,31,"A31",null,null,null,null,null,null,"-",null,{"$f":"IF(H35=ja,IFERROR(VLOOKUP(D35,Tabelle_Nutzung,Nutzungen!$S$75,FALSE),no_value),no_value)","v":"-"},{"$f":"VLOOKUP($D35,Tabelle_Nutzung,Nutzungen!$BC$75,FALSE)","v":{"$error":"#N/A"}},{"$f":"VLOOKUP($D35,Tabelle_Nutzung,Nutzungen!$BB$75,FALSE)","v":{"$error":"#N/A"}},{"$f":"VLOOKUP($D35,Tabelle_Nutzung,Nutzungen!$BA$75,FALSE)","v":{"$error":"#N/A"}},{"$f":"IFERROR(VLOOKUP(D35,Tabelle_Nutzung,Nutzungen!$P$75,FALSE),no_value)","v":"-"},"-","-","-",null,{"$f":"IF(H35=ja,IFERROR(VLOOKUP(D35,Tabelle_Nutzung,Nutzungen!$O$75,FALSE),no_value),no_value)","v":"-"},"-","",null,"-","-","-","",null,"-",null,{"$f":"IF($AO$1=\"X\",IFERROR(VLOOKUP(D35,Tabelle_Nutzung,Nutzungen!$BM$75,FALSE),no_value),$AX$1)","v":"-"},"ja",{"$f":"IFERROR(IF(AND(AG35=ja,W35=pass,AB35=pass,AF35>=f_day_min,AF35<>\"\"),MAX(MIN(K_day_sub_max,AP35*K_day_sub_m+K_day_sub_b),K_day_sub_min),no_valu),no_value)","v":"-"},null,"ja",{"$f":"IFERROR(IF(AND(AJ35=ja,W35=pass,AB35=pass),MAX(MIN(K_pr_sub_max,AP35*K_pr_sub_m+K_pr_sub_b),K_pr_sub_min),no_valu),no_value)","v":"-"},null,"-",null,"-",0,0,{"$f":"IF($AO$1=\"X\",IFERROR(VLOOKUP($D35,Tabelle_Nutzung,Nutzungen!$G$75,FALSE),no_value),$AR$1)","v":"-"},{"$f":"IF($AO$1=\"X\",IFERROR(VLOOKUP($D35,Tabelle_Nutzung,Nutzungen!$I$75,FALSE),no_value),$AS$1)","v":"-"},{"$f":"IF($AO$1=\"X\",IFERROR(VLOOKUP($D35,Tabelle_Nutzung,Nutzungen!$J$75,FALSE),no_value),$AT$1)","v":"-"},{"$f":"IF($AO$1=\"X\",IFERROR(VLOOKUP(D35,Tabelle_Nutzung,Nutzungen!$R$75,FALSE),no_value),$AU$1)","v":"-"},{"$f":"IF(ISNUMBER(AU35),IF(AND(AU35>=0.9,D35<>Nutzungen!$B$93),1-AU35*0.95,1-AU35*0.5),no_value)","v":"-"},"-","-","-","-","-","-","-","-","-","-","-","-","-",0,"-","-",{"$f":"IFERROR(IF(AND(AG35=ja,W35=pass,AB35=pass),infla_Bel*MAX(MIN(K_day_inv_max,AP35*K_day_inv_m+K_day_inv_b),K_day_inv_min),no_valu),no_value)","v":"-"},{"$f":"IFERROR(IF(AND(AJ35=ja,W35=pass,AB35=pass),infla_Bel*MAX(MIN(K_pr_inv_max,AP35*K_pr_inv_m+K_pr_inv_b),K_pr_inv_min),no_valu),no_value)","v":"-"},"-","-","-","-","-","-","-","-","-","-",null,{"$f":"IF(I35=ja,VLOOKUP(D35,Tabelle_Nutzung,Nutzungen!$AA$75,FALSE),no_value)","v":"-"},null,"-","",null,"-",null,{"$f":"IF($AO$1=\"X\",IFERROR(VLOOKUP($D35,Tabelle_Nutzung,Nutzungen!$L$75,FALSE),no_value),$CG$1)","v":"-"},{"$f":"IFERROR(VLOOKUP(D35,Tabelle_Nutzung,Nutzungen!$BN$75,FALSE),no_value)","v":"-"},"-","-",{"$f":"IF($AO$1=\"X\",IFERROR(VLOOKUP($D35,Tabelle_Nutzung,Nutzungen!$K$75,FALSE),no_value),$CK$1)","v":"-"},"-",{"$f":"IFERROR(IF(VLOOKUP($D35,Tabelle_Nutzung,Nutzungen!$AK$75,FALSE)>15,ja,nein),no_value)","v":"-"},"-",{"$f":"IFERROR(IF(AND(CH35=1,CJ35>0),DATA_RLT!$AA$5,no_value),no_value)","v":"-"},{"$f":"IFERROR(IF(AND(CH35=1,CJ35>0),DATA_RLT!$AA$12,no_value),no_value)","v":"-"},"-","-","-","-","-","-","-","-",0,"-","-","-",0,"-","-",0,"-",0,"-","-","-"]
[null,32,"A32",null,null,null,null,null,null,"-",null,{"$f":"IF(H36=ja,IFERROR(VLOOKUP(D36,Tabelle_Nutzung,Nutzungen!$S$75,FALSE),no_value),no_value)","v":"-"},{"$f":"VLOOKUP($D36,Tabelle_Nutzung,Nutzungen!$BC$75,FALSE)","v":{"$error":"#N/A"}},{"$f":"VLOOKUP($D36,Tabelle_Nutzung,Nutzungen!$BB$75,FALSE)","v":{"$error":"#N/A"}},{"$f":"VLOOKUP($D36,Tabelle_Nutzung,Nutzungen!$BA$75,FALSE)","v":{"$error":"#N/A"}},{"$f":"IFERROR(VLOOKUP(D36,Tabelle_Nutzung,Nutzungen!$P$75,FALSE),no_value)","v":"-"},"-","-","-",null,{"$f":"IF(H36=ja,IFERROR(VLOOKUP(D36,Tabelle_Nutzung,Nutzungen!$O$75,FALSE),no_value),no_value)","v":"-"},"-","",null,"-","-","-","",null,"-",null,{"$f":"IF($AO$1=\"X\",IFERROR(VLOOKUP(D36,Tabelle_Nutzung,Nutzungen!$BM$75,FALSE),no_value),$AX$1)","v":"-"},"ja",{"$f":"IFERROR(IF(AND(AG36=ja,W36=pass,AB36=pass,AF36>=f_day_min,AF36<>\"\"),MAX(MIN(K_day_sub_max,AP36*K_day_sub_m+K_day_sub_b),K_day_sub_min),no_valu),no_value)","v":"-"},null,"ja",{"$f":"IFERROR(IF(AND(AJ36=ja,W36=pass,AB36=pass),MAX(MIN(K_pr_sub_max,AP36*K_pr_sub_m+K_pr_sub_b),K_pr_sub_min),no_valu),no_value)","v":"-"},null,"-",null,"-",0,0,{"$f":"IF($AO$1=\"X\",IFERROR(VLOOKUP($D36,Tabelle_Nutzung,Nutzungen!$G$75,FALSE),no_value),$AR$1)","v":"-"},{"$f":"IF($AO$1=\"X\",IFERROR(VLOOKUP($D36,Tabelle_Nutzung,Nutzungen!$I$75,FALSE),no_value),$AS$1)","v":"-"},{"$f":"IF($AO$1=\"X\",IFERROR(VLOOKUP($D36,Tabelle_Nutzung,Nutzungen!$J$75,FALSE),no_value),$AT$1)","v":"-"},{"$f":"IF($AO$1=\"X\",IFERROR(VLOOKUP(D36,Tabelle_Nutzung,Nutzungen!$R$75,FALSE),no_value),$AU$1)","v":"-"},{"$f":"IF(ISNUMBER(AU36),IF(AND(AU36>=0.9,D36<>Nutzungen!$B$93),1-AU36*0.95,1-AU36*0.5),no_value)","v":"-"},"-","-","-","-","-","-","-","-","-","-","-","-","-",0,"-","-",{"$f":"IFERROR(IF(AND(AG36=ja,W36=pass,AB36=pass),infla_Bel*MAX(MIN(K_day_inv_max,AP36*K_day_inv_m+K_day_inv_b),K_day_inv_min),no_valu),no_value)","v":"-"},{"$f":"IFERROR(IF(AND(AJ36=ja,W36=pass,AB36=pass),infla_Bel*MAX(MIN(K_pr_inv_max,AP36*K_pr_inv_m+K_pr_inv_b),K_pr_inv_min),no_valu),no_value)","v":"-"},"-","-","-","-","-","-","-","-","-","-",null,{"$f":"IF(I36=ja,VLOOKUP(D36,Tabelle_Nutzung,Nutzungen!$AA$75,FALSE),no_value)","v":"-"},null,"-","",null,"-",null,{"$f":"IF($AO$1=\"X\",IFERROR(VLOOKUP($D36,Tabelle_Nutzung,Nutzungen!$L$75,FALSE),no_value),$CG$1)","v":"-"},{"$f":"IFERROR(VLOOKUP(D36,Tabelle_Nutzung,Nutzungen!$BN$75,FALSE),no_value)","v":"-"},"-","-",{"$f":"IF($AO$1=\"X\",IFERROR(VLOOKUP($D36,Tabelle_Nutzung,Nutzungen!$K$75,FALSE),no_value),$CK$1)","v":"-"},"-",{"$f":"IFERROR(IF(VLOOKUP($D36,Tabelle_Nutzung,Nutzungen!$AK$75,FALSE)>15,ja,nein),no_value)","v":"-"},"-",{"$f":"IFERROR(IF(AND(CH36=1,CJ36>0),DATA_RLT!$AA$5,no_value),no_value)","v":"-"},{"$f":"IFERROR(IF(AND(CH36=1,CJ36>0),DATA_RLT!$AA$12,no_value),no_value)","v":"-"},"-","-","-","-","-","-","-","-",0,"-","-","-",0,"-","-",0,"-",0,"-","-","-"]
[null,33,"A33",null,null,null,null,null,null,"-",null,{"$f":"IF(H37=ja,IFERROR(VLOOKUP(D37,Tabelle_Nutzung,Nutzungen!$S$75,FALSE),no_value),no_value)","v":"-"},{"$f":"VLOOKUP($D37,Tabelle_Nutzung,Nutzungen!$BC$75,FALSE)","v":{"$error":"#N/A"}},{"$f":"VLOOKUP($D37,Tabelle_Nutzung,Nutzungen!$BB$75,FALSE)","v":{"$error":"#N/A"}},{"$f":"VLOOKUP($D37,Tabelle_Nutzung,Nutzungen!$BA$75,FALSE)","v":{"$error":"#N/A"}},{"$f":"IFERROR(VLOOKUP(D37,Tabelle_Nutzung,Nutzungen!$P$75,FALSE),no_value)","v":"-"},"-","-","-",null,{"$f":"IF(H37=ja,IFERROR(VLOOKUP(D37,Tabelle_Nutzung,Nutzungen!$O$75,FALSE),no_value),no_value)","v":"-"},"-","",null,"-","-","-","",null,"-",null,{"$f":"IF($AO$1=\"X\",IFERROR(VLOOKUP(D37,Tabelle_Nutzung,Nutzungen!$BM$75,FALSE),no_value),$AX$1)","v":"-"},"ja",{"$f":"IFERROR(IF(AND(AG37=ja,W37=pass,AB37=pass,AF37>=f_day_min,AF37<>\"\"),MAX(MIN(K_day_sub_max,AP37*K_day_sub_m+K_day_sub_b),K_day_sub_min),no_valu),no_value)","v":"-"},null,"ja",{"$f":"IFERROR(IF(AND(AJ37=ja,W37=pass,AB37=pass),MAX(MIN(K_pr_sub_max,AP37*K_pr_sub_m+K_pr_sub_b),K_pr_sub_min),no_valu),no_value)","v":"-"},null,"-",null,"-",0,0,{"$f":"IF($AO$1=\"X\",IFERROR(VLOOKUP($D37,Tabelle_Nutzung,Nutzungen!$G$75,FALSE),no_value),$AR$1)","v":"-"},{"$f":"IF($AO$1=\"X\",IFERROR(VLOOKUP($D37,Tabelle_Nutzung,Nutzungen!$I$75,FALSE),no_value),$AS$1)","v":"-"},{"$f":"IF($AO$1=\"X\",IFERROR(VLOOKUP($D37,Tabelle_Nutzung,Nutzungen!$J$75,FALSE),no_value),$AT$1)","v":"-"},{"$f":"IF($AO$1=\"X\",IFERROR(VLOOKUP(D37,Tabelle_Nutzung,Nutzungen!$R$75,FALSE),no_value),$AU$1)","v":"-"},{"$f":"IF(ISNUMBER(AU37),IF(AND(AU37>=0.9,D37<>Nutzungen!$B$93),1-AU37*0.95,1-AU37*0.5),no_value)","v":"-"},"-","-","-","-","-","-","-","-","-","-",{"$f":"IFERROR(AO37*BA37/1000,no_value)","v":"-"},"-","-",0,"-","-",{"$f":"IFERROR(IF(AND(AG37=ja,W37=pass,AB37=pass),infla_Bel*MAX(MIN(K_day_inv_max,AP37*K_day_inv_m+K_day_inv_b),K_day_inv_min),no_valu),no_value)","v":"-"},{"$f":"IFERROR(IF(AND(AJ37=ja,W37=pass,AB37=pass),infla_Bel*MAX(MIN(K_pr_inv_max,AP37*K_pr_inv_m+K_pr_inv_b),K_pr_inv_min),no_valu),no_value)","v":"-"},"-","-","-","-",{"$f":"IFERROR(BR37/BK37,no_value)","v":"-"},"-","-","-","-","-",null,{"$f":"IF(I37=ja,VLOOKUP(D37,Tabelle_Nutzung,Nutzungen!$AA$75,FALSE),no_value)","v":"-"},null,"-","",null,"-",null,{"$f":"IF($AO$1=\"X\",IFERROR(VLOOKUP($D37,Tabelle_Nutzung,Nutzungen!$L$75,FALSE),no_value),$CG$1)","v":"-"},{"$f":"IFERROR(VLOOKUP(D37,Tabelle_Nutzung,Nutzungen!$BN$75,FALSE),no_value)","v":"-"},"-","-",{"$f":"IF($AO$1=\"X\",IFERROR(VLOOKUP($D37,Tabelle_Nutzung,Nutzungen!$K$75,FALSE),no_value),$CK$1)","v":"-"},"-",{"$f":"IFERROR(IF(VLOOKUP($D37,Tabelle_Nutzung,Nutzungen!$AK$75,FALSE)>15,ja,nein),no_value)","v":"-"},"-",{"$f":"IFERROR(IF(AND(CH37=1,CJ37>0),DATA_RLT!$AA$5,no_value),no_value)","v":"-"},{"$f":"IFERROR(IF(AND(CH37=1,CJ37>0),DATA_RLT!$AA$12,no_value),no_value)","v":"-"},"-","-","-","-","-","-","-","-",0,"-","-","-",0,"-","-",0,"-",0,"-","-","-"]
[null,34,"A34",null,null,null,null,null,null,"-",null,{"$f":"IF(H38=ja,IFERROR(VLOOKUP(D38,Tabelle_Nutzung,Nutzungen!$S$75,FALSE),no_value),no_value)","v":"-"},{"$f":"VLOOKUP($D38,Tabelle_Nutzung,Nutzungen!$BC$75,FALSE)","v":{"$error":"#N/A"}},{"$f":"VLOOKUP($D38,Tabelle_Nutzung,Nutzungen!$BB$75,FALSE)","v":{"$error":"#N/A"}},{"$f":"VLOOKUP($D38,Tabelle_Nutzung,Nutzungen!$BA$75,FALSE)","v":{"$error":"#N/A"}},{"$f":"IFERROR(VLOOKUP(D38,Tabelle_Nutzung,Nutzungen!$P$75,FALSE),no_value)","v":"-"},"-","-","-",null,{"$f":"IF(H38=ja,IFERROR(VLOOKUP(D38,Tabelle_Nutzung,Nutzungen!$O$75,FALSE),no_value),no_value)","v":"-"},"-","",null,"-","-","-","",null,"-",null,{"$f":"IF($AO$1=\"X\",IFERROR(VLOOKUP(D38,Tabelle_Nutzung,Nutzungen!$BM$75,FALSE),no_value),$AX$1)","v":"-"},"ja",{"$f":"IFERROR(IF(AND(AG38=ja,W38=pass,AB38=pass,AF38>=f_day_min,AF38<>\"\"),MAX(MIN(K_day_sub_max,AP38*K_day_sub_m+K_day_sub_b),K_day_sub_min),no_valu),no_value)","v":"-"},null,"ja",{"$f":"IFERROR(IF(AND(AJ38=ja,W38=pass,AB38=pass),MAX(MIN(K_pr_sub_max,AP38*K_pr_sub_m+K_pr_sub_b),K_pr_sub_min),no_valu),no_value)","v":"-"},null,"-",null,"-",0,0,{"$f":"IF($AO$1=\"X\",IFERROR(VLOOKUP($D38,Tabelle_Nutzung,Nutzungen!$G$75,FALSE),no_value),$AR$1)","v":"-"},{"$f":"IF($AO$1=\"X\",IFERROR(VLOOKUP($D38,Tabelle_Nutzung,Nutzungen!$I$75,FALSE),no_value),$AS$1)","v":"-"},{"$f":"IF($AO$1=\"X\",IFERROR(VLOOKUP($D38,Tabelle_Nutzung,Nutzungen!$J$75,FALSE),no_value),$AT$1)","v":"-"},{"$f":"IF($AO$1=\"X\",IFERROR(VLOOKUP(D38,Tabelle_Nutzung,Nutzungen!$R$75,FALSE),no_value),$AU$1)","v":"-"},{"$f":"IF(ISNUMBER(AU38),IF(AND(AU38>=0.9,D38<>Nutzungen!$B$93),1-AU38*0.95,1-AU38*0.5),no_value)","v":"-"},"-","-","-","-","-","-","-","-","-","-","-","-","-",0,"-","-",{"$f":"IFERROR(IF(AND(AG38=ja,W38=pass,AB38=pass),infla_Bel*MAX(MIN(K_day_inv_max,AP38*K_day_inv_m+K_day_inv_b),K_day_inv_min),no_valu),no_value)","v":"-"},{"$f":"IFERROR(IF(AND(AJ38=ja,W38=pass,AB38=pass),infla_Bel*MAX(MIN(K_pr_inv_max,AP38*K_pr_inv_m+K_pr_inv_b),K_pr_inv_min),no_valu),no_value)","v":"-"},"-","-","-","-","-","-","-","-","-","-",null,{"$f":"IF(I38=ja,VLOOKUP(D38,Tabelle_Nutzung,Nutzungen!$AA$75,FALSE),no_value)","v":"-"},null,"-","",null,"-",null,{"$f":"IF($AO$1=\"X\",IFERROR(VLOOKUP($D38,Tabelle_Nutzung,Nutzungen!$L$75,FALSE),no_value),$CG$1)","v":"-"},{"$f":"IFERROR(VLOOKUP(D38,Tabelle_Nutzung,Nutzungen!$BN$75,FALSE),no_value)","v":"-"},"-","-",{"$f":"IF($AO$1=\"X\",IFERROR(VLOOKUP($D38,Tabelle_Nutzung,Nutzungen!$K$75,FALSE),no_value),$CK$1)","v":"-"},"-",{"$f":"IFERROR(IF(VLOOKUP($D38,Tabelle_Nutzung,Nutzungen!$AK$75,FALSE)>15,ja,nein),no_value)","v":"-"},"-",{"$f":"IFERROR(IF(AND(CH38=1,CJ38>0),DATA_RLT!$AA$5,no_value),no_value)","v":"-"},{"$f":"IFERROR(IF(AND(CH38=1,CJ38>0),DATA_RLT!$AA$12,no_value),no_value)","v":"-"},"-","-","-","-","-","-","-","-",0,"-","-","-",0,"-","-",0,"-",0,"-","-","-"]
[null,35,"A35",null,null,null,null,null,null,"-",null,{"$f":"IF(H39=ja,IFERROR(VLOOKUP(D39,Tabelle_Nutzung,Nutzungen!$S$75,FALSE),no_value),no_value)","v":"-"},{"$f":"VLOOKUP($D39,Tabelle_Nutzung,Nutzungen!$BC$75,FALSE)","v":{"$error":"#N/A"}},{"$f":"VLOOKUP($D39,Tabelle_Nutzung,Nutzungen!$BB$75,FALSE)","v":{"$error":"#N/A"}},{"$f":"VLOOKUP($D39,Tabelle_Nutzung,Nutzungen!$BA$75,FALSE)","v":{"$error":"#N/A"}},{"$f":"IFERROR(VLOOKUP(D39,Tabelle_Nutzung,Nutzungen!$P$75,FALSE),no_value)","v":"-"},"-","-","-",null,{"$f":"IF(H39=ja,IFERROR(VLOOKUP(D39,Tabelle_Nutzung,Nutzungen!$O$75,FALSE),no_value),no_value)","v":"-"},"-","",null,"-","-","-","",null,"-",null,{"$f":"IF($AO$1=\"X\",IFERROR(VLOOKUP(D39,Tabelle_Nutzung,Nutzungen!$BM$75,FALSE),no_value),$AX$1)","v":"-"},"ja",{"$f":"IFERROR(IF(AND(AG39=ja,W39=pass,AB39=pass,AF39>=f_day_min,AF39<>\"\"),MAX(MIN(K_day_sub_max,AP39*K_day_sub_m+K_day_sub_b),K_day_sub_min),no_valu),no_value)","v":"-"},null,"ja",{"$f":"IFERROR(IF(AND(AJ39=ja,W39=pass,AB39=pass),MAX(MIN(K_pr_sub_max,AP39*K_pr_sub_m+K_pr_sub_b),K_pr_sub_min),no_valu),no_value)","v":"-"},null,"-",null,"-",0,0,{"$f":"IF($AO$1=\"X\",IFERROR(VLOOKUP($D39,Tabelle_Nutzung,Nutzungen!$G$75,FALSE),no_value),$AR$1)","v":"-"},{"$f":"IF($AO$1=\"X\",IFERROR(VLOOKUP($D39,Tabelle_Nutzung,Nutzungen!$I$75,FALSE),no_value),$AS$1)","v":"-"},{"$f":"IF($AO$1=\"X\",IFERROR(VLOOKUP($D39,Tabelle_Nutzung,Nutzungen!$J$75,FALSE),no_value),$AT$1)","v":"-"},{"$f":"IF($AO$1=\"X\",IFERROR(VLOOKUP(D39,Tabelle_Nutzung,Nutzungen!$R$75,FALSE),no_value),$AU$1)","v":"-"},{"$f":"IF(ISNUMBER(AU39),IF(AND(AU39>=0.9,D39<>Nutzungen!$B$93),1-AU39*0.95,1-AU39*0.5),no_value)","v":"-"},"-","-","-","-","-","-","-","-","-","-","-","-","-",0,"-","-",{"$f":"IFERROR(IF(AND(AG39=ja,W39=pass,AB39=pass),infla_Bel*MAX(MIN(K_day_inv_max,AP39*K_day_inv_m+K_day_inv_b),K_day_inv_min),no_valu),no_value)","v":"-"},{"$f":"IFERROR(IF(AND(AJ39=ja,W39=pass,AB39=pass),infla_Bel*MAX(MIN(K_pr_inv_max,AP39*K_pr_inv_m+K_pr_inv_b),K_pr_inv_min),no_valu),no_value)","v":"-"},"-","-","-","-","-","-","-","-","-","-",null,{"$f":"IF(I39=ja,VLOOKUP(D39,Tabelle_Nutzung,Nutzungen!$AA$75,FALSE),no_value)","v":"-"},null,"-","",null,"-",null,{"$f":"IF($AO$1=\"X\",IFERROR(VLOOKUP($D39,Tabelle_Nutzung,Nutzungen!$L$75,FALSE),no_value),$CG$1)","v":"-"},{"$f":"IFERROR(VLOOKUP(D39,Tabelle_Nutzung,Nutzungen!$BN$75,FALSE),no_value)","v":"-"},"-","-",{"$f":"IF($AO$1=\"X\",IFERROR(VLOOKUP($D39,Tabelle_Nutzung,Nutzungen!$K$75,FALSE),no_value),$CK$1)","v":"-"},"-",{"$f":"IFERROR(IF(VLOOKUP($D39,Tabelle_Nutzung,Nutzungen!$AK$75,FALSE)>15,ja,nein),no_value)","v":"-"},"-",{"$f":"IFERROR(IF(AND(CH39=1,CJ39>0),DATA_RLT!$AA$5,no_value),no_value)","v":"-"},{"$f":"IFERROR(IF(AND(CH39=1,CJ39>0),DATA_RLT!$AA$12,no_value),no_value)","v":"-"},"-","-","-","-","-","-","-","-",0,"-","-","-",0,"-","-",0,"-",0,"-","-","-"]
[]
[null,"Primärenergiekennwerte",null,null,null,"qp,Bel"]
[null,"Bestand",null,null,null,{"$f":"SUMPRODUCT(BG5:BG39,J5:J39)/A_EBF*qpel","v":{"$error":"#DIV/0!"}}]
[null,"Modernisiert",null,null,null,{"$f":"SUMPRODUCT(BH5:BH39,J5:J39)/A_EBF*qpel","v":{"$error":"#DIV/0!"}}]
[null,"Energetische Verbesserung in %",null,null,null,{"$f":"IFERROR(1-F43/F42,no_value)","v":"-"}]
[null,{"$f":"Wärmeschutz!I51","v":"Primärenergieeinsparung"},null,null,null,{"$f":"F42-F43","v":{"$error":"#DIV/0!"}}]
[]
[null,"Anforderungen an Lüftungsanlagen",null,null,null,"Zuluft","Abluft"]
[null,"Totaldruckerhöhung Zuluft",null,null,null,null,null,"Pa"]
[null,"Gesamtwirkungsgrad ntot",null,null,null,null,"(Motor, Ventilator, Antrieb, FU)"]
[null,"Spezifische Leistungsaufnahme SFP",null,null,null,{"$f":"IF(ISNUMBER(F51),no_value,IF(ISNUMBER(SUM(F48,G48)/F49/1000),SUM(F48,G48)/F49/1000,no_value))","v":"-"},"kW/(m³/s)"]
[null,"Spezifische Leistungsaufnahme (direkte Eingabe) SFP",null,null,null,null,"kW/(m³/s)"]
[]
[null,{"$f":"B41","v":"Primärenergiekennwerte"},null,null,null,"qP,RLT"]
[null,"Abluftanlage",null,null,null,{"$f":"IFERROR((SUMPRODUCT(CR5:CR39,$J$5:$J$39)*qPh+SUMPRODUCT(CT5:CT39,$J$5:$J$39)*qpel)/A_EBF,no_value)","v":"-"}]
[null,"Hyg. Lüftung mit WRG",null,null,null,{"$f":"IFERROR((SUMPRODUCT(CS5:CS39,$J$5:$J$39)*qPh+SUMPRODUCT(CU5:CU39,$J$5:$J$39)*qpel)/A_EBF,no_value)","v":"-"}]
[null,{"$f":"B44","v":"Energetische Verbesserung in %"},null,null,null,{"$f":"IFERROR(1-F55/F54,no_value)","v":"-"}]
[null,{"$f":"B45","v":"Primärenergieeinsparung"},null,null,null,{"$f":"IFERROR(F54-F55,no_value)","v":"-"}]
[]
[null,"Gesamtprojekt - Zielwerte",null,null,null,"vZiel,RLT",null,"qZiel,Bel"]
[null,"Zielwert - Gesamtprojekt",null,null,null,{"$f":"IFERROR(ROUND(SUM(DATA!F45:F46)/DATA!F48/3600*F72/A_EBF,2),no_value)","v":"-"},null,{"$f":"IFERROR(ROUND(SUMPRODUCT($J$5:$J$39,Z5:Z39)/SUM($J$5:$J$39),2),no_value)","v":"-"}]
[null,"Erreichter Wert - Gesamtprojekt",null,null,null,{"$f":"IFERROR(ROUND(IF(ISNUMBER(F51),F51,IF(ISNUMBER(F50),F50,no_value))/3.6*F71/A_EBF,2),no_value)","v":"-"},null,{"$f":"IFERROR(ROUND(SUMPRODUCT($J$5:$J$39,AA5:AA39)/SUM($J$5:$J$39),2),no_value)","v":"-"}]
[null,"Anforderung erfüllt",null,null,null,{"$f":"IFERROR(IF(F61<=F60,pass,fail),fail)","v":"ü"},null,{"$f":"IFERROR(IF(H61<=H60,pass,fail),fail)","v":"ü"}]
[]
[null,"Förderung für die Beleuchtungssanierung",null,null,null,"fFörderung, Bel",null,"fFörderung, Bel"]
[null,"Förderung über Sanierung",null,null,null,{"$f":"IF(H62=pass,ROUND(SUMPRODUCT(AD5:AD39,$J$5:$J$39),-1),no_value)","v":0},null,{"$f":"IFERROR(F65/A_EBF,no_value)","v":"-"}]
[null,"Bonus über Tageslichtsteuerung",null,null,null,{"$f":"IF(H62=pass,ROUND(SUMPRODUCT(AH5:AH39,$J$5:$J$39),-1),no_value)","v":0},null,{"$f":"IFERROR(F66/A_EBF,no_value)","v":"-"}]
[null,"Bonus über Präsenzerfassung",null,null,null,{"$f":"IF(H62=pass,ROUND(SUMPRODUCT(AK5:AK39,$J$5:$J$39),-1),no_value)","v":0},null,{"$f":"IFERROR(F67/A_EBF,no_value)","v":"-"}]
[null,"Summe Förderung",null,null,null,{"$f":"IFERROR(F65+F66+F67,no_value)","v":0},null,{"$f":"IFERROR(F68/A_EBF,no_value)","v":"-"}]
[]
[null,"Förderung für Lüftungsanlagen",null,null,null,"fFörderung, RLT"]
[null,"Projektierter Gesamtvolumenstrom aller Räume/Zonen",null,null,null,{"$f":"IFERROR(SUM(CB5:CB39),no_value)","v":0},null,null,null,null,null,null,null,null,null,null,null,null,null,null,null,null,null,null,null,null,null,null,null,null,null,null,null,null,null,null,null,null,null,null,null,null,null,null,null,null,null,null,null,null,null,null,null,null,null,null,null,null,null,null,null,null,null,null,null,null,null,null,null,null,null,null,null,null,null,null,null," VRLT=Si Ai ·nproj,i"]
[null,"Für Förderung anrechenbarer Volumenstrom",null,null,null,{"$f":"IFERROR(SUMIF(CC5:CC39,pass,CJ5:CJ39),no_value)","v":0},null,null,null,null,null,null,null,null,null,null,null,null,null,null,null,null,null,null,null,null,null,null,null,null,null,null,null,null,null,null,null,null,null,null,null,null,null,null,null,null,null,null,null,null,null,null,null,null,null,null,null,null,null,null,null,null,null,null,null,null,null,null,null,null,null,null,null,null,null,null,null," V'RLT=Si Ai·min[nhyg,i; nproj,i]"]
[null,"Förderhöhe bezogen auf den hygienischen Luftwechsel",null,null,null,{"$f":"IF(F62=pass,IFERROR(f_sub_RLT*MAX(f_RLT_min,MIN(f_RLT_max,f_sub_RLT_a0*LN(V_RLT_SUB)+f_sub_RLT_a1)),0),0)","v":0},null,null,null,null,null,null,null,null,null,null,null,null,null,null,null,null,null,null,null,null,null,null,null,null,null,null,null,null,null,null,null,null,null,null,null,null,null,null,null,null,null,null,null,null,null,null,null,null,null,null,null,null,null,null,null,null,null,null,null,null,null,null,null,null,null,null,null,null,null,null,null,"auf V'RLT bezogen"]
[null,"Summe Förderung Lüftungsanlagen",null,null,null,{"$f":"IFERROR(ROUND(F72*F73,-1),0)","v":0},null,{"$f":"IFERROR(F74/A_EBF,no_value)","v":"-"}]
[]
[null,{"$f":"Wärmeschutz!B57","v":"Ministère du Développement durable et des Infrastructures Département de l’Environnement"},null,null,null,null,null,null,null,null,null,null,null,null,null,null,null,null,null,null,null,null,null,null,null,null,null,null,null,null,null,null,null,null,null,null,null,null,null,null,null,null,null,null,null,null,null,null,null,null,null,null,null,null,null,null,null,null,null,null,null,null,null,null,null,null,null,null,null,null,null,null,null,null,null,null,null,null,null,null,null,null,{"$f":"\"SubCalC, Version \"&version&\" (\"&datum&\")\"","v":"SubCalC, Version 1.02 (8.8.2014)"}]
[null,{"$f":"Wärmeschutz!B58","v":"Goblet Lavandier & Associés S.A."}]
[null,null,null,null,null,null,null,null,null,null,null,null,null,null,null,null,null,null,null,null,null,null,null,null,null,null,null,null,null,null,null,null,null,null,null,null,null,null,null,null,null,null,null,null,null,null,null,null,null,null,"Berechnung von tLi,min"]
[null,null,null,null,null,null,null,null,null,null,null,null,null,null,null,null,null,null,null,null,null,null,null,null,null,null,null,null,null,null,null,null,null,null,null,null,null,null,null,null,null,null,null,null,null,null,null,null,null,null,null,"man","auto"]
[null,null,null,null,null,null,null,null,null,null,null,null,null,null,null,null,null,null,null,null,null,null,null,null,null,null,null,null,null,null,null,null,null,null,null,null,null,null,null,null,null,null,null,null,null,null,null,null,null,null,null,{"$f":"MIN(11,2*AZ81*AZ82*AZ83*AZ84*MAX(AZ85,AZ86)*AZ87)","v":6.5999999999999988},{"$f":"MIN(11,2*BA81*BA82*BA83*BA84*MAX(BA85,BA86)*BA87)","v":3.2999999999999994}]
[null,null,null,null,null,null,null,null,null,null,null,null,null,null,null,null,null,null,null,null,null,null,null,null,null,null,null,null,null,null,null,null,null,null,null,null,null,null,null,null,null,null,null,null,null,null,null,null,null,null,"kc",2,1]
[null,null,null,null,null,null,null,null,null,null,null,null,null,null,null,null,null,null,null,null,null,null,null,null,null,null,null,null,null,null,null,null,null,null,null,null,null,null,null,null,null,null,null,null,null,null,null,null,null,null,"kre",1.1000000000000001,{"$f":"AZ82","v":1.1000000000000001}]
[null,null,null,null,null,null,null,null,null,null,null,null,null,null,null,null,null,null,null,null,null,null,null,null,null,null,null,null,null,null,null,null,null,null,null,null,null,null,null,null,null,null,null,null,null,null,null,null,null,null,"kt",{"$f":"0.7/0.7","v":1},1]
[null,null,null,null,null,null,null,null,null,null,null,null,null,null,null,null,null,null,null,null,null,null,null,null,null,null,null,null,null,null,null,null,null,null,null,null,null,null,null,null,null,null,null,null,null,null,null,null,null,null,"ksp",1,1]
[null,null,null,null,null,null,null,null,null,null,null,null,null,null,null,null,null,null,null,null,null,null,null,null,null,null,null,null,null,null,null,null,null,null,null,null,null,null,null,null,null,null,null,null,null,null,null,null,null,null,"kli",{"$f":"1.8/((2.7-0.3)-1.2)","v":1.4999999999999996},1.4999999999999996]
[null,null,null,null,null,null,null,null,null,null,null,null,null,null,null,null,null,null,null,null,null,null,null,null,null,null,null,null,null,null,null,null,null,null,null,null,null,null,null,null,null,null,null,null,null,null,null,"Balkontefe","aB",0,"kb",{"$f":"1/(1-(0.25*$AX$86))","v":1},1,null,0,100]
[null,null,null,null,null,null,null,null,null,null,null,null,null,null,null,null,null,null,null,null,null,null,null,null,null,null,null,null,null,null,null,null,null,null,null,null,null,null,null,null,null,null,null,null,null,null,null,"Hähenunterschied","dH",0,"ksur",{"$f":"1/(1-(0.35*$AX$87/$AX$88))","v":1},{"$f":"AZ87","v":1},null,0,100]
[null,null,null,null,null,null,null,null,null,null,null,null,null,null,null,null,null,null,null,null,null,null,null,null,null,null,null,null,null,null,null,null,null,null,null,null,null,null,null,null,null,null,null,null,null,null,null,"Entfernung","d",20]
[]
[null,null,null,null,null,null,null,null,null,null,null,null,null,null,null,null,null,null,null,null,null,null,null,null,null,null,null,null,null,null,null,null,null,null,null,null,null,null,null,null,null,null,null,null,null,null,null,null,null,null,"zg0","Em",0,{"$f":"BA90+0.05","v":0.05},{"$f":"BB90+0.05","v":0.1},0.15000000000000002,0.2,0.25,0.3,{"$f":"BG90+0.05","v":0.35},0.39999999999999997,0.44999999999999996,{"$f":"BJ90+0.05","v":0.49999999999999994}]
[null,null,null,null,null,null,null,null,null,null,null,null,null,null,null,null,null,null,null,null,null,null,null,null,null,null,null,null,null,null,null,null,null,null,null,null,null,null,null,null,null,null,null,null,null,null,null,null,null,null,{"$f":"MAX(0.175,0.35*(0.375+$AZ91/800))","v":0.17499999999999999},0,{"$f":"IF(BA$90>=$AY91,$AY$4,0.5*(11-$AY$4)*COS(PI()*BA$90/$AY91)+0.5*(11+$AY$4))","v":11},10.171677564089213,8.310453945296107,6.8178684906146758,6.5999999999999988,6.5999999999999988,6.5999999999999988,6.5999999999999988,6.5999999999999988,6.5999999999999988,6.5999999999999988]
[null,null,null,null,null,null,null,null,null,null,null,null,null,null,null,null,null,null,null,null,null,null,null,null,null,null,null,null,null,null,null,null,null,null,null,null,null,null,null,null,null,null,null,null,null,null,null,null,null,null,0.17499999999999999,{"$f":"AZ91+100","v":100},11,10.171677564089213,8.310453945296107,6.8178684906146758,6.5999999999999988,6.5999999999999988,6.5999999999999988,6.5999999999999988,6.5999999999999988,6.5999999999999988,6.5999999999999988]
[null,null,null,null,null,null,null,null,null,null,null,null,null,null,null,null,null,null,null,null,null,null,null,null,null,null,null,null,null,null,null,null,null,null,null,null,null,null,null,null,null,null,null,null,null,null,null,null,null,null,0.21875,{"$f":"AZ92+100","v":200},11,10.456757225207944,9.095313184798842,7.5880266408053725,6.679281706469121,6.5999999999999988,6.5999999999999988,6.5999999999999988,6.5999999999999988,6.5999999999999988,6.5999999999999988]
[null,null,null,null,null,null,null,null,null,null,null,null,null,null,null,null,null,null,null,null,null,null,null,null,null,null,null,null,null,null,null,null,null,null,null,null,null,null,null,null,null,null,null,null,null,null,null,null,null,null,0.26249999999999996,300,11,10.617725303495188,9.6037502536060675,8.310453945296107,7.1872858819743799,6.6245721823047159,6.5999999999999988,6.5999999999999988,6.5999999999999988,6.5999999999999988,6.5999999999999988]
[null,null,null,null,null,null,null,null,null,null,null,null,null,null,null,null,null,null,null,null,null,null,null,null,null,null,null,null,null,null,null,null,null,null,null,null,null,null,null,null,null,null,null,null,null,null,null,null,null,null,0.30624999999999997,400,11,10.716901149071456,9.9404636502831547,8.8705134706576398,7.7824157614701601,6.9562061692379489,6.604520135949258,6.5999999999999988,6.5999999999999988,6.5999999999999988,6.5999999999999988]
[null,null,null,null,null,null,null,null,null,null,null,null,null,null,null,null,null,null,null,null,null,null,null,null,null,null,null,null,null,null,null,null,null,null,null,null,null,null,null,null,null,null,null,null,null,null,null,null,null,null,0.35,500,11,10.782131509385321,10.171677564089213,9.2895460547038908,8.310453945296107,7.4283224359107844,6.8178684906146767,6.5999999999999988,6.5999999999999988,6.5999999999999988,6.5999999999999988]
[null,null,null,null,null,null,null,null,null,null,null,null,null,null,null,null,null,null,null,null,null,null,null,null,null,null,null,null,null,null,null,null,null,null,null,null,null,null,null,null,null,null,null,null,null,null,null,null,null,null,0.39374999999999999,600,11,10.827247666114896,10.33612099978936,9.6037502536060675,8.7451524781762391,7.8951683731126536,7.1872858819743808,6.7326762342710005,6.5999999999999988,6.5999999999999988,6.5999999999999988]
[null,null,null,null,null,null,null,null,null,null,null,null,null,null,null,null,null,null,null,null,null,null,null,null,null,null,null,null,null,null,null,null,null,null,null,null,null,null,null,null,null,null,null,null,null,null,null,null,null,null,0.4375,700,11,10.859716715407421,10.456757225207944,9.8425110574405963,9.095313184798842,8.310453945296107,7.5880266408053734,7.0201626123751142,6.679281706469121,6.5999999999999988,6.5999999999999988]
[null,null,null,null,null,null,null,null,null,null,null,null,null,null,null,null,null,null,null,null,null,null,null,null,null,null,null,null,null,null,null,null,null,null,null,null,null,null,null,null,null,null,null,null,null,null,null,null,null,null,0.48124999999999996,800,11,10.883846622642203,10.547651587906646,10.026915067371023,9.3766237024660235,8.6654443461919453,7.9684732568564041,7.3593063853203713,6.9022680856778411,6.6456188507336726,6.5999999999999988]
[null,null,null,null,null,null,null,null,null,null,null,null,null,null,null,null,null,null,null,null,null,null,null,null,null,null,null,null,null,null,null,null,null,null,null,null,null,null,null,null,null,null,null,null,null,null,null,null,null,null,0.52499999999999991,900,11,10.902260172729509,10.617725303495188,10.171677564089213,9.6037502536060675,8.9644062058901319,8.310453945296107,7.6999999999999984,7.1872858819743799,6.8178684906146767,6.6245721823047159]
[null,null,null,null,null,null,null,null,null,null,null,null,null,null,null,null,null,null,null,null,null,null,null,null,null,null,null,null,null,null,null,null,null,null,null,null,null,null,null,null,null,null,null,null,null,null,null,null,null,null,0.56874999999999998,1000,11,10.916626643655921,10.672825771485572,10.287076017118459,9.7886148821277548,9.2152227099964161,8.6103591642626363,8.0198692485064207,7.4885085319677032,7.0565509477076001,6.7567362717243338]
[]
[null,null,null,null,null,null,null,null,null,null,null,null,null,null,null,null,null,null,null,null,null,null,null,null,null,null,null,null,null,null,null,null,null,null,null,null,null,null,null,null,null,null,null,null,null,null,null,null,null,null,"zg0",{"$f":"AZ90","v":"Em"},{"$f":"BA90","v":0},0.05,0.1,0.15000000000000002,0.2,0.25,0.3,{"$f":"BH90","v":0.35},0.39999999999999997,0.44999999999999996,{"$f":"BK90","v":0.49999999999999994}]
[null,null,null,null,null,null,null,null,null,null,null,null,null,null,null,null,null,null,null,null,null,null,null,null,null,null,null,null,null,null,null,null,null,null,null,null,null,null,null,null,null,null,null,null,null,null,null,null,null,null,{"$f":"AY91","v":0.17499999999999999},{"$f":"AZ91","v":0},{"$f":"IF(BA$103>=$AY104,$AZ$4,0.5*(11-$AZ$4)*COS(PI()*BA$103/$AY104)+0.5*(11+$AZ$4))","v":11},9.5504357371561248,6.2932944042681882,3.6812698585756847,3.2999999999999994,3.2999999999999994,3.2999999999999994,3.2999999999999994,3.2999999999999994,3.2999999999999994,3.2999999999999994]
[null,null,null,null,null,null,null,null,null,null,null,null,null,null,null,null,null,null,null,null,null,null,null,null,null,null,null,null,null,null,null,null,null,null,null,null,null,null,null,null,null,null,null,null,null,null,null,null,null,null,{"$f":"AY92","v":0.17499999999999999},100,11,9.5504357371561248,6.2932944042681882,3.6812698585756847,3.2999999999999994,3.2999999999999994,3.2999999999999994,3.2999999999999994,3.2999999999999994,3.2999999999999994,3.2999999999999994]
[null,null,null,null,null,null,null,null,null,null,null,null,null,null,null,null,null,null,null,null,null,null,null,null,null,null,null,null,null,null,null,null,null,null,null,null,null,null,null,null,null,null,null,null,null,null,null,null,null,null,0.21875,200,11,10.049325144113903,7.666798073397973,5.0290466214094032,3.438742986320964,3.2999999999999994,3.2999999999999994,3.2999999999999994,3.2999999999999994,3.2999999999999994,3.2999999999999994]
[null,null,null,null,null,null,null,null,null,null,null,null,null,null,null,null,null,null,null,null,null,null,null,null,null,null,null,null,null,null,null,null,null,null,null,null,null,null,null,null,null,null,null,null,null,null,null,null,null,null,0.26249999999999996,300,11,10.33101928111658,8.5565629438106185,6.2932944042681873,4.3277502934551659,3.3430013190332541,3.2999999999999994,3.2999999999999994,3.2999999999999994,3.2999999999999994,3.2999999999999994]
[null,null,null,null,null,null,null,null,null,null,null,null,null,null,null,null,null,null,null,null,null,null,null,null,null,null,null,null,null,null,null,null,null,null,null,null,null,null,null,null,null,null,null,null,null,null,null,null,null,null,0.30624999999999997,400,11,10.50457701087505,9.1458113879955203,7.2733985736508711,5.3692275825727824,3.9233607961664125,3.3079102379112042,3.2999999999999994,3.2999999999999994,3.2999999999999994,3.2999999999999994]
[null,null,null,null,null,null,null,null,null,null,null,null,null,null,null,null,null,null,null,null,null,null,null,null,null,null,null,null,null,null,null,null,null,null,null,null,null,null,null,null,null,null,null,null,null,null,null,null,null,null,0.35,500,11,10.618730141424313,9.5504357371561248,8.006705595731809,6.2932944042681882,4.749564262843875,3.6812698585756856,3.2999999999999994,3.2999999999999994,3.2999999999999994,3.2999999999999994]
[null,null,null,null,null,null,null,null,null,null,null,null,null,null,null,null,null,null,null,null,null,null,null,null,null,null,null,null,null,null,null,null,null,null,null,null,null,null,null,null,null,null,null,null,null,null,null,null,null,null,0.39374999999999999,600,11,10.69768341570107,9.8382117496313803,8.5565629438106203,7.0540168368084188,5.5665446529471447,4.3277502934551677,3.5321834099742517,3.2999999999999994,3.2999999999999994,3.2999999999999994]
[null,null,null,null,null,null,null,null,null,null,null,null,null,null,null,null,null,null,null,null,null,null,null,null,null,null,null,null,null,null,null,null,null,null,null,null,null,null,null,null,null,null,null,null,null,null,null,null,null,null,0.4375,700,11,10.754504251962988,10.049325144113903,8.9743943505210435,7.666798073397973,6.2932944042681891,5.0290466214094049,4.0352845716564518,3.438742986320964,3.2999999999999994,3.2999999999999994]
[null,null,null,null,null,null,null,null,null,null,null,null,null,null,null,null,null,null,null,null,null,null,null,null,null,null,null,null,null,null,null,null,null,null,null,null,null,null,null,null,null,null,null,null,null,null,null,null,null,null,0.48124999999999996,800,11,10.796731589623853,10.208390278836633,9.2971013678992929,8.159091479315542,6.9145276058359046,5.6948281994987084,4.628786174310652,3.8289691499362228,3.379832988783928,3.2999999999999994]
[null,null,null,null,null,null,null,null,null,null,null,null,null,null,null,null,null,null,null,null,null,null,null,null,null,null,null,null,null,null,null,null,null,null,null,null,null,null,null,null,null,null,null,null,null,null,null,null,null,null,0.52499999999999991,900,11,10.828955302276642,10.33101928111658,9.550435737156123,8.5565629438106185,7.4377108603077327,6.2932944042681882,5.2249999999999979,4.3277502934551659,3.6812698585756856,3.3430013190332541]
[null,null,null,null,null,null,null,null,null,null,null,null,null,null,null,null,null,null,null,null,null,null,null,null,null,null,null,null,null,null,null,null,null,null,null,null,null,null,null,null,null,null,null,null,null,null,null,null,null,null,0.56874999999999998,1000,11,10.854096626397862,10.427445100099753,9.7523830299573042,8.8800760437235713,7.8766397424937287,6.8181285374596143,5.7847711848862371,4.8548899309434823,4.0989641584883021,3.5742884755175859]
[]
[null,null,null,null,null,null,null,null,null,null,null,null,null,null,null,null,null,null,null,null,null,null,null,null,null,null,null,null,null,null,null,null,null,null,null,null,null,null,null,null,null,null,null,null,null,null,null,null,null,null,{"$f":"BA2","v":"Betriebszeit manuelle Steuerung"}]
[null,null,null,null,null,null,null,null,null,null,null,null,null,null,null,null,null,null,null,null,null,null,null,null,null,null,null,null,null,null,null,null,null,null,null,null,null,null,null,null,null,null,null,null,null,null,null,null,null,null,"fBed",{"$f":"AZ103","v":"Em"},0,0.05,0.1,0.15000000000000002,0.2,0.25,0.3,{"$f":"BH103","v":0.35},0.39999999999999997,{"$f":"BJ103","v":0.44999999999999996},{"$f":"BK103","v":0.49999999999999994}]
[null,null,null,null,null,null,null,null,null,null,null,null,null,null,null,null,null,null,null,null,null,null,null,null,null,null,null,null,null,null,null,null,null,null,null,null,null,null,null,null,null,null,null,null,null,null,null,null,null,null,{"$f":"AV166","v":0.85},{"$f":"AZ104","v":0},{"$f":"$AY118*(BA91*$AU$167/$AU$169/11+$AU$168/$AU$169)*$AU$169","v":2337.5},2174.7308762415487,1808.9919750413451,1515.6921487171048,1472.8799999999994,1472.8799999999994,1472.8799999999994,1472.8799999999994,1472.8799999999994,1472.8799999999994,1472.8799999999994]
[null,null,null,null,null,null,null,null,null,null,null,null,null,null,null,null,null,null,null,null,null,null,null,null,null,null,null,null,null,null,null,null,null,null,null,null,null,null,null,null,null,null,null,null,null,null,null,null,null,null,{"$f":"AY118","v":0.85},100,{"$f":"$AY119*(BA92*$AU$167/$AU$169/11+$AU$168/$AU$169)*$AU$169","v":2337.5},2174.7308762415487,1808.9919750413451,1515.6921487171048,1472.8799999999994,1472.8799999999994,1472.8799999999994,1472.8799999999994,1472.8799999999994,1472.8799999999994,1472.8799999999994]
[null,null,null,null,null,null,null,null,null,null,null,null,null,null,null,null,null,null,null,null,null,null,null,null,null,null,null,null,null,null,null,null,null,null,null,null,null,null,null,null,null,null,null,null,null,null,null,null,null,null,{"$f":"AY119","v":0.85},200,{"$f":"$AY120*(BA93*$AU$167/$AU$169/11+$AU$168/$AU$169)*$AU$169","v":2337.5},2230.7503254680205,1963.2203831456306,1667.0317259484411,1488.4592156925751,1472.8799999999994,1472.8799999999994,1472.8799999999994,1472.8799999999994,1472.8799999999994,1472.8799999999994]
[null,null,null,null,null,null,null,null,null,null,null,null,null,null,null,null,null,null,null,null,null,null,null,null,null,null,null,null,null,null,null,null,null,null,null,null,null,null,null,null,null,null,null,null,null,null,null,null,null,null,0.85,300,{"$f":"$AY121*(BA94*$AU$167/$AU$169/11+$AU$168/$AU$169)*$AU$169","v":2337.5},2262.3812845245475,2063.1305782438362,1808.9919750413451,1588.2843452892473,1477.7085455146146,1472.8799999999994,1472.8799999999994,1472.8799999999994,1472.8799999999994,1472.8799999999994]
[null,null,null,null,null,null,null,null,null,null,null,null,null,null,null,null,null,null,null,null,null,null,null,null,null,null,null,null,null,null,null,null,null,null,null,null,null,null,null,null,null,null,null,null,null,null,null,null,null,null,0.85,400,{"$f":"$AY122*(BA95*$AU$167/$AU$169/11+$AU$168/$AU$169)*$AU$169","v":2337.5},2281.8697889795822,2129.2962912063231,1919.0462175000018,1705.2300717459839,1542.8761313742077,1473.7682272601016,1472.8799999999994,1472.8799999999994,1472.8799999999994,1472.8799999999994]
[null,null,null,null,null,null,null,null,null,null,null,null,null,null,null,null,null,null,null,null,null,null,null,null,null,null,null,null,null,null,null,null,null,null,null,null,null,null,null,null,null,null,null,null,null,null,null,null,null,null,0.85,500,{"$f":"$AY123*(BA96*$AU$167/$AU$169/11+$AU$168/$AU$169)*$AU$169","v":2337.5},2294.6878512828948,2174.7308762415487,2001.3880249586543,1808.9919750413451,1635.6491237584505,1515.6921487171048,1472.8799999999994,1472.8799999999994,1472.8799999999994,1472.8799999999994]
[null,null,null,null,null,null,null,null,null,null,null,null,null,null,null,null,null,null,null,null,null,null,null,null,null,null,null,null,null,null,null,null,null,null,null,null,null,null,null,null,null,null,null,null,null,null,null,null,null,null,0.85,600,{"$f":"$AY124*(BA97*$AU$167/$AU$169/11+$AU$168/$AU$169)*$AU$169","v":2337.5},2303.5533811536957,2207.0447588267898,2063.1305782438362,1894.4122126547138,1727.3864724456052,1588.2843452892475,1498.9514831080437,1472.8799999999994,1472.8799999999994,1472.8799999999994]
[null,null,null,null,null,null,null,null,null,null,null,null,null,null,null,null,null,null,null,null,null,null,null,null,null,null,null,null,null,null,null,null,null,null,null,null,null,null,null,null,null,null,null,null,null,null,null,null,null,null,0.85,700,{"$f":"$AY125*(BA98*$AU$167/$AU$169/11+$AU$168/$AU$169)*$AU$169","v":2337.5},2309.9336969262645,2230.7503254680205,2110.0481614737018,1963.2203831456306,1808.9919750413451,1667.0317259484411,1555.4438631617663,1488.4592156925751,1472.8799999999994,1472.8799999999994]
[null,null,null,null,null,null,null,null,null,null,null,null,null,null,null,null,null,null,null,null,null,null,null,null,null,null,null,null,null,null,null,null,null,null,null,null,null,null,null,null,null,null,null,null,null,null,null,null,null,null,0.85,800,{"$f":"$AY126*(BA99*$AU$167/$AU$169/11+$AU$168/$AU$169)*$AU$169","v":2337.5},2314.6753333792954,2248.6114808945104,2146.2843876250759,2018.4991785514028,1878.7492024101089,1741.7912153052689,1622.0871561081135,1532.2770527815396,1481.8443115275791,1472.8799999999994]
[null,null,null,null,null,null,null,null,null,null,null,null,null,null,null,null,null,null,null,null,null,null,null,null,null,null,null,null,null,null,null,null,null,null,null,null,null,null,null,null,null,null,null,null,null,null,null,null,null,null,0.85,900,{"$f":"$AY127*(BA100*$AU$167/$AU$169/11+$AU$168/$AU$169)*$AU$169","v":2337.5},2318.2936796694062,2262.3812845245475,2174.7308762415487,2063.1305782438362,1937.4965667583469,1808.9919750413451,1689.0349999999994,1588.2843452892473,1515.6921487171048,1477.7085455146146]
[null,null,null,null,null,null,null,null,null,null,null,null,null,null,null,null,null,null,null,null,null,null,null,null,null,null,null,null,null,null,null,null,null,null,null,null,null,null,null,null,null,null,null,null,null,null,null,null,null,null,0.85,1000,{"$f":"$AY128*(BA101*$AU$167/$AU$169/11+$AU$168/$AU$169)*$AU$169","v":2337.5},2321.1167565085861,2273.2087769413306,2197.4071968002181,2099.4573180421135,1986.7831498902499,1867.9247137738091,1751.8907612826415,1647.4759652067987,1562.5943364561238,1503.6793898314304]
[]
[null,null,null,null,null,null,null,null,null,null,null,null,null,null,null,null,null,null,null,null,null,null,null,null,null,null,null,null,null,null,null,null,null,null,null,null,null,null,null,null,null,null,null,null,null,null,null,null,null,null,{"$f":"BB2","v":"Betriebszeit Präsenzerfassung"}]
[null,null,null,null,null,null,null,null,null,null,null,null,null,null,null,null,null,null,null,null,null,null,null,null,null,null,null,null,null,null,null,null,null,null,null,null,null,null,null,null,null,null,null,null,null,null,null,null,null,null,"fBed",{"$f":"AZ117","v":"Em"},0,0.05,0.1,0.15000000000000002,0.2,0.25,0.3,{"$f":"BH117","v":0.35},0.39999999999999997,{"$f":"BJ117","v":0.44999999999999996},{"$f":"BK117","v":0.49999999999999994}]
[null,null,null,null,null,null,null,null,null,null,null,null,null,null,null,null,null,null,null,null,null,null,null,null,null,null,null,null,null,null,null,null,null,null,null,null,null,null,null,null,null,null,null,null,null,null,null,null,null,null,{"$f":"AW166","v":0.71500000000000008},{"$f":"AZ118","v":0},{"$f":"$AY132*(BA91*$AU$167/$AU$169/11+$AU$168/$AU$169)*$AU$169","v":1966.2500000000002},1829.3324429561267,1521.68148488772,1274.9645721561531,1238.9519999999998,1238.9519999999998,1238.9519999999998,1238.9519999999998,1238.9519999999998,1238.9519999999998,1238.9519999999998]
[null,null,null,null,null,null,null,null,null,null,null,null,null,null,null,null,null,null,null,null,null,null,null,null,null,null,null,null,null,null,null,null,null,null,null,null,null,null,null,null,null,null,null,null,null,null,null,null,null,null,{"$f":"AY132","v":0.71500000000000008},100,{"$f":"$AY133*(BA92*$AU$167/$AU$169/11+$AU$168/$AU$169)*$AU$169","v":1966.2500000000002},1829.3324429561267,1521.68148488772,1274.9645721561531,1238.9519999999998,1238.9519999999998,1238.9519999999998,1238.9519999999998,1238.9519999999998,1238.9519999999998,1238.9519999999998]
[null,null,null,null,null,null,null,null,null,null,null,null,null,null,null,null,null,null,null,null,null,null,null,null,null,null,null,null,null,null,null,null,null,null,null,null,null,null,null,null,null,null,null,null,null,null,null,null,null,null,{"$f":"AY133","v":0.71500000000000008},200,{"$f":"$AY134*(BA93*$AU$167/$AU$169/11+$AU$168/$AU$169)*$AU$169","v":1966.2500000000002},1876.4546855407471,1651.4147928813247,1402.2678635919242,1252.0568696708133,1238.9519999999998,1238.9519999999998,1238.9519999999998,1238.9519999999998,1238.9519999999998,1238.9519999999998]
[null,null,null,null,null,null,null,null,null,null,null,null,null,null,null,null,null,null,null,null,null,null,null,null,null,null,null,null,null,null,null,null,null,null,null,null,null,null,null,null,null,null,null,null,null,null,null,null,null,null,0.71500000000000008,300,{"$f":"$AY135*(BA94*$AU$167/$AU$169/11+$AU$168/$AU$169)*$AU$169","v":1966.2500000000002},1903.0619040412375,1735.4568981698153,1521.68148488772,1336.0274198609552,1243.0136588740584,1238.9519999999998,1238.9519999999998,1238.9519999999998,1238.9519999999998,1238.9519999999998]
[null,null,null,null,null,null,null,null,null,null,null,null,null,null,null,null,null,null,null,null,null,null,null,null,null,null,null,null,null,null,null,null,null,null,null,null,null,null,null,null,null,null,null,null,null,null,null,null,null,null,0.71500000000000008,400,{"$f":"$AY136*(BA95*$AU$167/$AU$169/11+$AU$168/$AU$169)*$AU$169","v":1966.2500000000002},1919.4551754357663,1791.1139390735543,1614.2565241323548,1434.3994132922101,1297.8310987441866,1239.6991558717327,1238.9519999999998,1238.9519999999998,1238.9519999999998,1238.9519999999998]
[null,null,null,null,null,null,null,null,null,null,null,null,null,null,null,null,null,null,null,null,null,null,null,null,null,null,null,null,null,null,null,null,null,null,null,null,null,null,null,null,null,null,null,null,null,null,null,null,null,null,0.71500000000000008,500,{"$f":"$AY137*(BA96*$AU$167/$AU$169/11+$AU$168/$AU$169)*$AU$169","v":1966.2500000000002},1930.2374278438469,1829.3324429561267,1683.52051511228,1521.68148488772,1375.8695570438731,1274.9645721561531,1238.9519999999998,1238.9519999999998,1238.9519999999998,1238.9519999999998]
[null,null,null,null,null,null,null,null,null,null,null,null,null,null,null,null,null,null,null,null,null,null,null,null,null,null,null,null,null,null,null,null,null,null,null,null,null,null,null,null,null,null,null,null,null,null,null,null,null,null,0.71500000000000008,600,{"$f":"$AY138*(BA97*$AU$167/$AU$169/11+$AU$168/$AU$169)*$AU$169","v":1966.2500000000002},1937.694902970462,1856.5141206601825,1735.4568981698153,1593.5349788801418,1453.0368562336562,1336.0274198609554,1260.8827181438251,1238.9519999999998,1238.9519999999998,1238.9519999999998]
[null,null,null,null,null,null,null,null,null,null,null,null,null,null,null,null,null,null,null,null,null,null,null,null,null,null,null,null,null,null,null,null,null,null,null,null,null,null,null,null,null,null,null,null,null,null,null,null,null,null,0.71500000000000008,700,{"$f":"$AY139*(BA98*$AU$167/$AU$169/11+$AU$168/$AU$169)*$AU$169","v":1966.2500000000002},1943.0618744732699,1876.4546855407471,1774.9228652396437,1651.4147928813247,1521.68148488772,1402.2678635919242,1308.4027790125447,1252.0568696708133,1238.9519999999998,1238.9519999999998]
[null,null,null,null,null,null,null,null,null,null,null,null,null,null,null,null,null,null,null,null,null,null,null,null,null,null,null,null,null,null,null,null,null,null,null,null,null,null,null,null,null,null,null,null,null,null,null,null,null,null,0.71500000000000008,800,{"$f":"$AY140*(BA99*$AU$167/$AU$169/11+$AU$168/$AU$169)*$AU$169","v":1966.2500000000002},1947.050427489643,1891.4790692230297,1805.4039260610934,1697.9140148991214,1580.3596232037976,1465.1537869920794,1364.4615489615312,1288.9154032221186,1246.4925679320227,1238.9519999999998]
[null,null,null,null,null,null,null,null,null,null,null,null,null,null,null,null,null,null,null,null,null,null,null,null,null,null,null,null,null,null,null,null,null,null,null,null,null,null,null,null,null,null,null,null,null,null,null,null,null,null,0.71500000000000008,900,{"$f":"$AY141*(BA100*$AU$167/$AU$169/11+$AU$168/$AU$169)*$AU$169","v":1966.2500000000002},1950.0940952513242,1903.0619040412375,1829.3324429561267,1735.4568981698153,1629.7765238026095,1521.68148488772,1420.7764999999999,1336.0274198609552,1274.9645721561531,1243.0136588740584]
[null,null,null,null,null,null,null,null,null,null,null,null,null,null,null,null,null,null,null,null,null,null,null,null,null,null,null,null,null,null,null,null,null,null,null,null,null,null,null,null,null,null,null,null,null,null,null,null,null,null,0.71500000000000008,1000,{"$f":"$AY142*(BA101*$AU$167/$AU$169/11+$AU$168/$AU$169)*$AU$169","v":1966.2500000000002},1952.4688010631055,1912.1697358977078,1848.4072302495954,1766.0140969413073,1671.2352378488577,1571.2543180567925,1473.649287431869,1385.8180177916015,1314.4175889013279,1264.859722034674]
[]
[null,null,null,null,null,null,null,null,null,null,null,null,null,null,null,null,null,null,null,null,null,null,null,null,null,null,null,null,null,null,null,null,null,null,null,null,null,null,null,null,null,null,null,null,null,null,null,null,null,null,{"$f":"BC2","v":"Betriebszeit Tageslichtsteuerung"}]
[null,null,null,null,null,null,null,null,null,null,null,null,null,null,null,null,null,null,null,null,null,null,null,null,null,null,null,null,null,null,null,null,null,null,null,null,null,null,null,null,null,null,null,null,null,null,null,null,null,null,"fBed",{"$f":"AZ131","v":"Em"},0,0.05,0.1,0.15000000000000002,0.2,0.25,0.3,{"$f":"BH131","v":0.35},0.39999999999999997,{"$f":"BJ131","v":0.44999999999999996},{"$f":"BK131","v":0.49999999999999994}]
[null,null,null,null,null,null,null,null,null,null,null,null,null,null,null,null,null,null,null,null,null,null,null,null,null,null,null,null,null,null,null,null,null,null,null,null,null,null,null,null,null,null,null,null,null,null,null,null,null,null,{"$f":"AV166","v":0.85},{"$f":"AZ132","v":0},{"$f":"$AY146*(BA104*$AU$167/$AU$169/11+$AU$168/$AU$169)*$AU$169","v":2337.5},2052.6540334227107,1412.6109563223547,899.33626025493368,824.41499999999974,824.41499999999974,824.41499999999974,824.41499999999974,824.41499999999974,824.41499999999974,824.41499999999974]
[null,null,null,null,null,null,null,null,null,null,null,null,null,null,null,null,null,null,null,null,null,null,null,null,null,null,null,null,null,null,null,null,null,null,null,null,null,null,null,null,null,null,null,null,null,null,null,null,null,null,{"$f":"AY146","v":0.85},100,{"$f":"$AY147*(BA105*$AU$167/$AU$169/11+$AU$168/$AU$169)*$AU$169","v":2337.5},2052.6540334227107,1412.6109563223547,899.33626025493368,824.41499999999974,824.41499999999974,824.41499999999974,824.41499999999974,824.41499999999974,824.41499999999974,824.41499999999974]
[null,null,null,null,null,null,null,null,null,null,null,null,null,null,null,null,null,null,null,null,null,null,null,null,null,null,null,null,null,null,null,null,null,null,null,null,null,null,null,null,null,null,null,null,null,null,null,null,null,null,{"$f":"AY147","v":0.85},200,{"$f":"$AY148*(BA106*$AU$167/$AU$169/11+$AU$168/$AU$169)*$AU$169","v":2337.5},2150.688069569037,1682.5106705048534,1164.1805204097723,851.67862746200717,824.41499999999974,824.41499999999974,824.41499999999974,824.41499999999974,824.41499999999974,824.41499999999974]
[null,null,null,null,null,null,null,null,null,null,null,null,null,null,null,null,null,null,null,null,null,null,null,null,null,null,null,null,null,null,null,null,null,null,null,null,null,null,null,null,null,null,null,null,null,null,null,null,null,null,0.85,300,{"$f":"$AY149*(BA107*$AU$167/$AU$169/11+$AU$168/$AU$169)*$AU$169","v":2337.5},2206.0422479179579,1857.3535119267131,1412.6109563223545,1026.372604256183,832.86495465057544,824.41499999999974,824.41499999999974,824.41499999999974,824.41499999999974,824.41499999999974]
[null,null,null,null,null,null,null,null,null,null,null,null,null,null,null,null,null,null,null,null,null,null,null,null,null,null,null,null,null,null,null,null,null,null,null,null,null,null,null,null,null,null,null,null,null,null,null,null,null,null,0.85,400,{"$f":"$AY150*(BA108*$AU$167/$AU$169/11+$AU$168/$AU$169)*$AU$169","v":2337.5},2240.1471307142692,1973.1435096110649,1605.2058806250034,1231.0276255554722,946.90822990486447,825.96939770517838,824.41499999999974,824.41499999999974,824.41499999999974,824.41499999999974]
[null,null,null,null,null,null,null,null,null,null,null,null,null,null,null,null,null,null,null,null,null,null,null,null,null,null,null,null,null,null,null,null,null,null,null,null,null,null,null,null,null,null,null,null,null,null,null,null,null,null,0.85,500,{"$f":"$AY151*(BA109*$AU$167/$AU$169/11+$AU$168/$AU$169)*$AU$169","v":2337.5},2262.5787397450663,2052.6540334227107,1749.3040436776446,1412.6109563223547,1109.2609665772889,899.3362602549339,824.41499999999974,824.41499999999974,824.41499999999974,824.41499999999974]
[null,null,null,null,null,null,null,null,null,null,null,null,null,null,null,null,null,null,null,null,null,null,null,null,null,null,null,null,null,null,null,null,null,null,null,null,null,null,null,null,null,null,null,null,null,null,null,null,null,null,0.85,600,{"$f":"$AY152*(BA110*$AU$167/$AU$169/11+$AU$168/$AU$169)*$AU$169","v":2337.5},2278.093417018968,2109.2033279468824,1857.3535119267133,1562.096372145749,1269.8013267798092,1026.3726042561834,870.04009543907671,824.41499999999974,824.41499999999974,824.41499999999974]
[null,null,null,null,null,null,null,null,null,null,null,null,null,null,null,null,null,null,null,null,null,null,null,null,null,null,null,null,null,null,null,null,null,null,null,null,null,null,null,null,null,null,null,null,null,null,null,null,null,null,0.85,700,{"$f":"$AY153*(BA111*$AU$167/$AU$169/11+$AU$168/$AU$169)*$AU$169","v":2337.5},2289.2589696209634,2150.688069569037,1939.4592825789782,1682.5106705048534,1412.6109563223547,1164.1805204097725,968.90176053309131,851.67862746200717,824.41499999999974,824.41499999999974]
[null,null,null,null,null,null,null,null,null,null,null,null,null,null,null,null,null,null,null,null,null,null,null,null,null,null,null,null,null,null,null,null,null,null,null,null,null,null,null,null,null,null,null,null,null,null,null,null,null,null,0.85,800,{"$f":"$AY154*(BA112*$AU$167/$AU$169/11+$AU$168/$AU$169)*$AU$169","v":2337.5},2297.5568334137674,2181.9450915653933,2002.8726783438835,1779.2485624649551,1534.6861042176911,1295.0096267842212,1085.5275231891992,928.35984236769468,840.10254517326348,824.41499999999974]
[null,null,null,null,null,null,null,null,null,null,null,null,null,null,null,null,null,null,null,null,null,null,null,null,null,null,null,null,null,null,null,null,null,null,null,null,null,null,null,null,null,null,null,null,null,null,null,null,null,null,0.85,900,{"$f":"$AY155*(BA113*$AU$167/$AU$169/11+$AU$168/$AU$169)*$AU$169","v":2337.5},2303.8889394214611,2206.0422479179579,2052.6540334227107,1857.3535119267131,1637.493991827107,1412.6109563223547,1202.6862499999995,1026.372604256183,899.3362602549339,832.86495465057544]
[null,null,null,null,null,null,null,null,null,null,null,null,null,null,null,null,null,null,null,null,null,null,null,null,null,null,null,null,null,null,null,null,null,null,null,null,null,null,null,null,null,null,null,null,null,null,null,null,null,null,0.85,1000,{"$f":"$AY156*(BA114*$AU$167/$AU$169/11+$AU$168/$AU$169)*$AU$169","v":2337.5},2308.8293238900269,2224.9903596473287,2092.3375944003828,1920.9253065736984,1723.7455123079378,1515.7432491041659,1312.6838322446224,1129.9579391118984,981.41508879821708,878.31393220500343]
[]
[null,null,null,null,null,null,null,null,null,null,null,null,null,null,null,null,null,null,null,null,null,null,null,null,null,null,null,null,null,null,null,null,null,null,null,null,null,null,null,null,null,null,null,null,null,null,null,null,null,null,{"$f":"BD2","v":"Betriebszeit Tages-licht + Präsenz"}]
[null,null,null,null,null,null,null,null,null,null,null,null,null,null,null,null,null,null,null,null,null,null,null,null,null,null,null,null,null,null,null,null,null,null,null,null,null,null,null,null,null,null,null,null,null,null,null,null,null,null,"fBed",{"$f":"AZ145","v":"Em"},0,0.05,0.1,0.15000000000000002,0.2,0.25,0.3,{"$f":"BH145","v":0.35},0.39999999999999997,{"$f":"BJ145","v":0.44999999999999996},{"$f":"BK145","v":0.49999999999999994}]
[null,null,null,null,null,null,null,null,null,null,null,null,null,null,null,null,null,null,null,null,null,null,null,null,null,null,null,null,null,null,null,null,null,null,null,null,null,null,null,null,null,null,null,null,null,null,null,null,null,null,{"$f":"AW166","v":0.71500000000000008},{"$f":"AZ146","v":0},{"$f":"$AY160*(BA104*$AU$167/$AU$169/11+$AU$168/$AU$169)*$AU$169","v":1966.2500000000002},1726.6442751732216,1188.2550985535104,756.50050127326779,693.47849999999983,693.47849999999983,693.47849999999983,693.47849999999983,693.47849999999983,693.47849999999983,693.47849999999983]
[null,null,null,null,null,null,null,null,null,null,null,null,null,null,null,null,null,null,null,null,null,null,null,null,null,null,null,null,null,null,null,null,null,null,null,null,null,null,null,null,null,null,null,null,null,null,null,null,null,null,{"$f":"AY160","v":0.71500000000000008},100,{"$f":"$AY161*(BA105*$AU$167/$AU$169/11+$AU$168/$AU$169)*$AU$169","v":1966.2500000000002},1726.6442751732216,1188.2550985535104,756.50050127326779,693.47849999999983,693.47849999999983,693.47849999999983,693.47849999999983,693.47849999999983,693.47849999999983,693.47849999999983]
[null,null,null,null,null,null,null,null,null,null,null,null,null,null,null,null,null,null,null,null,null,null,null,null,null,null,null,null,null,null,null,null,null,null,null,null,null,null,null,null,null,null,null,null,null,null,null,null,null,null,{"$f":"AY161","v":0.71500000000000008},200,{"$f":"$AY162*(BA106*$AU$167/$AU$169/11+$AU$168/$AU$169)*$AU$169","v":1966.2500000000002},1809.1081996963078,1415.2883875423179,979.28126128586723,716.4120219239237,693.47849999999983,693.47849999999983,693.47849999999983,693.47849999999983,693.47849999999983,693.47849999999983]
[null,null,null,null,null,null,null,null,null,null,null,null,null,null,null,null,null,null,null,null,null,null,null,null,null,null,null,null,null,null,null,null,null,null,null,null,null,null,null,null,null,null,null,null,null,null,null,null,null,null,0.71500000000000008,300,{"$f":"$AY163*(BA107*$AU$167/$AU$169/11+$AU$168/$AU$169)*$AU$169","v":1966.2500000000002},1855.6708320721652,1562.3620717971767,1188.2550985535099,863.36048475667155,700.58640302960168,693.47849999999983,693.47849999999983,693.47849999999983,693.47849999999983,693.47849999999983]
[null,null,null,null,null,null,null,null,null,null,null,null,null,null,null,null,null,null,null,null,null,null,null,null,null,null,null,null,null,null,null,null,null,null,null,null,null,null,null,null,null,null,null,null,null,null,null,null,null,null,0.71500000000000008,400,{"$f":"$AY164*(BA108*$AU$167/$AU$169/11+$AU$168/$AU$169)*$AU$169","v":1966.2500000000002},1884.3590570125916,1659.7618933787198,1350.2614172316207,1035.5114732613681,796.51692280232714,694.7860227755325,693.47849999999983,693.47849999999983,693.47849999999983,693.47849999999983]
[null,null,null,null,null,null,null,null,null,null,null,null,null,null,null,null,null,null,null,null,null,null,null,null,null,null,null,null,null,null,null,null,null,null,null,null,null,null,null,null,null,null,null,null,null,null,null,"fman","fprä",null,0.71500000000000008,500,{"$f":"$AY165*(BA109*$AU$167/$AU$169/11+$AU$168/$AU$169)*$AU$169","v":1966.2500000000002},1903.2279987267323,1726.6442751732216,1471.4734014464893,1188.2550985535104,933.08422482677827,756.50050127326813,693.47849999999983,693.47849999999983,693.47849999999983,693.47849999999983]
[null,null,null,null,null,null,null,null,null,null,null,null,null,null,null,null,null,null,null,null,null,null,null,null,null,null,null,null,null,null,null,null,null,null,null,null,null,null,null,null,null,null,null,null,null,"RelAbw",{"$f":"AU1","v":0.3},{"$f":"IF(AU166>=0.9,1-AU166*0.95,1-AU166*0.5)","v":0.85},{"$f":"1-AU166*0.95","v":0.71500000000000008},null,0.71500000000000008,600,{"$f":"$AY166*(BA110*$AU$167/$AU$169/11+$AU$168/$AU$169)*$AU$169","v":1966.2500000000002},1916.2785801983084,1774.2122111553192,1562.3620717971769,1313.9987130402478,1068.1269984088985,863.36048475667201,731.85725675169408,693.47849999999983,693.47849999999983,693.47849999999983]
[null,null,null,null,null,null,null,null,null,null,null,null,null,null,null,null,null,null,null,null,null,null,null,null,null,null,null,null,null,null,null,null,null,null,null,null,null,null,null,null,null,null,null,null,null,"hday",{"$f":"AS1","v":2543},null,null,null,0.71500000000000008,700,{"$f":"$AY167*(BA111*$AU$167/$AU$169/11+$AU$168/$AU$169)*$AU$169","v":1966.2500000000002},1925.6707803282222,1809.1081996963078,1631.4275141693759,1415.2883875423179,1188.2550985535104,979.28126128586757,815.0173632719534,716.4120219239237,693.47849999999983,693.47849999999983]
[null,null,null,null,null,null,null,null,null,null,null,null,null,null,null,null,null,null,null,null,null,null,null,null,null,null,null,null,null,null,null,null,null,null,null,null,null,null,null,null,null,null,null,null,null,"hnight",{"$f":"AT1","v":207},null,null,null,0.71500000000000008,800,{"$f":"$AY168*(BA112*$AU$167/$AU$169/11+$AU$168/$AU$169)*$AU$169","v":1966.2500000000002},1932.6507481068752,1835.4008711403017,1684.769370606914,1496.6620260734626,1290.9418406066461,1089.3316272361392,913.12021068267939,780.91445563870798,706.67449388103944,693.47849999999983]
[null,null,null,null,null,null,null,null,null,null,null,null,null,null,null,null,null,null,null,null,null,null,null,null,null,null,null,null,null,null,null,null,null,null,null,null,null,null,null,null,null,null,null,null,null,"h/d",11,null,null,null,0.71500000000000008,900,{"$f":"$AY169*(BA113*$AU$167/$AU$169/11+$AU$168/$AU$169)*$AU$169","v":1966.2500000000002},1937.9771666898175,1855.6708320721652,1726.6442751732216,1562.3620717971767,1377.4214166545669,1188.2550985535104,1011.6713749999998,863.36048475667155,756.50050127326813,700.58640302960168]
[null,null,null,null,null,null,null,null,null,null,null,null,null,null,null,null,null,null,null,null,null,null,null,null,null,null,null,null,null,null,null,null,null,null,null,null,null,null,null,null,null,null,null,null,null,"d/a",{"$f":"(AU167+AU168)/AU169","v":250},null,null,null,0.71500000000000008,1000,{"$f":"$AY170*(BA114*$AU$167/$AU$169/11+$AU$168/$AU$169)*$AU$169","v":1966.2500000000002},1942.1329018604345,1871.6095378209886,1760.0251529367929,1615.8371696472877,1449.9741662355009,1275.007556599387,1104.1987530057709,950.49403113530309,825.54328057732391,738.81701356067936]
[]
[null,null,null,null,null,null,null,null,null,null,null,null,null,null,null,null,null,null,null,null,null,null,null,null,null,null,null,null,null,null,null,null,null,null,null,null,null,null,null,null,null,null,null,null,null,null,null,null,null,null,null,null,2,{"$f":"BA172+1","v":3},{"$f":"BB172+1","v":4},5,6,7,8,9,10,11,12]
[null,null,null,null,null,null,null,null,null,null,null,null,null,null,null,null,null,null,null,null,null,null,null,null,null,null,null,null,null,null,null,null,null,null,null,null,null,null,null,null,null,null,null,null,null,null,null,null,null,null,null,null,{"$f":"BA159","v":0},{"$f":"BB159","v":0.05},0.1,0.15000000000000002,0.2,0.25,0.3,0.35,0.39999999999999997,0.44999999999999996,0.49999999999999994]
[null,null,null,null,null,null,null,null,null,null,null,null,null,null,null,null,null,null,null,null,null,null,null,null,null,null,null,null,null,null,null,null,null,null,null,null,null,null,null,null,null,null,null,null,null,null,null,null,null,null,{"$f":"AY116","v":"Betriebszeit manuelle Steuerung"},500,{"$f":"VLOOKUP($AZ174,$AZ$118:$BK$128,BA$172,FALSE)","v":2337.5},2294.6878512828948,2174.7308762415487,2001.3880249586543,1808.9919750413451,1635.6491237584505,1515.6921487171048,1472.8799999999994,1472.8799999999994,1472.8799999999994,1472.8799999999994]
[null,null,null,null,null,null,null,null,null,null,null,null,null,null,null,null,null,null,null,null,null,null,null,null,null,null,null,null,null,null,null,null,null,null,null,null,null,null,null,null,null,null,null,null,null,null,null,null,null,null,{"$f":"AY130","v":"Betriebszeit Präsenzerfassung"},{"$f":"AZ174","v":500},{"$f":"VLOOKUP($AZ175,$AZ$132:$BK$142,BA$172,FALSE)","v":1966.2500000000002},1930.2374278438469,1829.3324429561267,1683.52051511228,1521.68148488772,1375.8695570438731,1274.9645721561531,1238.9519999999998,1238.9519999999998,1238.9519999999998,1238.9519999999998]
[null,null,null,null,null,null,null,null,null,null,null,null,null,null,null,null,null,null,null,null,null,null,null,null,null,null,null,null,null,null,null,null,null,null,null,null,null,null,null,null,null,null,null,null,null,null,null,null,null,null,{"$f":"AY144","v":"Betriebszeit Tageslichtsteuerung"},{"$f":"AZ175","v":500},{"$f":"VLOOKUP($AZ176,$AZ$146:$BK$156,BA$172,FALSE)","v":2337.5},2262.5787397450663,2052.6540334227107,1749.3040436776446,1412.6109563223547,1109.2609665772889,899.3362602549339,824.41499999999974,824.41499999999974,824.41499999999974,824.41499999999974]
[null,null,null,null,null,null,null,null,null,null,null,null,null,null,null,null,null,null,null,null,null,null,null,null,null,null,null,null,null,null,null,null,null,null,null,null,null,null,null,null,null,null,null,null,null,null,null,null,null,null,{"$f":"AY158","v":"Betriebszeit Tages-licht + Präsenz"},500,{"$f":"VLOOKUP($AZ177,$AZ$160:$BK$170,BA$172,FALSE)","v":1966.2500000000002},1903.2279987267323,1726.6442751732216,1471.4734014464893,1188.2550985535104,933.08422482677827,756.50050127326813,693.47849999999983,693.47849999999983,693.47849999999983,693.47849999999983]
[null,null,null,null,null,null,null,null,null,null,null,null,null,null,null,null,null,null,null,null,null,null,null,null,null,null,null,null,null,null,null,null,null,null,null,null,null,null,null,null,null,null,null,null,null,null,null,null,null,null,{"$f":"\"Vollbetriebszeit bei \"&AZ174&\" Lux\n\"&AU169&\" h/d und \"&AU170&\" d/a\"","v":"Vollbetriebszeit bei 500 Lux\n11 h/d und 250 d/a"}]
[]
[null,null,null,null,null,null,null,null,null,null,null,null,null,null,null,null,null,null,null,null,null,null,null,null,null,null,null,null,null,null,null,null,null,null,null,null,null,null,null,null,null,null,null,null,null,null,null,null,null,null,{"$f":"AY174","v":"Betriebszeit manuelle Steuerung"},{"$f":"AZ174","v":500},{"$f":"BA174/($AU$167+$AU$168)","v":0.85},0.83443194592105263,0.79081122772419954,0.72777746362132889,0.6578152636513982,0.59478149954852744,0.55116078135167446,0.53559272727272711,0.53559272727272711,0.53559272727272711,0.53559272727272711]
[null,null,null,null,null,null,null,null,null,null,null,null,null,null,null,null,null,null,null,null,null,null,null,null,null,null,null,null,null,null,null,null,null,null,null,null,null,null,null,null,null,null,null,null,null,null,null,null,null,null,{"$f":"AY175","v":"Betriebszeit Präsenzerfassung"},{"$f":"AZ175","v":500},{"$f":"BA175/($AU$167+$AU$168)","v":0.71500000000000008},0.70190451921594432,0.66521179743859149,0.61218927822264724,0.55333872177735277,0.50031620256140841,0.46362348078405563,0.45052799999999993,0.45052799999999993,0.45052799999999993,0.45052799999999993]
[null,null,null,null,null,null,null,null,null,null,null,null,null,null,null,null,null,null,null,null,null,null,null,null,null,null,null,null,null,null,null,null,null,null,null,null,null,null,null,null,null,null,null,null,null,null,null,null,null,null,"Betriebszeit Tageslichtsteuerung",500,{"$f":"BA176/($AU$167+$AU$168)","v":0.85},0.82275590536184229,0.74641964851734932,0.63611056133732535,0.51367671138994719,0.40336762420992323,0.32703136736543054,0.29978727272727262,0.29978727272727262,0.29978727272727262,0.29978727272727262]
[null,null,null,null,null,null,null,null,null,null,null,null,null,null,null,null,null,null,null,null,null,null,null,null,null,null,null,null,null,null,null,null,null,null,null,null,null,null,null,null,null,null,null,null,null,null,null,null,null,null,"Betriebszeit Tages-licht + Präsenz",500,{"$f":"BA177/($AU$167+$AU$168)","v":0.71500000000000008},0.69208290862790267,0.62787064551753513,0.53508123688963249,0.43209276311036743,0.33930335448246485,0.27509109137209747,0.25217399999999995,0.25217399999999995,0.25217399999999995,0.25217399999999995]
[null,null,null,null,null,null,null,null,null,null,null,null,null,null,null,null,null,null,null,null,null,null,null,null,null,null,null,null,null,null,null,null,null,null,null,null,null,null,null,null,null,null,null,null,null,null,null,null,null,null,{"$f":"\"Tageslichtautonomie bei \"&AZ180&\" Lux\n\"&AU169&\" h/d und \"&AU170&\" d/a\"","v":"Tageslichtautonomie bei 500 Lux\n11 h/d und 250 d/a"}]

{"sheet":"DATA","index":3,"n_rows":119,"n_cols":65,"rows_kept":119,"cut":false,"hidden":true,"merged":[[2,32,2,36],[2,37,2,41],[2,42,2,46],[2,53,2,55],[2,50,2,52]]}
[null,null,null,null,null,null,null,null,null,null,null,null,null,null,null,null,null,null,null,null,null,null,null,null,null,null,null,null,null,null,null,null,null,null,null,null,null,null,null,null,"Daten Restkonstruktion","Dicke in cm","Lambda W/(mK)"]
[null,"DIN V 18599: 2011, Teil 4 (aktuelle Ausgabe), 06.03.2014",null,null,null,null,null,null,null,null,null,null,null,"Fördersätze",null,null,null,null,null,"Regression",null,null,null,null,null,null,3,null,null,null,null,null,null,null,null,null,"ESIV",null,null,null,"Dicke sonstige Bauteile",20,null,null,null,"Lambda sonstige Bauteile",2.1]
[null,null,null,null,null,null,null,null,null,null,null,null,null,null,"Büro","Verkehr","sonst",null,null,"Förd.","Kosten",null,null,null,null,null,null,null,null,null,"Listbox_Effizienzstandard",null,"Fördergeld",null,null,null,null,"U-Wert","U-Wert",null,null,null,"Dicke","Dicke",null,null,null,null,null,null,"energiebed. Mehrkosten",null,null,"Vollkosten",null,null,null,null,null,"Trend der Mehrkosten für Verglasung in Abhängigkeit von Uw"]
[null,null,null,null,null,null,null,null,null,null,null,null,null,"Beleuchtung",{"$f":"O20","v":500},{"$f":"P20","v":100},{"$f":"Q20","v":300},null,"b",{"$f":"INTERCEPT(O7:Q7,O4:Q4)","v":4.7121250000000003},{"$f":"INTERCEPT(O5:Q5,O4:Q4)","v":15.707083333333333},null,null,null,null,null,null,null,null,null,"Liste_Effizienzstandard",null,{"$f":"no_value","v":"-"},"ESI","ESII","ESIII","ESIV",{"$f":"no_value","v":"-"},"ESI","ESII","ESIII",{"$f":"AU4","v":"ESIV"},{"$f":"no_value","v":"-"},{"$f":"AM4","v":"ESI"},{"$f":"AN4","v":"ESII"},"ESIII","ESIV","Rse","Rsi","l","Umin","Dmin","€Basis","UAltbau","Daltbau","€Altbau",null,null,null,{"$f":"AM8","v":0.75},{"$f":"AN8","v":0.8},{"$f":"AO8","v":0.85},{"$f":"AP8","v":0.9},{"$f":"BH4","v":0.75},{"$f":"BK4","v":0.9}]
[null,null,null,null,null,null,null,null,null,null,null,null,null,"Kosten (d/i)",{"$f":"O21*(1+f_planung)*(1+f_MWST)","v":63.25},{"$f":"P21*(1+f_planung)*(1+f_MWST)","v":24.035},{"$f":"Q21*(1+f_planung)*(1+f_MWST)","v":48.07},null,"m",{"$f":"SLOPE(O7:Q7,O4:Q4)","v":2.9411249999999996E-2},{"$f":"SLOPE(O5:Q5,O4:Q4)","v":9.80375E-2},null,null,null,null,null,0.7,null,1,{"$f":"AC5+1","v":2},{"$f":"AD5+1","v":3},4,5,6,7,8,9,10,11,12,13,14,15,16,17,18,19,20,21,22,23,24,25,26,27,28,null,null,null,90,{"$f":"TREND($BL$5:$BM$5,$BL$4:$BM$4,BI4)","v":69.999999999999943},{"$f":"TREND($BL$5:$BM$5,$BL$4:$BM$4,BJ4)","v":50},30,{"$f":"BH5","v":90},{"$f":"BK5","v":30}]
[null,null,null,null,null,null,null,null,null,null,null,null,null,"Begrenzung",0.3,{"$f":"O6","v":0.3},{"$f":"P6","v":0.3},null,"min",0,0,null,null,null,null,null,{"$f":"IF(AA5<=INDEX($AM$6:$AM$20,AA2),$AM$4,IF(AA5<=INDEX($AN$6:$AN$20,AA2),$AN$4,IF(AA5<=INDEX($AO$6:$AO$20,AA2),$AO$4,IF(AA5<=INDEX($AP$6:$AP$20,$AA$2),AP4,\"-\"))))","v":"ESI"},1,"-",1,{"$f":"no_value","v":"-"},"-","-","-","-","-","-","-","-","-","-","-","-","-","-","-","-","-","-","-","-","-","-","-",{"$f":"BB6","v":"-"},"-"]
[null,null,null,null,null,null,null,null,null,null,null,null,null,"Kosten_Förder",{"$f":"O5*O6","v":18.974999999999998},{"$f":"P5*P6","v":7.2104999999999997},{"$f":"Q5*Q6","v":14.420999999999999},null,"max",{"$f":"O7*V7","v":15.18},{"$f":"O5","v":63.25},0.8,null,null,null,null,null,2,"Außenwand",{"$f":"AD6+1","v":2},1,1,{"$f":"no_value","v":"-"},36,30,25,20,{"$f":"no_value","v":"-"},0.12,0.17,0.23,{"$f":"ROUND(1/(AV7+AW7+(AU7/100)/AX7+($AP$2/100)/$AU$2),2)","v":0.27},{"$f":"no_value","v":"-"},{"$f":"IF($AF7=1,ROUNDUP((1/AM7-$AV7-$AW7)*$AX7*100,0),no_value)","v":29},{"$f":"IF($AF7=1,ROUNDUP((1/AN7-$AV7-$AW7)*$AX7*100,0),no_value)","v":20},{"$f":"IF($AF7=1,ROUNDUP((1/AO7-$AV7-$AW7)*$AX7*100,0),no_value)","v":15},12,0.04,0.13,3.5000000000000003E-2,0.32,{"$f":"IF($AF7=1,ROUNDUP((1/AY7-$AV7-$AW7-($AP$2/100)/$AU$2)*$AX7*100,0),no_value)","v":11},20,0.9,{"$f":"IF($AF7=1,ROUNDUP((1/BB7-$AV7-$AW7-($AP$2/100)/$AU$2)*$AX7*100,0),no_value)","v":3},90]
[null,null,null,null,null,null,null,null,null,null,null,null,null,null,null,null,null,null,null,null,null,null,null,null,null,null,null,3,"Außenfenster Nord",{"$f":"AD7+1","v":3},1,0,"-",52,48,44,40,"-",0.75,0.8,0.85,0.9,"-",{"$f":"IF($AF8=1,ROUNDUP((1/AM8-$AV8-$AW8)*$AX8*100,0),no_value)","v":"-"},"-","-","-",0.04,0.13,{"$f":"AX7","v":3.5000000000000003E-2},1.5,"-",0,2.7,"-",380,null,"Einfluss der Preissteigerung auf alle Inestitionskosten",null,null,null,null,null,0.02]
[null,null,null,null,null,null,null,null,null,null,null,null,null,"Präsenz",{"$f":"O4","v":500},{"$f":"P4","v":100},300,null,"b",{"$f":"INTERCEPT(O12:Q12,O4:Q4)","v":0.94875000000000043},{"$f":"INTERCEPT(O10:Q10,O4:Q4)","v":3.1625000000000014},null,null,null,null,null,null,4,"Außenfenster Süd",4,0.9,0,"-",{"$f":"AH8","v":52},{"$f":"AI8","v":48},44,40,"-",{"$f":"AM8","v":0.75},{"$f":"AN8","v":0.8},0.85,0.9,"-","-","-","-","-",0.04,0.13,{"$f":"AX8","v":3.5000000000000003E-2},{"$f":"AY8","v":1.5},"-",{"$f":"BA8","v":0},{"$f":"BB8","v":2.7},"-",{"$f":"BD8","v":380},null,"Teuerungsfaktor",2014,{"$f":"BG9+1","v":2015},{"$f":"BH9+1","v":2016},2017,2018,2014]
[null,null,null,null,null,null,null,null,null,null,null,null,null,"Kosten",{"$f":"O22*(1+f_planung)*(1+f_MWST)","v":12.649999999999999},{"$f":"P22*(1+f_planung)*(1+f_MWST)","v":5.0600000000000014},{"$f":"Q22*(1+f_planung)*(1+f_MWST)","v":8.8550000000000004},null,"m",{"$f":"SLOPE(O12:Q12,O4:Q4)","v":5.6924999999999979E-3},{"$f":"SLOPE(O10:Q10,O4:Q4)","v":1.8974999999999995E-2},null,null,null,null,null,null,5,"Außenfenster Ost/West",5,0.95,0,"-",{"$f":"AH8","v":52},48,44,40,"-",{"$f":"AM9","v":0.75},0.8,0.85,0.9,"-","-","-","-","-",0.04,0.13,3.5000000000000003E-2,{"$f":"AY9","v":1.5},"-",{"$f":"BA9","v":0},{"$f":"BB9","v":2.7},"-",{"$f":"BD9","v":380},null,"Wärmedämmung",1,{"$f":"BG10+BG10*$BL$8","v":1.02},1.0404,1.0612079999999999,1.08243216,{"$f":"HLOOKUP($BL$9,$BG$9:$BK$12,BM10,FALSE)","v":1},2]
[null,null,null,null,null,null,null,null,null,null,null,null,null,"Begrenzung",0.3,{"$f":"O11","v":0.3},{"$f":"P11","v":0.3},null,"min",0,0,null,null,null,null,null,null,6,"Wand zu unbeheiztem Dachraum",6,0.9,1,"-",14,13,13,12,"-",0.15,0.22,0.28000000000000003,{"$f":"ROUND(1/(AV11+AW11+(AU11/100)/AX11+($AP$2/100)/$AU$2),2)","v":0.38},"-",23,15,12,8,0.13,0.13,3.5000000000000003E-2,0.4,8,10,0.9,3,40,null,"Lüftung",1,1.02,1.0404,1.0612079999999999,1.08243216,{"$f":"HLOOKUP($BL$9,$BG$9:$BK$12,BM11,FALSE)","v":1},3]
[null,null,null,null,null,null,null,null,null,null,null,null,null,"Kosten_Förder",{"$f":"O10*O11","v":3.7949999999999995},{"$f":"P10*P11","v":1.5180000000000005},{"$f":"Q10*Q11","v":2.6564999999999999},null,"max",{"$f":"O12*V12","v":3.0359999999999996},{"$f":"O10","v":12.649999999999999},0.8,null,null,null,null,null,8,"Wand gegen Erdreich",7,0.65,1,"-",{"$f":"AH11","v":14},{"$f":"AI11","v":13},13,12,"-",{"$f":"AM11","v":0.15},{"$f":"AN11","v":0.22},0.28000000000000003,0.4,"-",23,16,13,{"$f":"AU11","v":8},0,0.13,3.5000000000000003E-2,{"$f":"AY11","v":0.4},8,{"$f":"BA11","v":10},0.9,4,{"$f":"BD11","v":40},null,"Beleuchtung",1,1.02,1.0404,1.0612079999999999,1.08243216,1,4]
[null,"Raumindex k",0.6,0.8,1,1.25,1.5,2,2.5,3,4,5,null,null,null,null,null,null,null,null,null,null,null,null,null,null,null,9,"Wand gegen unbeheizt",8,0.8,1,"-",{"$f":"AH12","v":14},13,13,12,"-",{"$f":"AM12","v":0.15},0.22,0.28000000000000003,0.38,"-",23,15,12,{"$f":"AU12","v":8},0.13,0.13,3.5000000000000003E-2,{"$f":"AY12","v":0.4},8,{"$f":"BA12","v":10},0.9,3,{"$f":"BD12","v":40}]
[null,"Direkt",0.5,0.61,0.69,0.78,0.84,0.9,0.95,0.99,1.03,1.05,null,"Dimmung",{"$f":"O9","v":500},{"$f":"P9","v":100},300,null,"b",{"$f":"INTERCEPT(O17:Q17,O4:Q4)","v":1.1385000000000005},{"$f":"INTERCEPT(O15:Q15,O4:Q4)","v":3.7949999999999999},null,null,null,null,null,null,10,"Dach/Decke gegen außen",9,1,1,"-",42,33,24,15,"-",0.1,0.13,0.17,0.19,"-",35,27,21,18,0.04,0.1,3.5000000000000003E-2,0.25,14,15,0.9,4,90,null,null,null,null,null,"Dämmstoffkosten",2.4,"€/m² je cm"]
[null,"Direkt/Indirekt",0.28999999999999998,0.37,0.43,0.5,0.55000000000000004,0.62,0.67,0.71,0.76,0.79,null,"Kosten",{"$f":"O23*(1+f_planung)*(1+f_MWST)","v":22.77},{"$f":"P23*(1+f_planung)*(1+f_MWST)","v":7.5900000000000016},{"$f":"Q23*(1+f_planung)*(1+f_MWST)","v":15.18},null,"m",{"$f":"SLOPE(O17:Q17,O4:Q4)","v":1.1384999999999996E-2},{"$f":"SLOPE(O15:Q15,O4:Q4)","v":3.7949999999999998E-2},null,null,null,null,null,null,11,"Decke gegen zu unbeheiztem Dachraum",10,0.9,1,"-",35,27,18,10,"-",{"$f":"AM14","v":0.1},{"$f":"AN14","v":0.13},0.17,0.18,"-",35,27,20,{"$f":"AU14","v":18},0.1,0.1,{"$f":"AX7","v":3.5000000000000003E-2},0.3,11,8,0.9,3,45,null,null,null,null,null,null,"C_cm_WB"]
[null,"Indirekt",0.17,0.23,0.28999999999999998,0.36,0.41,0.48,0.53,0.56999999999999995,0.62,0.65,null,"Begrenzung",0.3,{"$f":"O16","v":0.3},{"$f":"P16","v":0.3},null,"min",0,0,null,null,null,null,null,null,12,"Fußboden gegen Außenluft",11,1,1,"-",{"$f":"AH7","v":36},{"$f":"AI7","v":30},25,20,"-",0.12,0.17,0.23,0.26,"-",28,20,15,{"$f":"AU7","v":12},0.17,0.17,3.5000000000000003E-2,{"$f":"AY7","v":0.32},10,{"$f":"BA7","v":20},0.9,3,{"$f":"BD7","v":90}]
[null,null,null,null,null,null,null,null,null,null,null,null,null,"Kosten_Förder",{"$f":"O15*O16","v":6.8309999999999995},{"$f":"P15*P16","v":2.2770000000000006},{"$f":"Q15*Q16","v":4.5539999999999994},null,"max",{"$f":"O17*V17","v":5.4648000000000003},{"$f":"O15","v":22.77},0.8,null,null,null,null,null,13,"Fußboden auf Erdreich",12,0.65,1,"-",{"$f":"AH11","v":14},{"$f":"AI11","v":13},13,12,"-",{"$f":"AM13","v":0.15},{"$f":"AN13","v":0.22},{"$f":"AO13","v":0.28000000000000003},0.39,"-",23,16,12,{"$f":"AU11","v":8},0,0.17,3.5000000000000003E-2,{"$f":"AY11","v":0.4},8,{"$f":"BA11","v":10},0.9,3,{"$f":"BD11","v":40}]
[null,null,null,null,null,null,null,null,null,null,null,null,null,"Mindestfensterflächenateil für Förderung Tageslicht",null,null,null,null,null,0.1,"m²/m²",null,null,null,null,null,null,14,"Fußboden eines beheizten Kellers",13,0.55000000000000004,1,"-",{"$f":"AH17","v":14},{"$f":"AI17","v":13},13,12,"-",{"$f":"AM17","v":0.15},{"$f":"AN17","v":0.22},0.28000000000000003,0.39,"-",23,16,12,{"$f":"AU17","v":8},0,0.17,3.5000000000000003E-2,{"$f":"AY17","v":0.4},8,{"$f":"BA17","v":10},0.9,3,{"$f":"BD17","v":40}]
[null,null,null,null,null,null,null,null,null,"Regression","y=a0*ln(x)+a1",null,null,null,null,null,null,null,null,"f_day_min",null,null,null,null,null,null,null,17,"Kellerdecke",14,0.55000000000000004,1,"-",{"$f":"AH18","v":14},13,13,12,"-",{"$f":"AM18","v":0.15},0.22,0.28000000000000003,0.37,"-",23,15,12,{"$f":"AU18","v":8},0.17,0.17,3.5000000000000003E-2,{"$f":"AY18","v":0.4},8,{"$f":"BA15","v":8},0.9,3,{"$f":"BD15","v":45}]
[null,null,null,null,null,null,null,null,null,"Leuchten_Art","a0","a1",null,"Kosten",500,100,300,null,null,null,null,null,null,null,null,null,null,19,"Aufgeständerter Fußboden",15,0.9,1,"-",14,13,13,12,"-",0.15,0.22,0.28000000000000003,0.37,"-",23,15,12,{"$f":"AU19","v":8},0.17,0.17,3.5000000000000003E-2,0.4,8,{"$f":"BA18","v":10},0.9,3,{"$f":"BD18","v":40}]
[null,null,null,null,null,null,null,null,null,{"$f":"B14","v":"Direkt"},{"$f":"INDEX(LINEST(C14:L14,LN($C$13:$L$13)),1)","v":0.26045385753787509},{"$f":"INDEX(LINEST(C14:L14,LN($C$13:$L$13)),1,2)","v":0.68818694046541273},null,"Beleuchtung",{"$f":"50","v":50},19,38,null,null,null,null,null,null,null,null,null,null,null,"Listbox_Bauteile",null,null,null,null,null,null,null,null,null,null,null,null,null,null,null,null,null,null,null,null,null,null,null,null,null,null,"Liste_Bauteile"]
[null,null,null,null,null,null,null,null,null,{"$f":"B15","v":"Direkt/Indirekt"},{"$f":"INDEX(LINEST(C15:L15,LN($C$13:$L$13)),1)","v":0.2408902231724811},{"$f":"INDEX(LINEST(C15:L15,LN($C$13:$L$13)),1,2)","v":0.43413948848831618},null,"Präsenz",10,{"$f":"O29","v":4.0000000000000009},7,null,null,null,null,null,null,null,null,null,null,null,null,null,null,null,"Bestimmung von Heizgrattagstunden in Abhängigkeit der Raumtemperatur"]
[null,null,null,null,null,null,null,null,null,{"$f":"B16","v":"Indirekt"},{"$f":"INDEX(LINEST(C16:L16,LN($C$13:$L$13)),1)","v":0.23605628051448671},{"$f":"INDEX(LINEST(C16:L16,LN($C$13:$L$13)),1,2)","v":0.29884573356082167},null,"Dimmung",18,{"$f":"P29","v":6.0000000000000018},12,null,null,null,null,null,null,null,null,null,null,null,null,null,null,null,null,null,"mittlere Jahresraumtemperatur (inkl Absenkung)",15,{"$f":"AJ23+1","v":16},17,18,{"$f":"AM23+1","v":19},20,21,22,23,24,25,26,27,28,null,"Verwendete Klimadaten"]
[null,null,null,null,null,null,null,null,null,null,null,null,null,null,null,null,null,null,null,null,null,null,null,null,null,null,null,null,null,null,null,null,null,null,"Jan",{"$f":"(AJ$23-$AL49)","v":15},16,17,18,19,20,21,22,23,24,25,26,27,28,null,15,1,{"$f":"$BD$24*AY24+$BD$25","v":70.943999999999988},"kKh/a","a0",{"$f":"SLOPE(AJ37:AW37,AJ23:AW23)","v":4.4400000000000004},null,"Liste_Innentemp","HGT"]
[null,null,null,null,null,null,null,null,null,null,null,null,null,"Nebenrechnung, Bestimmung Kosten für 100 Lux (ohne Steuern)",null,null,null,null,null,null,null,null,null,null,null,null,null,null,null,null,null,null,null,null,"Feb",{"$f":"(AJ$23-$AL50)","v":13.9},14.9,15.9,16.899999999999999,17.899999999999999,18.899999999999999,19.899999999999999,20.9,21.9,22.9,23.9,24.9,25.9,26.9,null,{"$f":"AY24+1","v":16},2,75.383999999999986,"kKh/a","a1",{"$f":"INTERCEPT(AJ37:AW37,AJ23:AW23)","v":4.3439999999999799},null,"schwach beheizt (Werkhalle)",{"$f":"BA26*f_SolGain","v":53.215999999999987}]
[null,null,null,null,null,null,null,null,"Die grüne Gleichung wird genutzt,",null,null,null,null,"Em","Präsenz","Dimming",null,null,null,null,null,null,null,null,null,null,null,null,null,null,null,null,null,null,"Mrz",{"$f":"(AJ$23-$AL51)","v":11},12,13,14,15,16,17,18,19,20,21,22,23,24,null,17,3,79.823999999999984,"kKh/a","Tr",21,null,"normal beheizt (Standard)",{"$f":"BA29*f_SolGain","v":62.095999999999989}]
[null,null,null,null,null,null,null,null,"da die Anforderung: direkt/indirekt",null,null,null,null,{"$f":"O20","v":500},{"$f":"O22","v":10},{"$f":"O23","v":18},null,null,null,null,null,null,null,null,null,null,null,null,null,null,null,null,null,null,"Apr",{"$f":"(AJ$23-$AL52)","v":7.5},8.5,9.5,10.5,11.5,12.5,13.5,14.5,15.5,16.5,17.5,18.5,19.5,20.5,null,18,4,84.263999999999982,"kKh/a","HGT",{"$f":"BD24*BD26+BD25","v":97.583999999999989},null,"stark beheizt (Schwimmbad)",{"$f":"BA33*f_SolGain","v":73.935999999999979}]
[null,null,null,null,null,null,null,null,"06.03.2014, MLI/PJA",null,null,null,null,{"$f":"Q20","v":300},{"$f":"Q22","v":7},{"$f":"Q23","v":12},null,null,null,null,null,null,null,null,null,null,null,null,null,null,null,null,null,null,"Mai",{"$f":"(AJ$23-$AL53)","v":3.1999999999999993},4.1999999999999993,5.1999999999999993,6.1999999999999993,7.1999999999999993,8.1999999999999993,9.1999999999999993,10.199999999999999,11.2,12.2,13.2,14.2,15.2,16.2,null,19,5,88.703999999999994,"kKh/a",null,null,null,"Anpassungsfaktor für Gewinne",{"$f":"2/3","v":0.66666666666666663},"f_SolGain"]
[null,null,null,null,null,null,null,null,null,null,null,null,null,{"$f":"P20","v":100},{"$f":"TREND(O27:O28,$N$27:$N$28,$N$29)","v":4.0000000000000009},{"$f":"TREND(P27:P28,$N$27:$N$28,$N$29)","v":6.0000000000000018},null,null,null,null,null,null,null,null,null,null,null,null,null,null,null,null,null,null,"Jun",{"$f":"(AJ$23-$AL54)","v":9.9999999999999645E-2},1.0999999999999996,2.0999999999999996,3.0999999999999996,4.0999999999999996,5.0999999999999996,6.1,7.1,8.1,9.1,10.1,11.1,12.1,13.1,null,20,6,93.143999999999991,"kKh/a"]
[null,"Randbedingungen für Mindestanforderungen Beleuchtung",null,null,null,null,null,null,"Allgemenes",null,null,null,null,null,null,null,null,null,null,null,null,null,null,null,null,null,null,null,null,null,null,null,null,null,"Jul",{"$f":"(AJ$23-$AL55)","v":-1.8999999999999986},-0.89999999999999858,0.10000000000000142,1.1000000000000014,2.1000000000000014,3.1000000000000014,4.1000000000000014,5.1000000000000014,6.1000000000000014,7.1000000000000014,8.1000000000000014,9.1000000000000014,10.100000000000001,11.100000000000001,null,21,7,97.583999999999989,"kKh/a"]
[null,"WF",0.8,"f_WF",null,null,null,null,null,null,null,null,null,"Gleichungen für Förderung, Werte in €/m²",null,null,null,null,null,null,null,null,null,null,null,null,null,null,null,null,null,null,null,null,"Aug",{"$f":"(AJ$23-$AL56)","v":-1.3999999999999986},-0.39999999999999858,0.60000000000000142,1.6000000000000014,2.6000000000000014,3.6000000000000014,4.6000000000000014,5.6000000000000014,6.6000000000000014,7.6000000000000014,8.6000000000000014,9.6000000000000014,10.600000000000001,11.600000000000001,null,{"$f":"AY30+1","v":22},8,102.02399999999999,"kKh/a"]
[null,"lm/W",80,"f_lm",null,null,null,null,"û","fail",null,null,null,"Em, 18599",0,75,{"$f":"P4","v":100},{"$f":"Q4","v":300},{"$f":"O4","v":500},{"$f":"S32+250","v":750},{"$f":"T32+250","v":1000},null,null,null,null,null,null,null,null,null,null,null,null,null,"Sep",{"$f":"(AJ$23-$AL57)","v":1.5999999999999996},2.5999999999999996,3.5999999999999996,4.5999999999999996,5.6,6.6,7.6,8.6,9.6,10.6,11.6,12.6,13.6,14.6,null,{"$f":"AY31+1","v":23},9,106.46399999999998,"kKh/a"]
[null,"Wirkungsgrad",0.75,"f_nlb",null,null,null,null,"ü","pass",null,null,null,{"$f":"N4","v":"Beleuchtung"},{"$f":"P33","v":6.91796875},{"$f":"MIN($T$5*P$32+$T$4,$T$7)","v":6.91796875},7.6532499999999999,13.535499999999999,15.18,15.18,15.18,null,null,null,null,null,null,null,null,null,null,null,null,null,"Okt",{"$f":"(AJ$23-$AL58)","v":5.9},6.9,7.9,8.9,9.9,10.9,11.9,12.9,13.9,14.9,15.9,16.899999999999999,17.899999999999999,18.899999999999999,null,{"$f":"AY32+1","v":24},10,110.90399999999998,"kKh/a"]
[null,"F_requi",0.15,"f_bel_req",null,"Anpassung der anf.",null,null,null,null,null,null,null,{"$f":"N9","v":"Präsenz"},{"$f":"P34","v":1.3756875000000002},{"$f":"MIN($T$12,$T$10*P$32+$T$9)","v":1.3756875000000002},1.5180000000000002,2.6564999999999999,3.0359999999999996,3.0359999999999996,3.0359999999999996,null,null,null,null,null,null,null,null,null,null,null,null,null,"Nov",{"$f":"(AJ$23-$AL59)","v":11.2},12.2,13.2,14.2,15.2,16.2,17.2,18.2,19.2,20.2,21.2,22.2,23.2,24.2,null,{"$f":"AY33+1","v":25},11,115.34399999999999,"kKh/a"]
[null,null,null,null,null,null,null,null,"janein",null,null,null,null,{"$f":"N14","v":"Dimmung"},{"$f":"P35","v":1.9923750000000002},{"$f":"MIN($T$17,$T$15*P$32+$T$14)","v":1.9923750000000002},2.2770000000000001,4.5539999999999994,5.4648000000000003,5.4648000000000003,5.4648000000000003,null,null,null,null,null,null,null,null,null,null,null,null,null,"Dez",{"$f":"(AJ$23-$AL60)","v":14},15,16,17,18,19,20,21,22,23,24,25,26,27,null,{"$f":"AY34+1","v":26},12,119.78399999999999,"kKh/a"]
[null,null,null,null,null,null,null,null,"ja","ja",null,null,null,null,null,null,null,null,null,null,null,null,null,null,null,null,null,null,null,null,null,null,null,{"$f":"\"HGT_Jahr_Bezogen auf Jahresmittel.\"&AN23&\"°C\"","v":"HGT_Jahr_Bezogen auf Jahresmittel.19°C"},19,{"$f":"IF(AJ23=$AI$36,SUMPRODUCT(AJ24:AJ35,$AK$49:$AK$60)*0.024,\"-\")","v":"-"},"-","-","-",{"$f":"IF(AN23=$AI$36,SUMPRODUCT(AN24:AN35,$AK$49:$AK$60)*0.024,\"-\")","v":93.143999999999991},"-","-","-","-","-","-","-","-","-",null,{"$f":"AY35+1","v":27},13,124.22399999999999,"kKh/a"]
[null,null,null,null,null,null,null,null,"nein","nein",null,null,null,null,null,null,null,null,null,null,null,null,null,null,null,null,null,null,null,null,null,null,null,{"$f":"\"HGT_Jahr_Bezogen auf Raumsolltemp.\"&AI37&\"°C\"","v":"HGT_Jahr_Bezogen auf Raumsolltemp.20°C"},20,{"$f":"SUM($AJ$36:$AW$36)+(AJ23-$AI$37)*0.024*185","v":70.943999999999988},75.383999999999986,79.823999999999984,84.263999999999996,{"$f":"SUM($AJ$36:$AW$36)+(AN23-$AI$37)*0.024*185","v":88.703999999999994},93.143999999999991,97.583999999999989,102.02399999999999,106.464,110.904,115.34399999999999,119.78399999999999,124.22399999999999,128.66399999999999,null,{"$f":"AY36+1","v":28},14,128.66399999999999,"kKh/a"]
[null,"Grenzwerte für Raum-/Zonenanforderungen"]
[null,"Zuschlag Beleuchtungsstärke",null,null,0.5,"grenz_em",null,null,"-","no_value"]
[null,"Zuschlag Leistung",null,null,0.25,"grenz_Pel"]
[null,"Zuschlag Luftmenge",null,null,0.5,"grenz_nRLT"]
[null,"Grenzwert SFP",null,null,{"$f":"SFP_RLT_H70SFP","v":2.6590909090909092},"grenz_SFP"]
[]
[null,"Grenzwert spez. Strombedarf für Lüften",null,null,null,"Zielwert","RGD"]
[null,"Druckerhöhung Zuluft",null,null,"Pa",{"$f":"DATA_RLT!G1","v":1080},1200,null,null,null,null,null,null,null,null,null,null,null,null,null,null,null,null,null,null,null,null,null,null,null,null,null,"Bestimmung von Lüftungsgradtagstunden in Abhängigkeit von der Betriebszeit"]
[null,"Druckerhöhung Abluft",null,null,"Pa",{"$f":"DATA_RLT!G2","v":675},750,null,null,null,null,null,null,null,null,null,null,null,null,null,null,null,null,null,null,null,null,null,null,null,null,null,null,null,null,{"$f":"AI36","v":19},"°C","19°C Bezugstemperatur für HGT und Raumtemp da etwa 1 K Temp.Hub Ventilator"]
[null,"Totaldruckerhöhung",null,null,"Pa",{"$f":"SUM(F45:F46)","v":1755},{"$f":"SUM(G45:G46)","v":1950},null,null,null,null,null,null,null,null,null,null,null,null,null,null,null,null,null,null,null,null,null,null,null,null,null,null,null,null,"WRG","tM","Te","dT-zu Ti","Cpl","HL","Energiekennwert",null,null,null,"HGTRLT"]
[null,"Totalwirkungsgrad",null,null,"-",{"$f":"DATA_RLT!I1","v":0.66},0.6,null,null,null,null,null,null,null,null,null,null,null,null,null,null,null,null,null,null,null,null,null,null,null,null,null,null,null,null,"%","d/M","°C","K",{"$f":"DATA_RLT!D2","v":"W/(m³/h*K)"},"W/(m³/h)","kWh/m³",null,null,null,"kKh/M"]
[null,"SFPs",null,null,"kW/(m³/s)",{"$f":"F47/F48/1000","v":2.6590909090909092},{"$f":"G47/G48/1000","v":3.25},null,null,null,null,null,null,"Kostenzuschläge für technische Installationen",null,null,null,null,null,null,null,null,null,"check_Bel",0,null,null,null,null,null,null,null,null,null,{"$f":"AI24","v":"Jan"},0,31,0,{"$f":"($AJ$46-AL49)","v":19},{"$f":"cpl","v":0.34},{"$f":"AN49*AM49*(1-AJ49)","v":6.4600000000000009},{"$f":"0.024*(AO49)*AK49","v":4.8062400000000007},null,null,null,{"$f":"0.024*AK49*AM49","v":14.135999999999999}]
[null,"SFPh",null,null,"W/(m³/h)",{"$f":"F49/3.6","v":0.73863636363636365},{"$f":"G49/3.6","v":0.90277777777777779},null,null,null,null,null,null,"Planung",0.1,"f_Planung",null,null,null,null,null,null,null,{"$f":"X51&CHAR(10)&IF(check_Bel=1,X52,X53)","v":"Modernisierung im Bestand\nWärmeschutz und hygienische Lüftung"},null,null,null,null,null,null,null,null,null,null,"Feb",{"$f":"AJ49","v":0},28,1.1000000000000001,{"$f":"($AJ$46-AL50)","v":17.899999999999999},0.34,{"$f":"AN50*AM50*(1-AJ50)","v":6.0860000000000003},{"$f":"0.024*(AO50)*AK50","v":4.0897920000000001},null,null,null,12.0288]
[null,"VRLT",null,null,"m³/h",{"$f":"V_RLT_SUB","v":0},{"$f":"V_RLT_SUB","v":0},null,null,null,null,null,null,"MwSt.",0.15,"f_MWST",null,null,null,null,null,null,null,"Modernisierung im Bestand",null,null,null,null,null,null,null,null,null,null,"Mrz",{"$f":"AJ50","v":0},31,4,{"$f":"($AJ$46-AL51)","v":15},0.34,5.1000000000000005,3.7944000000000004,null,null,null,11.16]
[null,"An",null,null,"m²",{"$f":"A_EBF","v":0},{"$f":"A_EBF","v":0},null,null,null,null,null,null,"Mehrkosten Altbau",0.15,"f_Altbau",null,"! nur für Lüftung !",null,null,null,null,null,"Wärmeschutz, Beleuchtung, hygienische Lüftung",null,null,null,null,null,null,null,null,null,null,"Apr",0,30,7.5,11.5,0.34,3.91,2.8152000000000004,null,null,null,8.2799999999999994]
[null,"Va",null,null,"(m³/h)/m²",{"$f":"F51/F52","v":{"$error":"#DIV/0!"}},{"$f":"G51/G52","v":{"$error":"#DIV/0!"}},null,null,null,null,null,null,null,null,null,null,null,null,null,null,null,null,"Wärmeschutz und hygienische Lüftung",null,null,null,null,null,null,null,null,null,null,"Mai",0,31,11.8,7.1999999999999993,0.34,2.448,1.821312,null,null,null,5.3567999999999998]
[null,"PRLT",null,null,"kW",{"$f":"Anlagen!$F$72*F50/1000","v":0},{"$f":"Anlagen!$F$72*G50/1000","v":0},null,null,null,null,null,null,null,null,null,null,null,null,null,null,null,null,null,null,null,null,null,null,null,null,null,null,null,"Jun",0,30,14.9,4.0999999999999996,0.34,1.3939999999999999,1.0036799999999999,null,null,null,2.9519999999999995]
[null,"pRLT,Ziel",null,null,"W/m²",{"$f":"F54*1000/A_EBF","v":{"$error":"#DIV/0!"}},{"$f":"G54*1000/A_EBF","v":{"$error":"#DIV/0!"}},null,null,null,null,null,null,null,null,null,null,null,null,null,null,null,null,null,null,null,null,null,null,null,null,null,null,null,"Jul",0,31,16.899999999999999,2.1000000000000014,0.34,0.71400000000000052,0.53121600000000035,null,null,null,1.5624000000000011]
[null,"pRLT,Ziel",null,null,{"$f":"E55","v":"W/m²"},{"$f":"F53*F50","v":{"$error":"#DIV/0!"}},{"$f":"G53*G50","v":{"$error":"#DIV/0!"}},null,null,null,null,null,null,null,null,null,null,null,null,null,null,null,null,null,null,null,null,null,null,null,null,null,null,null,"Aug",0,31,16.399999999999999,2.6000000000000014,0.34,0.88400000000000056,0.65769600000000039,null,null,null,1.934400000000001]
[null,null,null,null,null,null,null,null,null,null,null,null,null,null,null,null,null,null,null,null,null,null,null,null,null,null,null,null,null,null,null,null,null,null,"Sep",0,30,13.4,5.6,0.34,1.9039999999999999,1.3708800000000001,null,null,null,4.032]
[null,"Mindestanforderungen an Beleuchtung, Übersicht",null,null,null,null,null,null,null,null,null,null,null,null,null,null,null,null,null,null,null,null,null,null,null,null,null,null,null,null,null,null,null,null,"Okt",0,31,9.1,9.9,0.34,3.3660000000000005,2.5043040000000003,null,null,null,7.3656000000000006]
[null,"rindex",1000,{"$f":"C59-100","v":900},{"$f":"D59-100","v":800},700,600,500,400,300,200,100,null,"W/m² je 100 Lux",null,null,null,null,null,null,null,null,null,null,null,null,null,null,null,null,null,null,null,null,"Nov",0,30,3.8,15.2,0.34,5.1680000000000001,3.7209600000000003,null,null,null,10.943999999999999]
[null,0.5,{"$f":"C$59/(f_WF*f_lm*f_nlb*(a0_ID*LN($B60)+a1_ID))*(1+f_bel_req)","v":47.194209826209701},42.474788843588733,37.755367860967759,33.035946878346792,28.316525895725817,23.59710491310485,18.877683930483879,14.158262947862909,9.4388419652419397,4.7194209826209699,null,{"$f":"C60/(C$59/100)","v":4.7194209826209699},null,null,null,null,null,null,null,null,null,null,null,null,null,null,null,null,null,null,null,null,"Dez",0,31,1,18,0.34,6.12,4.55328,null,null,null,13.391999999999999]
[null,{"$f":"B60+0.1","v":0.6},43.157247733911888,38.841522960520706,34.525798187129517,30.210073413738321,25.894348640347136,21.578623866955944,17.262899093564759,12.947174320173568,8.6314495467823793,4.3157247733911897,null,4.3157247733911888,null,null,null,null,null,null,null,null,null,null,null,null,null,null,null,null,null,null,null,null,null,null,null,null,null,null,null,{"$f":"SUM(AP49:AP60)","v":31.668960000000006},null,null,"kWh/(a*(m³/a))",{"$f":"SUM(AT49:AT60)","v":93.144000000000005},"kKh/a","HGT_Global"]
[null,{"$f":"B61+0.1","v":0.7},40.246519210501681,36.221867289451509,32.197215368401345,28.172563447351177,24.147911526301009,20.123259605250841,16.098607684200672,12.073955763150504,8.0493038421003362,4.0246519210501681,null,4.0246519210501681,null,null,null,null,null,null,null,null,null,null,null,null,null,null,null,null,null,null,null,null,null,null,null,null,null,null,null,null,null,null,"Tagesbetriebszeit",13,"h/d"]
[null,0.79999999999999993,38.024975619525122,34.222478057572609,30.419980495620095,26.617482933667585,22.814985371715071,19.012487809762561,15.209990247810047,11.407492685857536,7.6049951239050237,3.8024975619525119,null,3.8024975619525123,null,null,null,null,null,null,null,null,null,null,null,null,null,null,null,null,null,null,null,null,null,null,null,null,null,null,null,null,null,null,null,{"$f":"AT61/24*AT62","v":50.453000000000003},"kKh/a"]
[null,0.89999999999999991,36.259554403606217,32.633598963245589,29.007643522884969,25.381688082524349,21.755732642163728,18.129777201803108,14.503821761442484,10.877866321081864,7.2519108807212422,3.6259554403606211,null,3.6259554403606216,null,null,null,null,null,null,null,null,null,null,null,null,null,null,null,null,null,null,null,null,null,null,null,null,null,null,null,null,null,null,"d/a",250,"d/a","HGT_xh"]
[null,0.99999999999999989,34.813699482775121,31.332329534497607,27.850959586220096,24.369589637942582,20.888219689665071,17.40684974138756,13.925479793110048,10.444109844832536,6.962739896555024,3.481369948277512,null,3.481369948277512]
[null,1.0999999999999999,33.601639469512996,30.241475522561693,26.881311575610393,23.521147628659094,20.160983681707794,16.800819734756498,13.440655787805197,10.080491840853897,6.7203278939025983,3.3601639469512992,null,3.3601639469512996]
[null,1.2,32.566539458928006,29.309885513035205,26.053231567142404,22.796577621249604,19.539923675356803,16.283269729464003,13.026615783571202,9.7699618376784017,6.5133078917856011,3.2566539458928006,null,3.2566539458928006]
[null,1.3,31.669103746198456,28.502193371578613,25.335282996958767,22.168372622338921,19.001462247719072,15.834551873099228,12.667641498479384,9.500731123859536,6.3338207492396918,3.1669103746198459,null,3.1669103746198455]
[null,1.4000000000000001,30.881207259942432,27.793086533948188,24.704965807953943,21.616845081959703,18.528724355965458,15.440603629971216,12.352482903976972,9.2643621779827292,6.1762414519884858,3.0881207259942429,null,3.0881207259942434]
[null,1.5000000000000002,{"$f":"C$59/(f_WF*f_lm*f_nlb*(a0_ID*LN($B70)+a1_ID))*(1+f_bel_req)","v":30.182134103056661},27.163920692750995,24.145707282445329,21.127493872139663,18.109280461833997,15.091067051528331,12.072853641222665,9.0546402309169984,6.0364268206113323,3.0182134103056661,null,3.0182134103056661]
[null,1.6000000000000003,29.556252038616261,26.600626834754635,23.645001630893006,20.68937642703138,17.733751223169754,14.778126019308131,11.822500815446503,8.8668756115848772,5.9112504077232515,2.9556252038616257,null,2.9556252038616262]
[null,1.7000000000000004,28.991518528748575,26.092366675873716,23.193214822998861,20.294062970124003,17.394911117249144,14.495759264374287,11.596607411499431,8.6974555586245721,5.7983037057497153,2.8991518528748577,null,2.8991518528748577]
[null,1.8000000000000005,28.478489112119973,25.630640200907976,22.782791289695982,19.934942378483981,17.087093467271984,14.239244556059987,11.391395644847991,8.543546733635992,5.6956978224239956,2.8478489112119978,null,2.8478489112119973]
[null,1.9000000000000006,28.009640408909668,25.2086763680187,22.407712327127737,19.606748286236769,16.805784245345802,14.004820204454834,11.203856163563868,8.4028921226729008,5.6019280817819341,2.8009640408909671,null,2.8009640408909666]
[null,2.0000000000000004,27.578896443627343,24.821006799264605,22.063117154901875,19.305227510539137,16.547337866176406,13.789448221813672,11.031558577450937,8.2736689330882029,5.5157792887254686,2.7578896443627343,null,2.7578896443627343]
[null,2.1000000000000005,27.181289995693223,24.4631609961239,21.74503199655458,19.026902996985257,16.308773997415933,13.590644997846612,10.87251599827729,8.1543869987079667,5.436257999138645,2.7181289995693225,null,2.7181289995693225]
[null,{"$f":"B76+0.1","v":2.2000000000000006},26.812715812048779,24.131444230843901,21.450172649639025,18.768901068434143,16.087629487229268,13.40635790602439,10.725086324819513,8.0438147436146341,5.3625431624097564,2.6812715812048782,null,2.6812715812048777]
[null,2.3000000000000007,26.4697476678542,23.822772901068785,21.175798134283362,18.528823367497939,15.881848600712523,13.2348738339271,10.587899067141681,7.9409243003562615,5.2939495335708404,2.6469747667854202,null,2.6469747667854202]
[null,2.4000000000000008,26.149500662547112,23.534550596292402,20.919600530037687,18.304650463782977,15.689700397528267,13.074750331273556,10.459800265018844,7.8448501987641333,5.2299001325094219,2.6149500662547109,null,2.6149500662547114]
[null,2.5000000000000009,25.849526121650278,23.264573509485253,20.679620897320223,18.094668285155194,15.509715672990167,12.924763060825139,10.339810448660112,7.7548578364950833,5.1699052243300558,2.5849526121650279,null,{"$f":"C80/(C$59/100)","v":2.5849526121650279}]
[null,2.600000000000001,25.567730370283812,23.01095733325543,20.454184296227048,17.897411259198666,15.340638222170288,12.783865185141906,10.227092148113524,7.6703191110851439,5.113546074056762,2.556773037028381,null,2.556773037028381]
[null,2.7000000000000011,25.302311233486279,22.772080110137654,20.241848986789023,17.711617863440395,15.181386740091769,12.651155616743139,10.120924493394512,7.5906933700458845,5.0604622466972558,2.5302311233486279,null,2.5302311233486279]
[null,2.8000000000000012,25.051707871775701,22.546537084598128,20.041366297420559,17.53619551024299,15.031024723065418,12.52585393588785,10.02068314871028,7.5155123615327089,5.0103415743551398,2.5051707871775699,null,2.5051707871775699]
[null,2.9000000000000012,24.814560768121535,22.333104691309384,19.851648614497229,17.370192537685075,14.88873646087292,12.407280384060767,9.9258243072486145,7.44436823043646,4.9629121536243073,2.4814560768121536,null,2.4814560768121536]
[null,3.0000000000000013,24.589679527518424,22.130711574766583,19.671743622014741,17.212775669262896,14.753807716511053,12.294839763759212,9.8358718110073706,7.3769038582555266,4.9179359055036853,2.4589679527518427,null,2.4589679527518422]
[null,3.1000000000000014,24.376016750136781,21.938415075123103,19.500813400109422,17.063211725095748,14.625610050082068,12.188008375068391,9.750406700054711,7.3128050250410341,4.8752033500273555,2.4376016750136777,null,2.4376016750136782]
[null,3.2000000000000015,24.172646670420932,21.755382003378838,19.338117336336744,16.92085266929465,14.503588002252556,12.086323335210466,9.6690586681683719,7.251794001126278,4.8345293340841859,2.417264667042093,null,2.417264667042093]
[null,3.3000000000000016,23.978747568614398,21.580872811752954,19.182998054891517,16.785123298030076,14.387248541168637,11.989373784307199,9.5914990274457583,7.1936242705843183,4.7957495137228792,2.3978747568614396,null,2.39787475686144]
[null,3.4000000000000017,23.793587192518281,21.414228473266451,19.034869754014625,16.655511034762796,14.276152315510968,11.89679359625914,9.5174348770073127,7.1380761577554841,4.7587174385036564,2.3793587192518282,null,2.3793587192518282]
[null,3.5000000000000018,23.61651059946384,21.254859539517458,18.893208479571072,16.531557419624686,14.169906359678304,11.80825529973192,9.4466042397855361,7.0849531798391521,4.723302119892768,2.361651059946384,null,2.361651059946384]
[null,3.6000000000000019,23.446929957901755,21.102236962111583,18.757543966321407,16.412850970531231,14.068157974741055,11.723464978950878,9.3787719831607035,7.0340789873705276,4.6893859915803517,2.3446929957901759,null,2.3446929957901754]
[null,3.700000000000002,23.284315946197669,20.9558843515779,18.627452756958139,16.29902116233837,13.970589567718601,11.642157973098834,9.3137263784790694,6.9852947838593007,4.6568631892395347,2.3284315946197673,null,2.3284315946197669]
[null,3.800000000000002,23.128190461362998,20.8153714152267,18.502552369090399,16.189733322954101,13.876914276817798,11.564095230681499,9.2512761845451994,6.9384571384088991,4.6256380922725997,2.3128190461362998,null,2.3128190461362998]
[null,3.9000000000000021,22.978120408420946,20.680308367578849,18.382496326736756,16.08468428589466,13.786872245052567,{"$f":"H$59/(f_WF*f_lm*f_nlb*(a0_ID*LN($B94)+a1_ID))*(1+f_bel_req)","v":11.489060204210473},9.1912481633683782,6.8934361225262837,4.5956240816841891,2.2978120408420946,null,2.2978120408420946]
[null,4.0000000000000018,22.833712386176817,20.550341147559138,18.266969908941455,15.983598670323772,13.700227431706091,11.416856193088408,9.1334849544707275,6.8501137158530456,4.5667424772353638,2.2833712386176819,null,2.2833712386176819]
[]
[null,"Mindestanforderungen an Lüftungsanlagen, Übersicht",null,null,null,null,null,null,null,null,null,null,null,null,null,null,"VRLT","fsub,RLT"]
[null,"Standard","RGD","Zielwert",null,null,null,null,null,null,null,null,null,"W/m²",null,null,{"$f":"DATA_RLT!L183","v":500},{"$f":"DATA_RLT!N183","v":15.188730623252201}]
[null,0,{"$f":"$G$50*B99","v":0},{"$f":"$F$50*B99","v":0},null,null,null,null,null,null,null,null,null,{"$f":"$F$50*B99","v":0},null,null,{"$f":"DATA_RLT!L184","v":1000},{"$f":"DATA_RLT!N184","v":11.936293436458733}]
[null,{"$f":"B99+0.5","v":0.5},{"$f":"$G$50*B100","v":0.4513888888888889},{"$f":"$F$50*B100","v":0.36931818181818182},null,null,null,null,null,null,null,null,null,0.36931818181818182,null,null,{"$f":"DATA_RLT!L185","v":1500},{"$f":"DATA_RLT!N185","v":9.9629615755090501}]
[null,{"$f":"B100+0.5","v":1},0.90277777777777779,0.73863636363636365,null,null,null,null,null,null,null,null,null,0.73863636363636365,null,null,{"$f":"DATA_RLT!L186","v":2000},{"$f":"DATA_RLT!N186","v":8.5628603385816735}]
[null,1.5,1.3541666666666667,1.1079545454545454,null,null,null,null,null,null,null,null,null,1.1079545454545454,null,null,{"$f":"DATA_RLT!L187","v":2500},{"$f":"DATA_RLT!N187","v":7.4768574481521348}]
[null,2,1.8055555555555556,1.4772727272727273,null,null,null,null,null,null,null,null,null,1.4772727272727273,null,null,{"$f":"DATA_RLT!L188","v":3000},{"$f":"DATA_RLT!N188","v":6.5895284776319949}]
[null,2.5,2.2569444444444446,1.8465909090909092,null,null,null,null,null,null,null,null,null,1.8465909090909092,null,null,{"$f":"DATA_RLT!L189","v":3500},{"$f":"DATA_RLT!N189","v":5.8393025227785929}]
[null,3,2.7083333333333335,2.2159090909090908,null,null,null,null,null,null,null,null,null,2.2159090909090908,null,null,{"$f":"DATA_RLT!L190","v":4000},{"$f":"DATA_RLT!N190","v":5.1894272407046085}]
[null,3.5,3.1597222222222223,2.5852272727272729,null,null,null,null,null,null,null,null,null,2.5852272727272729,null,null,{"$f":"DATA_RLT!L191","v":4500},{"$f":"DATA_RLT!N191","v":4.6161966166823047}]
[null,4,3.6111111111111112,2.9545454545454546,null,null,null,null,null,null,null,null,null,2.9545454545454546,null,null,{"$f":"DATA_RLT!L192","v":5000},{"$f":"DATA_RLT!N192","v":4.1034243502750707}]
[null,4.5,4.0625,3.3238636363636362,null,null,null,null,null,null,null,null,null,3.3238636363636362,null,null,{"$f":"DATA_RLT!L193","v":5500},{"$f":"DATA_RLT!N193","v":3.6395654121823182}]
[null,5,4.5138888888888893,3.6931818181818183,null,null,null,null,null,null,null,null,null,3.6931818181818183,null,null,{"$f":"DATA_RLT!L194","v":6000},{"$f":"DATA_RLT!N194","v":3.2160953797549352}]
[null,5.5,4.9652777777777777,4.0625,null,null,null,null,null,null,null,null,null,4.0625,null,null,{"$f":"DATA_RLT!L195","v":6500},{"$f":"DATA_RLT!N195","v":2.8265407124597801}]
[null,6,5.416666666666667,4.4318181818181817,null,null,null,null,null,null,null,null,null,4.4318181818181817,null,null,{"$f":"DATA_RLT!L196","v":7000},{"$f":"DATA_RLT!N196","v":2.4658694249015327}]
[null,6.5,5.8680555555555554,4.8011363636363633,null,null,null,null,null,null,null,null,null,4.8011363636363633,null,null,{"$f":"DATA_RLT!L197","v":7500},{"$f":"DATA_RLT!N197","v":2.1300924893253979}]
[null,7,6.3194444444444446,5.1704545454545459,null,null,null,null,null,null,null,null,null,5.1704545454545459,null,null,{"$f":"DATA_RLT!L198","v":8000},{"$f":"DATA_RLT!N198","v":1.8159941428275488}]
[null,7.5,6.770833333333333,5.5397727272727275,null,null,null,null,null,null,null,null,null,5.5397727272727275,null,null,{"$f":"DATA_RLT!L199","v":8500},{"$f":"DATA_RLT!N199","v":1.7155906746523104}]
[null,8,7.2222222222222223,5.9090909090909092,null,null,null,null,null,null,null,null,null,5.9090909090909092]
[null,8.5,7.6736111111111116,6.2784090909090908,null,null,null,null,null,null,null,null,null,6.2784090909090908]
[null,9,8.125,6.6477272727272725,null,null,null,null,null,null,null,null,null,6.6477272727272725]
[null,9.5,8.5763888888888893,7.017045454545455,null,null,null,null,null,null,null,null,null,7.017045454545455]
[null,10,9.0277777777777786,7.3863636363636367,null,null,null,null,null,null,null,null,null,7.3863636363636367]

{"sheet":"DATA_RLT","index":4,"n_rows":207,"n_cols":30,"rows_kept":207,"cut":false,"hidden":true,"merged":[]}
[null,null,null,null,0.1,1200,{"$f":"F1*(1-$E$1)","v":1080},0.6,{"$f":"H1*(1+E1)","v":0.66}]
[null,"cpl",0.34,"W/(m³/h*K)",null,750,{"$f":"F2*(1-$E$1)","v":675},null,null,null,null,{"$f":"1.47025151407054","v":1.4702515140705401},-2]
[null,null,null,null,null,null,"SFP_Abluft","WRG_Abluft",null,null,null,200,{"$f":"L3*$L$2","v":294.05030281410802},{"$f":"M3*$L$2","v":432.3279029253431},635.63075385092714,934.53707823912441,1374.0045542361315,2020.1322762054899,2970.1025377138881,4366.7977530185972,6420.2910080154252,9439.4425753081523,13878.35473832873,20404.672066835868,30000.000000378292]
[null,"Typ","a1","a1","min","max","SFP","WRG","flagAbluft",null,"V in m³/h",{"$f":"ROUND(L3,$M$2)","v":200},{"$f":"ROUND(M3,$M$2)","v":300},400,600,900,1400,2000,3000,4400,6400,9400,13900,20400,30000,null,{"$f":"V_RLT_SUB","v":0},"aus Datenblatt"]
[{"$f":"0","v":0},"Abuftanlage",72.347685591158381,-0.3094279166975098,4,15.349041408380781,{"$f":"1.25*0+F2/H1/1000","v":1.25},0,1,{"$f":"J16","v":0},{"$f":"\"spez. Kosten für \"&B5","v":"spez. Kosten für Abuftanlage"},{"$f":"$I$5*MIN($F5,MAX($E5,$C5*L$4^$D5))*(1+f_planung)*(1+f_MWST)*(1+f_Altbau)","v":20.4272587740105},18.018662018666234,16.48401519496554,14.540369894688933,12.825901588524847,11.186987805672253,10.018026447986871,8.8367917916621614,7.8492296761794229,6.989959645795409,6.2060652000893795,5.8189999999999991,5.8189999999999991,5.8189999999999991,null,{"$f":"infla_RLT*MIN($F5,MAX($E5,$C5*AA$4^$D5))*(1+DATA!$O$50)*(1+DATA!$O$51)*(1+DATA!$O$52)","v":{"$error":"#DIV/0!"}},{"$f":"AB12","v":"Spez. Kosten"}]
[{"$f":"A5+1","v":1},"RLT-H60",190.5526448084679,-0.29812344238319483,10,42.782993037670813,{"$f":"(1.25+2)*0+(F1+F2)/H1/1000","v":3.25},0.6,null,{"$f":"J17","v":1},{"$f":"\"spez. Kosten für \"&B6","v":"spez. Kosten für RLT-H60"},{"$f":"MIN($F6,MAX($E6,$C6*L$4^$D6))*(1+f_planung)*(1+f_MWST)*(1+f_Altbau)","v":57.123178328555106},50.619217956287955,46.458829622354997,41.169096178817604,36.481643940621083,31.979290687617791,28.75338113967231,25.479563803642925,22.73027514554229,20.327869814592852,18.126785437485911,16.131453952830672,14.547499999999998,14.547499999999998,null,{"$f":"infla_RLT*MIN($F6,MAX($E6,$C6*AA$4^$D6))*(1+DATA!$O$50)*(1+DATA!$O$51)*(1+DATA!$O$52)","v":{"$error":"#DIV/0!"}}]
[{"$f":"A6+1","v":2},"RLT-HK60",288.28519412010371,-0.29342736642009037,16,66.267045946573234,{"$f":"(G1+G2)/I1/1000","v":2.6590909090909092},{"$f":"H6","v":0.6},null,2,"spez. Kosten für RLT-HK60",88.59832929756891,78.660289067817857,72.292807942802582,64.183751718455127,56.984285185265499,50.055365880751907,45.081480080925012,40.0247079474888,35.770250422858993,32.045963835945919,28.627687091140153,25.52329747705258,23.275999999999996,23.275999999999996,null,{"$f":"infla_RLT*MIN($F7,MAX($E7,$C7*AA$4^$D7))*(1+DATA!$O$50)*(1+DATA!$O$51)*(1+DATA!$O$52)","v":{"$error":"#DIV/0!"}}]
[3,"RLT-H60SFP",219.13554152973822,-0.29812344238319499,11.5,49.200441993321434,{"$f":"G7","v":2.6590909090909092},{"$f":"H7","v":0.6},null,3,"spez. Kosten für RLT-H60SFP",65.691655077838348,58.212100649731127,53.427654065708218,47.344460605640215,41.953890531714229,36.776184290760426,33.066388310623132,29.301498374189347,26.139816417373613,23.377050286781753,20.84580325310878,18.551172045755258,16.729624999999999,16.729624999999999,null,{"$f":"infla_RLT*MIN($F8,MAX($E8,$C8*AA$4^$D8))*(1+DATA!$O$50)*(1+DATA!$O$51)*(1+DATA!$O$52)","v":{"$error":"#DIV/0!"}}]
[4,"RLT-HK60SFP",331.52797323811944,-0.29342736642009037,18.399999999999999,76.207102838559265,{"$f":"G6","v":3.25},0.75,null,4,"spez. Kosten für RLT-HK60SFP",101.8880786922043,90.459332427990589,83.136729134223032,73.81131447622343,65.531927963055352,57.563670762864732,51.843702093063783,46.028414139612138,41.135787986287866,36.852858411337827,32.9218401548112,29.351792098610481,26.767399999999995,26.767399999999995,null,{"$f":"infla_RLT*MIN($F9,MAX($E9,$C9*AA$4^$D9))*(1+DATA!$O$50)*(1+DATA!$O$51)*(1+DATA!$O$52)","v":{"$error":"#DIV/0!"}}]
[5,"RLT-H70",182.47892780828687,-0.28623181002739045,10.8,43.485671484632398,{"$f":"G9","v":3.25},{"$f":"H9","v":0.75},null,5,"spez. Kosten für RLT-H70",{"$f":"MIN($F10,MAX($E10,$C10*L$4^$D10))*(1+DATA!$O$50)*(1+DATA!$O$51)*(1+DATA!$O$52)","v":58.260352205406122},{"$f":"MIN($F10,MAX($E10,$C10*M$4^$D10))*(1+DATA!$O$50)*(1+DATA!$O$51)*(1+DATA!$O$52)","v":51.876442485993458},{"$f":"MIN($F10,MAX($E10,$C10*N$4^$D10))*(1+DATA!$O$50)*(1+DATA!$O$51)*(1+DATA!$O$52)","v":47.775885502854969},{"$f":"MIN($F10,MAX($E10,$C10*O$4^$D10))*(1+DATA!$O$50)*(1+DATA!$O$51)*(1+DATA!$O$52)","v":42.540816913844246},{"$f":"MIN($F10,MAX($E10,$C10*P$4^$D10))*(1+DATA!$O$50)*(1+DATA!$O$51)*(1+DATA!$O$52)","v":37.879383807319961},{"$f":"MIN($F10,MAX($E10,$C10*Q$4^$D10))*(1+DATA!$O$50)*(1+DATA!$O$51)*(1+DATA!$O$52)","v":33.37944905334205},{"$f":"MIN($F10,MAX($E10,$C10*R$4^$D10))*(1+DATA!$O$50)*(1+DATA!$O$51)*(1+DATA!$O$52)","v":30.139864515332015},{"$f":"MIN($F10,MAX($E10,$C10*S$4^$D10))*(1+DATA!$O$50)*(1+DATA!$O$51)*(1+DATA!$O$52)","v":26.83727249970471},{"$f":"MIN($F10,MAX($E10,$C10*T$4^$D10))*(1+DATA!$O$50)*(1+DATA!$O$51)*(1+DATA!$O$52)","v":24.050772596338369},{"$f":"MIN($F10,MAX($E10,$C10*U$4^$D10))*(1+DATA!$O$50)*(1+DATA!$O$51)*(1+DATA!$O$52)","v":21.604852373555428},{"$f":"MIN($F10,MAX($E10,$C10*V$4^$D10))*(1+DATA!$O$50)*(1+DATA!$O$51)*(1+DATA!$O$52)","v":19.353767047969562},{"$f":"MIN($F10,MAX($E10,$C10*W$4^$D10))*(1+DATA!$O$50)*(1+DATA!$O$51)*(1+DATA!$O$52)","v":17.303679445733067},{"$f":"MIN($F10,MAX($E10,$C10*X$4^$D10))*(1+DATA!$O$50)*(1+DATA!$O$51)*(1+DATA!$O$52)","v":15.711300000000001},{"$f":"MIN($F10,MAX($E10,$C10*Y$4^$D10))*(1+DATA!$O$50)*(1+DATA!$O$51)*(1+DATA!$O$52)","v":15.711300000000001},null,{"$f":"infla_RLT*MIN($F10,MAX($E10,$C10*AA$4^$D10))*(1+DATA!$O$50)*(1+DATA!$O$51)*(1+DATA!$O$52)","v":{"$error":"#DIV/0!"}}]
[6,"RLT-HK70",280.6019884971999,-0.28589629456231824,16.8,66.981414825583244,{"$f":"G10","v":3.25},{"$f":"H10","v":0.75},null,6,"spez. Kosten für RLT-HK70",{"$f":"MIN($F11,MAX($E11,$C11*L$4^$D11))*(1+DATA!$O$50)*(1+DATA!$O$51)*(1+DATA!$O$52)","v":89.74766553489043},{"$f":"MIN($F11,MAX($E11,$C11*M$4^$D11))*(1+DATA!$O$50)*(1+DATA!$O$51)*(1+DATA!$O$52)","v":79.924388524014262},{"$f":"MIN($F11,MAX($E11,$C11*N$4^$D11))*(1+DATA!$O$50)*(1+DATA!$O$51)*(1+DATA!$O$52)","v":73.613895522026979},{"$f":"MIN($F11,MAX($E11,$C11*O$4^$D11))*(1+DATA!$O$50)*(1+DATA!$O$51)*(1+DATA!$O$52)","v":65.556530650720745},{"$f":"MIN($F11,MAX($E11,$C11*P$4^$D11))*(1+DATA!$O$50)*(1+DATA!$O$51)*(1+DATA!$O$52)","v":58.381079828507758},{"$f":"MIN($F11,MAX($E11,$C11*Q$4^$D11))*(1+DATA!$O$50)*(1+DATA!$O$51)*(1+DATA!$O$52)","v":51.453244170410976},{"$f":"MIN($F11,MAX($E11,$C11*R$4^$D11))*(1+DATA!$O$50)*(1+DATA!$O$51)*(1+DATA!$O$52)","v":46.465098936452875},{"$f":"MIN($F11,MAX($E11,$C11*S$4^$D11))*(1+DATA!$O$50)*(1+DATA!$O$51)*(1+DATA!$O$52)","v":41.379289344969997},{"$f":"MIN($F11,MAX($E11,$C11*T$4^$D11))*(1+DATA!$O$50)*(1+DATA!$O$51)*(1+DATA!$O$52)","v":37.087664925137332},{"$f":"MIN($F11,MAX($E11,$C11*U$4^$D11))*(1+DATA!$O$50)*(1+DATA!$O$51)*(1+DATA!$O$52)","v":33.320104839416402},{"$f":"MIN($F11,MAX($E11,$C11*V$4^$D11))*(1+DATA!$O$50)*(1+DATA!$O$51)*(1+DATA!$O$52)","v":29.852216253469994},{"$f":"MIN($F11,MAX($E11,$C11*W$4^$D11))*(1+DATA!$O$50)*(1+DATA!$O$51)*(1+DATA!$O$52)","v":26.693562025440446},{"$f":"MIN($F11,MAX($E11,$C11*X$4^$D11))*(1+DATA!$O$50)*(1+DATA!$O$51)*(1+DATA!$O$52)","v":24.439800000000002},{"$f":"MIN($F11,MAX($E11,$C11*Y$4^$D11))*(1+DATA!$O$50)*(1+DATA!$O$51)*(1+DATA!$O$52)","v":24.439800000000002},null,{"$f":"infla_RLT*MIN($F11,MAX($E11,$C11*AA$4^$D11))*(1+DATA!$O$50)*(1+DATA!$O$51)*(1+DATA!$O$52)","v":{"$error":"#DIV/0!"}}]
[7,"RLT-H70SFP",209.85076697952982,-0.28623181002739045,12.42,50.008522207327239,{"$f":"G8","v":2.6590909090909092},{"$f":"H11","v":0.75},"WRG_RLT_H70SFP",7,"spez. Kosten für RLT-H70SFP",{"$f":"MIN($F12,MAX($E12,$C12*L$4^$D12))*(1+DATA!$O$50)*(1+DATA!$O$51)*(1+DATA!$O$52)","v":66.999405036217013},{"$f":"MIN($F12,MAX($E12,$C12*M$4^$D12))*(1+DATA!$O$50)*(1+DATA!$O$51)*(1+DATA!$O$52)","v":59.657908858892448},{"$f":"MIN($F12,MAX($E12,$C12*N$4^$D12))*(1+DATA!$O$50)*(1+DATA!$O$51)*(1+DATA!$O$52)","v":54.942268328283205},{"$f":"MIN($F12,MAX($E12,$C12*O$4^$D12))*(1+DATA!$O$50)*(1+DATA!$O$51)*(1+DATA!$O$52)","v":48.921939450920853},{"$f":"MIN($F12,MAX($E12,$C12*P$4^$D12))*(1+DATA!$O$50)*(1+DATA!$O$51)*(1+DATA!$O$52)","v":43.561291378417941},{"$f":"MIN($F12,MAX($E12,$C12*Q$4^$D12))*(1+DATA!$O$50)*(1+DATA!$O$51)*(1+DATA!$O$52)","v":38.386366411343339},{"$f":"MIN($F12,MAX($E12,$C12*R$4^$D12))*(1+DATA!$O$50)*(1+DATA!$O$51)*(1+DATA!$O$52)","v":34.660844192631799},{"$f":"MIN($F12,MAX($E12,$C12*S$4^$D12))*(1+DATA!$O$50)*(1+DATA!$O$51)*(1+DATA!$O$52)","v":30.862863374660407},{"$f":"MIN($F12,MAX($E12,$C12*T$4^$D12))*(1+DATA!$O$50)*(1+DATA!$O$51)*(1+DATA!$O$52)","v":27.658388485789118},{"$f":"MIN($F12,MAX($E12,$C12*U$4^$D12))*(1+DATA!$O$50)*(1+DATA!$O$51)*(1+DATA!$O$52)","v":24.845580229588727},{"$f":"MIN($F12,MAX($E12,$C12*V$4^$D12))*(1+DATA!$O$50)*(1+DATA!$O$51)*(1+DATA!$O$52)","v":22.256832105164985},{"$f":"MIN($F12,MAX($E12,$C12*W$4^$D12))*(1+DATA!$O$50)*(1+DATA!$O$51)*(1+DATA!$O$52)","v":19.899231362593021},{"$f":"MIN($F12,MAX($E12,$C12*X$4^$D12))*(1+DATA!$O$50)*(1+DATA!$O$51)*(1+DATA!$O$52)","v":18.067995},{"$f":"MIN($F12,MAX($E12,$C12*Y$4^$D12))*(1+DATA!$O$50)*(1+DATA!$O$51)*(1+DATA!$O$52)","v":18.067995},null,{"$f":"infla_RLT*MIN($F12,MAX($E12,$C12*AA$4^$D12))*(1+DATA!$O$50)*(1+DATA!$O$51)*(1+DATA!$O$52)","v":{"$error":"#DIV/0!"}},"Spez. Kosten"]
[8,"RLT-HK70SFP",322.69228677178063,-0.28589629456231841,19.32,77.02862704942082,{"$f":"G12","v":2.6590909090909092},{"$f":"H12","v":0.75},null,8,"spez. Kosten für RLT-HK70SFP",{"$f":"MIN($F13,MAX($E13,$C13*L$4^$D13))*(1+DATA!$O$50)*(1+DATA!$O$51)*(1+DATA!$O$52)","v":103.20981536512417},{"$f":"MIN($F13,MAX($E13,$C13*M$4^$D13))*(1+DATA!$O$50)*(1+DATA!$O$51)*(1+DATA!$O$52)","v":91.91304680261652},{"$f":"MIN($F13,MAX($E13,$C13*N$4^$D13))*(1+DATA!$O$50)*(1+DATA!$O$51)*(1+DATA!$O$52)","v":84.655979850331164},{"$f":"MIN($F13,MAX($E13,$C13*O$4^$D13))*(1+DATA!$O$50)*(1+DATA!$O$51)*(1+DATA!$O$52)","v":75.390010248328963},{"$f":"MIN($F13,MAX($E13,$C13*P$4^$D13))*(1+DATA!$O$50)*(1+DATA!$O$51)*(1+DATA!$O$52)","v":67.138241802784009},{"$f":"MIN($F13,MAX($E13,$C13*Q$4^$D13))*(1+DATA!$O$50)*(1+DATA!$O$51)*(1+DATA!$O$52)","v":59.171230795972676},{"$f":"MIN($F13,MAX($E13,$C13*R$4^$D13))*(1+DATA!$O$50)*(1+DATA!$O$51)*(1+DATA!$O$52)","v":53.434863776920849},{"$f":"MIN($F13,MAX($E13,$C13*S$4^$D13))*(1+DATA!$O$50)*(1+DATA!$O$51)*(1+DATA!$O$52)","v":47.586182746715551},{"$f":"MIN($F13,MAX($E13,$C13*T$4^$D13))*(1+DATA!$O$50)*(1+DATA!$O$51)*(1+DATA!$O$52)","v":42.650814663907973},{"$f":"MIN($F13,MAX($E13,$C13*U$4^$D13))*(1+DATA!$O$50)*(1+DATA!$O$51)*(1+DATA!$O$52)","v":38.31812056532889},{"$f":"MIN($F13,MAX($E13,$C13*V$4^$D13))*(1+DATA!$O$50)*(1+DATA!$O$51)*(1+DATA!$O$52)","v":34.330048691490525},{"$f":"MIN($F13,MAX($E13,$C13*W$4^$D13))*(1+DATA!$O$50)*(1+DATA!$O$51)*(1+DATA!$O$52)","v":30.697596329256548},{"$f":"MIN($F13,MAX($E13,$C13*X$4^$D13))*(1+DATA!$O$50)*(1+DATA!$O$51)*(1+DATA!$O$52)","v":28.10577},{"$f":"MIN($F13,MAX($E13,$C13*Y$4^$D13))*(1+DATA!$O$50)*(1+DATA!$O$51)*(1+DATA!$O$52)","v":28.10577},null,{"$f":"infla_RLT*MIN($F13,MAX($E13,$C13*AA$4^$D13))*(1+DATA!$O$50)*(1+DATA!$O$51)*(1+DATA!$O$52)","v":{"$error":"#DIV/0!"}}]
[null,"CO2 Steuerung von Anlagen",15,"*An/VRLT",null,null,"SFP_RLT_H70SFP"]
[]
[null,null,null,null,null,null,null,null,null,{"$f":"J27","v":0},{"$f":"\"Kosten für \"&B5","v":"Kosten für Abuftanlage"},{"$f":"ROUND(L5*L$4,$M$2)","v":4100},5400,6600,8700,11500,15700,20000,26500,34500,44700,58300,80900,118700,174600]
[null,null,null,null,null,null,null,null,null,{"$f":"J28","v":1},{"$f":"\"Kosten für \"&B6","v":"Kosten für RLT-H60"},11400,15200,18600,24700,32800,44800,57500,76400,100000,130100,170400,224200,296800,436400]
[null,null,null,null,null,null,null,null,null,2,"Kosten für RLT-HK60",17700,23600,28900,38500,51300,70100,90200,120100,157400,205100,269100,354800,474800,698300]
[null,null,null,null,null,null,null,null,null,3,"Kosten für RLT-H60SFP",13100,17500,21400,28400,37800,51500,66100,87900,115000,149600,196000,257900,341300,501900,"Nutzungszeit",15,"Nutz_Global"]
[null,null,null,null,null,null,null,null,null,4,"Kosten für RLT-HK60SFP",20400,27100,33300,44300,59000,80600,103700,138100,181000,235900,309500,408000,546100,803000,"Wartung",1.4999999999999999E-2,"Wartung_RLT"]
[null,null,null,null,null,null,null,null,null,5,"Kosten für RLT-H70",11700,15600,19100,25500,34100,46700,60300,80500,105800,138300,181900,240500,320500,471300]
[null,null,null,null,null,null,null,null,null,6,"Kosten für RLT-HK70",17900,24000,29400,39300,52500,72000,92900,124100,163200,213200,280600,371000,498600,733200]
[null,null,null,null,null,null,null,null,null,7,"Kosten für RLT-H70SFP",13400,17900,22000,29400,39200,53700,69300,92600,121700,159000,209200,276600,368600,542000]
[null,null,null,null,null,null,null,null,null,8,"Kosten für RLT-HK70SFP",20600,27600,33900,45200,60400,82800,106900,142800,187700,245200,322700,426700,573400,843200]
[]
[null,null,null,null,null,null,null,null,null,null,"Laufzeit - Heizwärmebedarf","HGTVent",{"$f":"DATA!AT63","v":50.453000000000003},"kKh/a",null,"e_Heiz",{"$f":"1/0.85","v":1.1764705882352942},"-","€H",{"$f":"AB78","v":8.3075148693891626E-2},"€/kWh",null,"qPh",1.1000000000000001,"-",4,"m³/(h·m²)"]
[null,null,null,null,null,null,null,null,null,{"$f":"J38","v":0},{"$f":"\"spez. Wärmebedarf für \"&B5","v":"spez. Wärmebedarf für Abuftanlage"},{"$f":"cpl*$M$26*(1-$H5)","v":17.154020000000003},"kWh/(a*(m³/h))",null,null,{"$f":"L27*$Q$26","v":20.181200000000004},{"$f":"M27","v":"kWh/(a*(m³/h))"},null,{"$f":"P27*$T$26","v":1.6765561908211659},"€/(a*(m³/h))",null,null,{"$f":"P27*$X$26","v":22.199320000000007},{"$f":"Q27","v":"kWh/(a*(m³/h))"},null,{"$f":"L27*Z$26","v":68.616080000000011}]
[null,null,null,null,null,null,null,null,null,{"$f":"J39","v":1},{"$f":"\"spez. Wärmebedarf für \"&B6","v":"spez. Wärmebedarf für RLT-H60"},{"$f":"cpl*$M$26*(1-$H6)","v":6.8616080000000013},{"$f":"M27","v":"kWh/(a*(m³/h))"},null,null,{"$f":"L28*$Q$26","v":8.0724800000000023},"kWh/(a*(m³/h))",null,{"$f":"P28*$T$26","v":0.6706224763284665},"€/(a*(m³/h))",null,null,{"$f":"P28*$X$26","v":8.8797280000000036},{"$f":"Q28","v":"kWh/(a*(m³/h))"},null,{"$f":"L28*Z$26","v":27.446432000000005}]
[null,null,null,null,null,null,null,null,null,2,"spez. Wärmebedarf für RLT-HK60",6.8616080000000013,{"$f":"M28","v":"kWh/(a*(m³/h))"},null,null,8.0724800000000023,"kWh/(a*(m³/h))",null,0.6706224763284665,"€/(a*(m³/h))",null,null,{"$f":"P29*$X$26","v":8.8797280000000036},"kWh/(a*(m³/h))",null,27.446432000000005]
[null,null,null,null,null,null,null,null,null,3,"spez. Wärmebedarf für RLT-H60SFP",6.8616080000000013,"kWh/(a*(m³/h))",null,null,8.0724800000000023,"kWh/(a*(m³/h))",null,0.6706224763284665,"€/(a*(m³/h))",null,null,8.8797280000000036,"kWh/(a*(m³/h))",null,27.446432000000005]
[null,null,null,null,null,null,null,null,null,4,"spez. Wärmebedarf für RLT-HK60SFP",4.2885050000000007,"kWh/(a*(m³/h))",null,null,5.045300000000001,"kWh/(a*(m³/h))",null,0.41913904770529148,"€/(a*(m³/h))",null,null,5.5498300000000018,"kWh/(a*(m³/h))",null,17.154020000000003]
[null,null,null,null,null,null,null,null,null,5,"spez. Wärmebedarf für RLT-H70",4.2885050000000007,"kWh/(a*(m³/h))",null,null,5.045300000000001,"kWh/(a*(m³/h))",null,0.41913904770529148,"€/(a*(m³/h))",null,null,{"$f":"P32*$X$26","v":5.5498300000000018},"kWh/(a*(m³/h))",null,17.154020000000003]
[null,null,null,null,null,null,null,null,null,6,"spez. Wärmebedarf für RLT-HK70",4.2885050000000007,"kWh/(a*(m³/h))",null,null,5.045300000000001,"kWh/(a*(m³/h))",null,0.41913904770529148,"€/(a*(m³/h))",null,null,5.5498300000000018,"kWh/(a*(m³/h))",null,17.154020000000003]
[null,null,null,null,null,null,null,null,null,7,"spez. Wärmebedarf für RLT-H70SFP",4.2885050000000007,"kWh/(a*(m³/h))",null,null,5.045300000000001,"kWh/(a*(m³/h))",null,0.41913904770529148,"€/(a*(m³/h))",null,null,5.5498300000000018,"kWh/(a*(m³/h))",null,17.154020000000003]
[null,null,null,null,null,null,null,null,null,8,"spez. Wärmebedarf für RLT-HK70SFP",4.2885050000000007,"kWh/(a*(m³/h))",null,null,5.045300000000001,"kWh/(a*(m³/h))",null,0.41913904770529148,"€/(a*(m³/h))",null,null,5.5498300000000018,"kWh/(a*(m³/h))",null,17.154020000000003]
[]
[null,null,null,null,null,null,null,null,null,null,"Laufzeit - Heizwärmebedarf","hRLT",{"$f":"DATA!AT62*HGT_xh","v":3250},"h/a",null,null,null,null,"€el",{"$f":"AC78","v":0.10787370054281449},{"$f":"U26","v":"€/kWh"},null,"qpel",2.66,"-"]
[null,null,null,null,null,null,null,null,null,{"$f":"J49","v":0},{"$f":"\"spez. Strombedarf für \"&B5","v":"spez. Strombedarf für Abuftanlage"},{"$f":"I5*$G5*$M$37/3600","v":1.1284722222222223},{"$f":"M27","v":"kWh/(a*(m³/h))"},null,null,null,null,null,{"$f":"L38*$T$37","v":0.12173247457088442},{"$f":"T27","v":"€/(a*(m³/h))"},null,null,{"$f":"L38*$X$37","v":3.0017361111111116},{"$f":"X27","v":"kWh/(a*(m³/h))"}]
[null,null,null,null,null,null,null,null,null,{"$f":"J50","v":1},{"$f":"\"spez. Strombedarf für \"&B6","v":"spez. Strombedarf für RLT-H60"},{"$f":"$G6*$M$37/3600","v":2.9340277777777777},{"$f":"M28","v":"kWh/(a*(m³/h))"},null,null,null,null,null,{"$f":"L39*$T$37","v":0.31650443388429944},{"$f":"T28","v":"€/(a*(m³/h))"},null,null,{"$f":"L39*$X$37","v":7.8045138888888888},{"$f":"X28","v":"kWh/(a*(m³/h))"}]
[null,null,null,null,null,null,null,null,null,2,"spez. Strombedarf für RLT-HK60",2.4005681818181817,"kWh/(a*(m³/h))",null,null,null,null,null,0.25895817317806319,"€/(a*(m³/h))",null,null,{"$f":"L40*$X$37","v":6.3855113636363638},"kWh/(a*(m³/h))"]
[null,null,null,null,null,null,null,null,null,3,"spez. Strombedarf für RLT-H60SFP",2.4005681818181817,"kWh/(a*(m³/h))",null,null,null,null,null,0.25895817317806319,"€/(a*(m³/h))",null,null,6.3855113636363638,"kWh/(a*(m³/h))"]
[null,null,null,null,null,null,null,null,null,4,"spez. Strombedarf für RLT-HK60SFP",2.9340277777777777,"kWh/(a*(m³/h))",null,null,null,null,null,0.31650443388429944,"€/(a*(m³/h))",null,null,7.8045138888888888,"kWh/(a*(m³/h))"]
[null,null,null,null,null,null,null,null,null,5,"spez. Strombedarf für RLT-H70",2.9340277777777777,"kWh/(a*(m³/h))",null,null,null,null,null,0.31650443388429944,"€/(a*(m³/h))",null,null,7.8045138888888888,"kWh/(a*(m³/h))"]
[null,null,null,null,null,null,null,null,null,6,"spez. Strombedarf für RLT-HK70",2.9340277777777777,"kWh/(a*(m³/h))",null,null,null,null,null,0.31650443388429944,"€/(a*(m³/h))",null,null,7.8045138888888888,"kWh/(a*(m³/h))"]
[null,null,null,null,null,null,null,null,null,7,"spez. Strombedarf für RLT-H70SFP",{"$f":"$G12*$M$37/3600","v":2.4005681818181817},"kWh/(a*(m³/h))",null,null,null,null,null,0.25895817317806319,"€/(a*(m³/h))",null,null,6.3855113636363638,"kWh/(a*(m³/h))"]
[null,null,null,null,null,null,null,null,null,8,"spez. Strombedarf für RLT-HK70SFP",2.4005681818181817,"kWh/(a*(m³/h))",null,null,null,null,null,0.25895817317806319,"€/(a*(m³/h))",null,null,6.3855113636363638,"kWh/(a*(m³/h))",null,null,null,0.03,"/a","Abluft"]
[null,null,null,null,null,null,null,null,null,null,null,null,null,null,null,null,null,null,null,null,null,null,null,null,null,null,1,6.7000000000000004E-2,8.6999999999999994E-2,{"$f":"AB47*$P$27+$L$38*AC47","v":1.4503174833333337}]
[null,null,null,null,null,null,null,null,null,null,null,"Energiekosten",null,null,{"$f":"L48&\" über \"&AA19&\" a\"","v":"Energiekosten über 15 a"},null,null,"Primärenergie",null,null,"CO2-Emissionen",null,null,"QelCO2",0.65100000000000002,"co2_el",{"$f":"AA47+1","v":2},{"$f":"IF($AA48<=$AA$19,AB47+AB47*$AB$46,0)","v":6.9010000000000002E-2},{"$f":"IF($AA48<=$AA$19,AC47+AC47*$AB$46,0)","v":8.9609999999999995E-2},{"$f":"AB48*$P$27+$L$38*AC48","v":1.4938270078333338}]
[null,null,null,null,null,null,null,null,"Anlagentyp",{"$f":"A5","v":0},{"$f":"I49&\" \"&B5","v":"Anlagentyp Abuftanlage"},{"$f":"S27+S38","v":1.7982886653920502},{"$f":"T38","v":"€/(a*(m³/h))"},null,{"$f":"L49*$AA$19","v":26.974329980880754},{"$f":"\"€/(m³/h) über \"&$AA$19&\" a\"","v":"€/(m³/h) über 15 a"},null,{"$f":"W27+W38","v":25.201056111111118},{"$f":"Q27","v":"kWh/(a*(m³/h))"},null,{"$f":"P27*$Y$49+L38*$Y$48","v":6.7889954166666673},"kgCO2/(a*(m³/h))",null,"QhCO2",0.3,"co2_h",{"$f":"AA48+1","v":3},7.1080299999999999E-2,9.22983E-2,1.5386418180683337]
[null,null,null,null,null,null,null,null,{"$f":"I49","v":"Anlagentyp"},{"$f":"A6","v":1},{"$f":"I50&\" \"&B6","v":"Anlagentyp RLT-H60"},{"$f":"S28+S39","v":0.987126910212766},{"$f":"T39","v":"€/(a*(m³/h))"},null,14.80690365319149,{"$f":"P49","v":"€/(m³/h) über 15 a"},null,{"$f":"W28+W39","v":16.684241888888891},"kWh/(a*(m³/h))",null,4.3317960833333338,"kgCO2/(a*(m³/h))",null,null,null,null,4,7.3212709000000001E-2,9.5067248999999993E-2,1.5848010726103836]
[null,null,null,null,null,null,null,null,{"$f":"I50","v":"Anlagentyp"},2,"Anlagentyp RLT-HK60",{"$f":"S29+S40","v":0.92958064950652974},"€/(a*(m³/h))",null,13.943709742597946,{"$f":"P50","v":"€/(m³/h) über 15 a"},null,15.265239363636368,"kWh/(a*(m³/h))",null,3.9845138863636373,"kgCO2/(a*(m³/h))",null,null,null,null,5,7.5409090270000007E-2,9.7919266469999988E-2,1.6323451047886952]
[null,null,null,null,null,null,null,null,"Anlagentyp",3,"Anlagentyp RLT-H60SFP",0.92958064950652974,"€/(a*(m³/h))",null,13.943709742597946,"€/(m³/h) über 15 a",null,15.265239363636368,"kWh/(a*(m³/h))",null,3.9845138863636373,"kgCO2/(a*(m³/h))",null,null,null,null,6,7.7671362978100011E-2,0.10085684446409998,1.6813154579323561]
[null,null,null,null,null,null,null,null,"Anlagentyp",4,"Anlagentyp RLT-HK60SFP",0.73564348158959092,"€/(a*(m³/h))",null,11.034652223843864,"€/(m³/h) über 15 a",null,13.354343888888891,"kWh/(a*(m³/h))",null,3.4236420833333336,"kgCO2/(a*(m³/h))",null,null,null,null,7,8.0001503867443008E-2,0.10388254979802299,1.7317549216703267]
[null,null,null,null,null,null,null,null,"Anlagentyp",5,"Anlagentyp RLT-H70",{"$f":"S32+S43","v":0.73564348158959092},"€/(a*(m³/h))",null,11.034652223843864,"€/(m³/h) über 15 a",null,13.354343888888891,"kWh/(a*(m³/h))",null,3.4236420833333336,"kgCO2/(a*(m³/h))",null,null,{"$f":"R49-R56","v":13.265714747474753},null,8,8.24015489834663E-2,0.10699902629196367,1.7837075693204367]
[null,null,null,null,null,null,null,null,"Anlagentyp",6,"Anlagentyp RLT-HK70",0.73564348158959092,"€/(a*(m³/h))",null,11.034652223843864,"€/(m³/h) über 15 a",null,13.354343888888891,"kWh/(a*(m³/h))",null,3.4236420833333336,"kgCO2/(a*(m³/h))",null,null,null,null,9,8.4873595452970282E-2,0.11020899708072258,1.8372187964000495]
[null,null,null,null,null,null,null,null,"Anlagentyp",7,"Anlagentyp RLT-H70SFP",0.67809722088335467,"€/(a*(m³/h))",null,10.171458313250319,"€/(m³/h) über 15 a",null,11.935341363636365,"kWh/(a*(m³/h))",null,3.0763598863636368,"kgCO2/(a*(m³/h))",null,null,null,null,10,8.7419803316559394E-2,0.11351526699314426,1.8923353602920512]
[null,null,null,null,null,null,null,null,"Anlagentyp",8,"Anlagentyp RLT-HK70SFP",0.67809722088335467,"€/(a*(m³/h))",null,10.171458313250319,"€/(m³/h) über 15 a",null,11.935341363636365,"kWh/(a*(m³/h))",null,3.0763598863636368,"kgCO2/(a*(m³/h))",null,null,null,null,11,9.0042397416056172E-2,0.1169207250029386,1.9491054211008125]
[null,null,null,null,null,null,null,null,null,null,null,null,null,null,null,null,null,null,null,null,null,null,null,null,null,null,12,9.2743669338537851E-2,0.12042834675302676,2.0075785837338369]
[null,null,null,null,null,null,null,null,null,null,null,null,null,null,null,null,null,null,null,null,null,null,null,null,null,null,13,9.5525979418693993E-2,0.12404119715561757,2.0678059412458523]
[null,null,null,null,null,null,null,null,null,null,"DKosten zur Abluftanlage",{"$f":"L4","v":200},300,400,600,900,1400,2000,3000,4400,6400,9400,13900,20400,30000,null,14,9.8391758801254808E-2,0.12776243307028609,2.1298401194832275]
[null,null,null,null,null,null,null,null,"Kostendifferenz Abluft zu",{"$f":"J50","v":1},{"$f":"I61&\" \"&B6","v":"Kostendifferenz Abluft zu RLT-H60"},{"$f":"L6-L$5","v":36.695919554544602},{"$f":"M6-M$5","v":32.600555937621721},29.974814427389457,26.628726284128671,23.655742352096237,20.792302881945538,18.735354691685437,16.642772011980764,14.881045469362867,13.337910168797443,11.92072023739653,10.312453952830673,8.7284999999999986,8.7284999999999986,null,15,0.10134351156529245,0.13159530606239467,2.1937353230677243]
[null,null,null,null,null,null,null,null,{"$f":"I61","v":"Kostendifferenz Abluft zu"},{"$f":"J51","v":2},{"$f":"I62&\" \"&B7","v":"Kostendifferenz Abluft zu RLT-HK60"},{"$f":"L7-L$5","v":68.171070523558413},60.641627049151623,55.808792747837046,49.643381823766191,44.158383596740649,38.868378075079654,35.063453632938142,31.187916155826638,27.92102074667957,25.05600419015051,22.421621891050773,19.704297477052581,17.456999999999997,17.456999999999997,null,16,0,0,0]
[null,null,null,null,null,null,null,null,{"$f":"I62","v":"Kostendifferenz Abluft zu"},3,"Kostendifferenz Abluft zu RLT-H60SFP",45.264396303827851,40.193438631064893,36.943638870742674,32.804090710951286,29.127988943189383,25.589196485088173,23.048361862636263,20.464706582527185,18.29058674119419,16.387090640986344,14.6397380530194,12.732172045755259,10.910625,10.910625,null,17,0,0,0]
[null,null,null,null,null,null,null,null,"Kostendifferenz Abluft zu",4,"Kostendifferenz Abluft zu RLT-HK60SFP",81.460819918193806,72.440670409324355,66.652713939257495,59.270944581534494,52.706026374530509,46.376682957192479,41.825675645076913,37.191622347949973,33.286558310108447,29.862898765542418,26.71577495472182,23.532792098610482,20.948399999999996,20.948399999999996,null,18,0,0,0]
[null,null,null,null,null,null,null,null,"Kostendifferenz Abluft zu",5,"Kostendifferenz Abluft zu RLT-H70",{"$f":"L10-L$5","v":37.833093431395625},33.857780467327224,31.291870307889429,28.000447019155313,25.053482218795114,22.192461247669797,20.121838067345145,18.000480708042549,16.201542920158946,14.614892727760019,13.147701847880182,11.484679445733068,9.8923000000000023,9.8923000000000023,null,19,0,0,0]
[null,null,null,null,null,null,null,null,"Kostendifferenz Abluft zu",6,"Kostendifferenz Abluft zu RLT-HK70",69.320406760879933,61.905726505348028,57.129880327061443,51.016160756031809,45.555178239982908,40.266256364738723,36.447072488466006,32.54249755330784,29.238435248957909,26.330145193620993,23.646151053380613,20.874562025440447,18.620800000000003,18.620800000000003,null,20,0,0,0]
[null,null,null,null,null,null,null,null,"Kostendifferenz Abluft zu",7,"Kostendifferenz Abluft zu RLT-H70SFP",46.572146262206516,41.639246840226214,38.458253133317669,34.381569556231923,30.735389789893095,27.199378605671086,24.64281774464493,22.026071582998245,19.809158809609695,17.855620583793318,16.050766905075605,14.080231362593022,12.248995000000001,12.248995000000001,null,21,0,0,0]
[null,null,null,null,null,null,null,null,"Kostendifferenz Abluft zu",8,"Kostendifferenz Abluft zu RLT-HK70SFP",{"$f":"L13-L$5","v":82.782556591113675},73.894384783950287,68.171964655365628,60.849640353640027,54.312340214259166,47.984242990300423,43.41683732893398,38.749390955053386,34.801584987728546,31.328160919533481,28.123983491401145,24.878596329256549,22.286770000000001,22.286770000000001,null,22,0,0,0]
[null,null,null,null,null,null,null,null,null,null,null,null,null,null,null,null,null,null,null,null,null,null,null,null,null,null,23,0,0,0]
[null,null,null,null,null,null,null,null,null,null,"DWartungskosten zur Abluftanlage",{"$f":"L13","v":103.20981536512417},{"$f":"M13","v":91.91304680261652},84.655979850331164,75.390010248328963,67.138241802784009,59.171230795972676,53.434863776920849,47.586182746715551,42.650814663907973,38.31812056532889,34.330048691490525,30.697596329256548,28.10577,28.10577,null,24,0,0,0]
[null,null,null,null,null,null,null,null,"Wartungskosten Abluft zu",{"$f":"J60","v":0},{"$f":"I71&\" \"&B6","v":"Wartungskosten Abluft zu RLT-H60"},{"$f":"L61*$AA$20","v":0.55043879331816903},0.48900833906432578,0.44962221641084182,0.39943089426193007,0.35483613528144353,0.31188454322918308,0.28103032037528153,0.24964158017971144,0.22321568204044301,0.20006865253196163,0.17881080356094795,0.15468680929246009,0.13092749999999997,0.13092749999999997,null,25,0,0,0]
[null,null,null,null,null,null,null,null,{"$f":"I71","v":"Wartungskosten Abluft zu"},{"$f":"J61","v":1},{"$f":"I72&\" \"&B7","v":"Wartungskosten Abluft zu RLT-HK60"},{"$f":"L62*$AA$20","v":1.0225660578533762},0.90962440573727432,0.83713189121755571,0.74465072735649285,0.6623757539511097,0.58302567112619474,0.52595180449407208,0.46781874233739956,0.41881531120019355,0.37584006285225763,0.33632432836576159,0.29556446215578869,0.26185499999999995,0.26185499999999995,null,26,0,0,0]
[null,null,null,null,null,null,null,null,{"$f":"I72","v":"Wartungskosten Abluft zu"},2,"Wartungskosten Abluft zu RLT-H60SFP",{"$f":"L63*$AA$20","v":0.67896594455741777},0.60290157946597334,0.55415458306114007,0.49206136066426925,0.43691983414784075,0.38383794727632259,0.34572542793954392,0.30697059873790777,0.27435880111791283,0.24580635961479513,0.219596070795291,0.1909825806863289,0.163659375,0.163659375,null,27,0,0,0]
[null,null,null,null,null,null,null,null,"Wartungskosten Abluft zu",3,"Wartungskosten Abluft zu RLT-HK60SFP",{"$f":"L64*$AA$20","v":1.221912298772907},1.0866100561398653,0.99979070908886236,0.88906416872301741,0.79059039561795763,0.69565024435788714,0.62738513467615364,0.55787433521924956,0.49929837465162669,0.44794348148313629,0.40073662432082729,0.35299188147915722,0.31422599999999995,0.31422599999999995,null,28,0,0,0]
[null,null,null,null,null,null,null,null,"Wartungskosten Abluft zu",4,"Wartungskosten Abluft zu RLT-H70",{"$f":"L65*$AA$20","v":0.56749640147093439},0.50786670700990832,0.46937805461834142,0.4200067052873297,0.37580223328192669,0.33288691871504694,0.30182757101017715,0.2700072106206382,0.24302314380238418,0.21922339091640028,0.19721552771820272,0.17227019168599603,0.14838450000000003,0.14838450000000003,null,29,0,0,0]
[null,null,null,null,null,null,null,null,"Wartungskosten Abluft zu",5,"Wartungskosten Abluft zu RLT-HK70",{"$f":"L66*$AA$20","v":1.039806101413199},0.92858589758022037,0.85694820490592161,0.7652424113404771,0.68332767359974356,0.60399384547108081,0.54670608732699011,0.4881374632996176,0.43857652873436864,0.39495217790431486,0.35469226580070917,0.31311843038160669,0.279312,0.279312,null,30,0,0,0]
[null,null,null,null,null,null,null,null,"Wartungskosten Abluft zu",6,"Wartungskosten Abluft zu RLT-H70SFP",{"$f":"L67*$AA$20","v":0.69858219393309773},0.62458870260339316,0.57687379699976504,0.51572354334347881,0.4610308468483964,0.40799067908506625,0.36964226616967394,0.33039107374497367,0.29713738214414542,0.26783430875689973,0.24076150357613407,0.21120347043889531,0.18373492499999999,0.18373492499999999,null,null,{"$f":"SUM(AB47:AB76)","v":1.2461272304083744},{"$f":"SUM(AC47:AC76)","v":1.6181055081422173},{"$f":"SUM(AD47:AD76)","v":26.97432998088075}]
[null,null,null,null,null,null,null,null,"Wartungskosten Abluft zu",7,"Wartungskosten Abluft zu RLT-HK70SFP",{"$f":"L68*$AA$20","v":1.2417383488667051},1.1084157717592542,1.0225794698304844,0.91274460530460033,0.81468510321388743,0.71976364485450628,0.65125255993400966,0.5812408643258008,0.52202377481592821,0.4699224137930022,0.42185975237101714,0.37317894493884823,0.33430155,0.33430155,null,null,{"$f":"AB77/AA19","v":8.3075148693891626E-2},{"$f":"AC77/AA19","v":0.10787370054281449},{"$f":"AD77/AA19","v":1.79828866539205}]
[null,null,null,null,null,null,null,null,null,null,null,null,null,null,null,null,null,null,null,null,null,null,null,null,null,null,null,"c_H","C_el"]
[null,null,null,null,null,null,null,null,null,null,"DEnergiekosten zur Abluftanlage"]
[null,null,null,null,null,null,null,null,"Energiekostendifferenz Abluft zu",{"$f":"J61","v":1},{"$f":"I81&\" \"&B6","v":"Energiekostendifferenz Abluft zu RLT-H60"},{"$f":"$L50-$L$49","v":-0.81116175517928424},{"$f":"$L50-$L$49","v":-0.81116175517928424},-0.81116175517928424,-0.81116175517928424,-0.81116175517928424,-0.81116175517928424,-0.81116175517928424,-0.81116175517928424,-0.81116175517928424,-0.81116175517928424,-0.81116175517928424,-0.81116175517928424,-0.81116175517928424,-0.81116175517928424]
[null,null,null,null,null,null,null,null,{"$f":"I81","v":"Energiekostendifferenz Abluft zu"},{"$f":"J62","v":2},"Energiekostendifferenz Abluft zu RLT-HK60",{"$f":"$L51-$L$49","v":-0.86870801588552049},{"$f":"$L51-$L$49","v":-0.86870801588552049},-0.86870801588552049,-0.86870801588552049,-0.86870801588552049,-0.86870801588552049,-0.86870801588552049,-0.86870801588552049,-0.86870801588552049,-0.86870801588552049,-0.86870801588552049,-0.86870801588552049,-0.86870801588552049,-0.86870801588552049]
[null,null,null,null,null,null,null,null,{"$f":"I82","v":"Energiekostendifferenz Abluft zu"},3,"Energiekostendifferenz Abluft zu RLT-H60SFP",-0.86870801588552049,-0.86870801588552049,-0.86870801588552049,-0.86870801588552049,-0.86870801588552049,-0.86870801588552049,-0.86870801588552049,-0.86870801588552049,-0.86870801588552049,-0.86870801588552049,-0.86870801588552049,-0.86870801588552049,-0.86870801588552049,-0.86870801588552049]
[null,null,null,null,null,null,null,null,"Energiekostendifferenz Abluft zu",4,"Energiekostendifferenz Abluft zu RLT-HK60SFP",-1.0626451838024593,-1.0626451838024593,-1.0626451838024593,-1.0626451838024593,-1.0626451838024593,-1.0626451838024593,-1.0626451838024593,-1.0626451838024593,-1.0626451838024593,-1.0626451838024593,-1.0626451838024593,-1.0626451838024593,-1.0626451838024593,-1.0626451838024593]
[null,null,null,null,null,null,null,null,"Energiekostendifferenz Abluft zu",5,"Energiekostendifferenz Abluft zu RLT-H70",-1.0626451838024593,-1.0626451838024593,-1.0626451838024593,-1.0626451838024593,-1.0626451838024593,-1.0626451838024593,-1.0626451838024593,-1.0626451838024593,-1.0626451838024593,-1.0626451838024593,-1.0626451838024593,-1.0626451838024593,-1.0626451838024593,-1.0626451838024593]
[null,null,null,null,null,null,null,null,"Energiekostendifferenz Abluft zu",6,"Energiekostendifferenz Abluft zu RLT-HK70",-1.0626451838024593,-1.0626451838024593,-1.0626451838024593,-1.0626451838024593,-1.0626451838024593,-1.0626451838024593,-1.0626451838024593,-1.0626451838024593,-1.0626451838024593,-1.0626451838024593,-1.0626451838024593,-1.0626451838024593,-1.0626451838024593,-1.0626451838024593]
[null,null,null,null,null,null,null,null,"Energiekostendifferenz Abluft zu",7,"Energiekostendifferenz Abluft zu RLT-H70SFP",-1.1201914445086956,-1.1201914445086956,-1.1201914445086956,-1.1201914445086956,-1.1201914445086956,-1.1201914445086956,-1.1201914445086956,-1.1201914445086956,{"$f":"$L56-$L$49","v":-1.1201914445086956},-1.1201914445086956,-1.1201914445086956,-1.1201914445086956,-1.1201914445086956,-1.1201914445086956]
[null,null,null,null,null,null,null,null,"Energiekostendifferenz Abluft zu",8,"Energiekostendifferenz Abluft zu RLT-HK70SFP",-1.1201914445086956,-1.1201914445086956,-1.1201914445086956,-1.1201914445086956,-1.1201914445086956,-1.1201914445086956,-1.1201914445086956,-1.1201914445086956,-1.1201914445086956,-1.1201914445086956,-1.1201914445086956,-1.1201914445086956,-1.1201914445086956,-1.1201914445086956]
[]
[null,null,null,null,null,null,null,null,null,null,"DEnergie- und Betriebskosten zur Abluftanlage"]
[null,null,null,null,null,null,null,null,"Energie- und Betriebskostendifferenz Abluft zu",{"$f":"J71","v":0},{"$f":"I91&\" \"&B6","v":"Energie- und Betriebskostendifferenz Abluft zu RLT-H60"},{"$f":"L71+L81","v":-0.26072296186111521},{"$f":"M71+M81","v":-0.32215341611495846},-0.36153953876844241,-0.41173086091735417,-0.45632561989784071,-0.49927721195010116,-0.53013143480400271,-0.56152017499957285,-0.58794607313884129,-0.61109310264732264,-0.63235095161833632,-0.6564749458868242,-0.68023425517928426,-0.68023425517928426]
[null,null,null,null,null,null,null,null,{"$f":"I91","v":"Energie- und Betriebskostendifferenz Abluft zu"},{"$f":"J72","v":1},{"$f":"I92&\" \"&B7","v":"Energie- und Betriebskostendifferenz Abluft zu RLT-HK60"},{"$f":"L72+L82","v":0.15385804196785569},4.0916389851753832E-2,-3.1576124667964778E-2,-0.12405728852902764,-0.20633226193441079,-0.28568234475932575,-0.34275621139144841,-0.40088927354812093,-0.44989270468532694,-0.49286795303326286,-0.53238368751975895,-0.5731435537297318,-0.60685301588552054,-0.60685301588552054]
[null,null,null,null,null,null,null,null,{"$f":"I92","v":"Energie- und Betriebskostendifferenz Abluft zu"},2,"Energie- und Betriebskostendifferenz Abluft zu RLT-H60SFP",-0.18974207132810272,-0.26580643641954715,-0.31455343282438042,-0.37664665522125124,-0.43178818173767974,-0.4848700686091979,-0.52298258794597663,-0.56173741714761272,-0.59434921476760771,-0.62290165627072536,-0.64911194509022951,-0.67772543519919159,-0.70504864088552055,-0.70504864088552055]
[null,null,null,null,null,null,null,null,"Energie- und Betriebskostendifferenz Abluft zu",3,"Energie- und Betriebskostendifferenz Abluft zu RLT-HK60SFP",0.15926711497044765,2.3964872337405962E-2,-6.2854474713596953E-2,-0.1735810150794419,-0.27205478818450168,-0.36699493944457218,-0.43526004912630567,-0.50477084858320975,-0.56334680915083268,-0.61470170231932308,-0.66190855948163208,-0.70965330232330204,-0.74841918380245942,-0.74841918380245942]
[null,null,null,null,null,null,null,null,"Energie- und Betriebskostendifferenz Abluft zu",4,"Energie- und Betriebskostendifferenz Abluft zu RLT-H70",-0.49514878233152493,-0.55477847679255099,-0.59326712918411784,-0.64263847851512956,-0.68684295052053268,-0.72975826508741237,-0.76081761279228211,-0.79263797318182116,-0.8196220400000751,-0.84342179288605901,-0.86542965608425659,-0.89037499211646332,-0.91426068380245928,-0.91426068380245928]
[null,null,null,null,null,null,null,null,"Energie- und Betriebskostendifferenz Abluft zu",5,"Energie- und Betriebskostendifferenz Abluft zu RLT-HK70",-2.2839082389260357E-2,-0.13405928622223895,-0.20569697889653771,-0.29740277246198221,-0.37931751020271576,-0.4586513383313785,-0.51593909647546921,-0.57450772050284171,-0.62406865506809073,-0.66769300589814451,-0.70795291800175009,-0.74952675342085262,-0.78333318380245931,-0.78333318380245931]
[null,null,null,null,null,null,null,null,"Energie- und Betriebskostendifferenz Abluft zu",6,"Energie- und Betriebskostendifferenz Abluft zu RLT-H70SFP",{"$f":"L77+L87","v":-0.42160925057559784},-0.4956027419053024,-0.54331764750893052,-0.60446790116521676,-0.65916059766029922,-0.71220076542362931,-0.75054917833902168,-0.78980037076372189,{"$f":"T77+T87","v":-0.82305406236455014},-0.85235713575179584,-0.87942994093256144,-0.90898797406980025,-0.93645651950869557,-0.93645651950869557]
[null,null,null,null,null,null,null,null,"Energie- und Betriebskostendifferenz Abluft zu",7,"Energie- und Betriebskostendifferenz Abluft zu RLT-HK70SFP",0.12154690435800952,-1.1775672749441357E-2,-9.7611974678211144E-2,-0.20744683920409523,-0.30550634129480814,-0.40042779965418929,-0.46893888457468591,-0.53895058018289477,-0.59816766969276736,-0.65026903071569331,-0.69833169213767843,-0.74701249956984728,-0.78588989450869562,-0.78588989450869562]
[]
[null,null,null,null,null,null,null,null,null,null,"DPrimärenergiebedarf zur Abluftanlage"]
[null,null,null,null,null,null,null,null,"Differenz Qp Abluft zu",{"$f":"J81","v":1},{"$f":"I101&\" \"&B6","v":"Differenz Qp Abluft zu RLT-H60"},{"$f":"R50-R$49","v":-8.5168142222222265},{"$f":"L101","v":-8.5168142222222265},{"$f":"M101","v":-8.5168142222222265},-8.5168142222222265,-8.5168142222222265,-8.5168142222222265,-8.5168142222222265,-8.5168142222222265,-8.5168142222222265,-8.5168142222222265,-8.5168142222222265,-8.5168142222222265,-8.5168142222222265,-8.5168142222222265]
[null,null,null,null,null,null,null,null,{"$f":"I101","v":"Differenz Qp Abluft zu"},{"$f":"J82","v":2},"Differenz Qp Abluft zu RLT-HK60",{"$f":"R51-R$49","v":-9.9358167474747496},{"$f":"L102","v":-9.9358167474747496},-9.9358167474747496,-9.9358167474747496,-9.9358167474747496,-9.9358167474747496,-9.9358167474747496,-9.9358167474747496,-9.9358167474747496,-9.9358167474747496,-9.9358167474747496,-9.9358167474747496,-9.9358167474747496,-9.9358167474747496]
[null,null,null,null,null,null,null,null,{"$f":"I102","v":"Differenz Qp Abluft zu"},3,"Differenz Qp Abluft zu RLT-H60SFP",-9.9358167474747496,-9.9358167474747496,-9.9358167474747496,-9.9358167474747496,-9.9358167474747496,-9.9358167474747496,-9.9358167474747496,-9.9358167474747496,-9.9358167474747496,-9.9358167474747496,-9.9358167474747496,-9.9358167474747496,-9.9358167474747496,-9.9358167474747496]
[null,null,null,null,null,null,null,null,"Differenz Qp Abluft zu",4,"Differenz Qp Abluft zu RLT-HK60SFP",-11.846712222222227,-11.846712222222227,-11.846712222222227,-11.846712222222227,-11.846712222222227,-11.846712222222227,-11.846712222222227,-11.846712222222227,-11.846712222222227,-11.846712222222227,-11.846712222222227,-11.846712222222227,-11.846712222222227,-11.846712222222227]
[null,null,null,null,null,null,null,null,"Differenz Qp Abluft zu",5,"Differenz Qp Abluft zu RLT-H70",-11.846712222222227,-11.846712222222227,-11.846712222222227,-11.846712222222227,-11.846712222222227,-11.846712222222227,-11.846712222222227,-11.846712222222227,-11.846712222222227,-11.846712222222227,-11.846712222222227,-11.846712222222227,-11.846712222222227,-11.846712222222227]
[null,null,null,null,null,null,null,null,"Differenz Qp Abluft zu",6,"Differenz Qp Abluft zu RLT-HK70",-11.846712222222227,-11.846712222222227,-11.846712222222227,-11.846712222222227,-11.846712222222227,-11.846712222222227,-11.846712222222227,-11.846712222222227,-11.846712222222227,-11.846712222222227,-11.846712222222227,-11.846712222222227,-11.846712222222227,-11.846712222222227]
[null,null,null,null,null,null,null,null,"Differenz Qp Abluft zu",7,"Differenz Qp Abluft zu RLT-H70SFP",{"$f":"R56-R$49","v":-13.265714747474753},-13.265714747474753,-13.265714747474753,-13.265714747474753,-13.265714747474753,-13.265714747474753,-13.265714747474753,-13.265714747474753,-13.265714747474753,-13.265714747474753,-13.265714747474753,-13.265714747474753,-13.265714747474753,-13.265714747474753]
[null,null,null,null,null,null,null,null,"Differenz Qp Abluft zu",8,"Differenz Qp Abluft zu RLT-HK70SFP",-13.265714747474753,-13.265714747474753,-13.265714747474753,-13.265714747474753,-13.265714747474753,-13.265714747474753,-13.265714747474753,-13.265714747474753,-13.265714747474753,-13.265714747474753,-13.265714747474753,-13.265714747474753,-13.265714747474753,{"$f":"X108","v":-13.265714747474753}]
[]
[null,null,null,null,null,null,null,null,null,null,"Kapitalrücklaufzeit",{"$f":"L4","v":200},300,400,600,900,1400,2000,3000,4400,6400,9400,13900,20400,30000]
[null,null,null,null,null,null,null,null,"Kapitalrücklaufzeit",{"$f":"J101","v":1},{"$f":"I111&\" \"&B6","v":"Kapitalrücklaufzeit RLT-H60"},{"$f":"L61/(-1*L91)","v":140.74678844010751},{"$f":"M61/(-1*M91)","v":101.19574807174608},82.908814149336024,64.675079795570142,51.83961040230907,41.644806500849405,35.340961621361259,29.638778360890459,25.310221717985289,21.826314371764543,18.851430850050239,15.708830957592298,12.831609013426549,12.831609013426549]
[null,null,null,null,null,null,null,null,{"$f":"I111","v":"Kapitalrücklaufzeit"},{"$f":"J102","v":2},"Kapitalrücklaufzeit RLT-HK60",{"$f":"L62/(-1*L92)","v":-443.07772055100531},-1482.0864516362578,{"$f":"N62/(-1*N92)","v":1767.4364202285174},400.16497549154758,214.01589447401969,136.05453325379446,102.29852142021009,77.79683372367154,62.061510346580647,50.837154324901952,42.115531367062431,34.379340653535856,28.76643856589676,28.76643856589676]
[null,null,null,null,null,null,null,null,{"$f":"I112","v":"Kapitalrücklaufzeit"},3,"Kapitalrücklaufzeit RLT-H60SFP",238.55751118873621,151.21318795916525,117.44789601888982,87.095133479099601,67.458976820456925,52.775368375466577,44.070992789949493,36.431090324092644,30.774141341039481,26.307669077483059,22.553487366473298,18.786622700700502,15.474996145367463,15.474996145367463]
[null,null,null,null,null,null,null,null,"Kapitalrücklaufzeit",4,"Kapitalrücklaufzeit RLT-HK60SFP",-511.47294237927917,-3022.7855750457784,1060.429098214051,341.45983392485795,193.73313267615205,126.36872603034033,96.093532427415028,73.680210440716564,59.087151590124961,48.581122604455295,40.361730592582227,33.160970323913851,27.990196474612542,27.990196474612542]
[null,null,null,null,null,null,null,null,"Kapitalrücklaufzeit",5,"Kapitalrücklaufzeit RLT-H70",76.407525942504748,61.029369169250785,52.744992548168184,43.571071380370356,36.476289375625115,30.410702159038276,26.44765017136741,22.709586617185025,19.767090353204097,17.3280947338936,15.192109208931646,12.898699477658782,10.819999345107345,10.819999345107345]
[null,null,null,null,null,null,null,null,"Kapitalrücklaufzeit",6,"Kapitalrücklaufzeit RLT-HK70",3035.166018468261,461.77872678452735,277.73806223861391,171.53895484465713,120.0977466493366,87.79273709574592,70.642199316637587,56.644143136709808,46.851311969462351,39.434508016454515,33.400739586078181,27.850322793907754,23.771238580256277,23.771238580256277]
[null,null,null,null,null,null,null,null,"Kapitalrücklaufzeit",7,"Kapitalrücklaufzeit RLT-H70SFP",{"$f":"L67/(-1*L97)","v":110.46281882720636},84.017385941303885,70.784104491443983,56.879065852720188,46.628075007803616,38.190605691770671,32.833048727306469,27.888150472377539,{"$f":"T67/(-1*T97)","v":24.067870769873863},20.948520091926383,18.251330956568431,15.490008409629207,13.080153477308629,13.080153477308629]
[null,null,null,null,null,null,null,null,"Kapitalrücklaufzeit",8,"Kapitalrücklaufzeit RLT-HK70SFP",-681.07498934964519,6275.173092548438,698.39755706307733,293.32642804826492,177.77811087020524,119.83244677752086,92.585278715608752,71.89785553603754,58.180317578185793,48.177230407318277,40.273102034522026,33.304123215585292,28.358641783952095,28.358641783952095]
[]
[null,null,null,null,null,null,null,null,null,null,{"$f":"\"Energie- und Betriebskosteneinsparung über \"&AA19&\" Jahre\"","v":"Energie- und Betriebskosteneinsparung über 15 Jahre"},{"$f":"\"€/(m³/a)_\"&AA19&\" a\"","v":"€/(m³/a)_15 a"}]
[null,null,null,null,null,null,null,null,{"$f":"I81","v":"Energiekostendifferenz Abluft zu"},{"$f":"J111","v":1},{"$f":"I121&\" \"&B6","v":"Energiekostendifferenz Abluft zu RLT-H60"},{"$f":"(L91)*$AA$19","v":-3.9108444279167283},-4.8323012417243767,-5.4230930815266358,-6.1759629137603129,-6.8448842984676102,-7.4891581792515174,-7.9519715220600409,-8.4228026249935937,-8.8191910970826193,-9.1663965397098401,-9.4852642742750444,-9.847124188302363,-10.203513827689264,-10.203513827689264]
[null,null,null,null,null,null,null,null,{"$f":"I121","v":"Energiekostendifferenz Abluft zu"},{"$f":"J112","v":2},"Energiekostendifferenz Abluft zu RLT-HK60",{"$f":"(L92)*$AA$19","v":2.3078706295178355},0.61374584777630747,-0.47364187001947167,-1.8608593279354146,-3.0949839290161618,-4.2852351713898864,-5.1413431708717265,-6.0133391032218135,-6.7483905702799039,-7.3930192954989433,-7.9857553127963845,-8.5971533059459766,-9.102795238282809,-9.102795238282809]
[null,null,null,null,null,null,null,null,"Energiekostendifferenz Abluft zu",3,"Energiekostendifferenz Abluft zu RLT-H60SFP",{"$f":"(L93)*$AA$19","v":-2.8461310699215407},-3.9870965462932073,-4.7183014923657058,-5.6496998283187683,-6.4768227260651958,-7.2730510291379682,-7.844738819189649,-8.4260612572141902,-8.9152382215141159,-9.3435248440608802,-9.7366791763534426,-10.165881527987874,-10.575729613282808,-10.575729613282808]
[null,null,null,null,null,null,null,null,"Energiekostendifferenz Abluft zu",4,"Energiekostendifferenz Abluft zu RLT-HK60SFP",{"$f":"(L94)*$AA$19","v":2.3890067245567148},0.35947308506108944,-0.94281712070395429,-2.6037152261916283,-4.0808218227675255,-5.5049240916685829,-6.5289007368945846,-7.5715627287481464,-8.4502021372624903,-9.2205255347898465,-9.928628392224482,-10.644799534849531,-11.226287757036891,-11.226287757036891]
[null,null,null,null,null,null,null,null,"Energiekostendifferenz Abluft zu",5,"Energiekostendifferenz Abluft zu RLT-H70",{"$f":"(L95)*$AA$19","v":-7.4272317349728736},-8.3216771518882648,-8.8990069377617669,-9.6395771777269434,-10.302644257807991,-10.946373976311186,-11.412264191884232,-11.889569597727318,-12.294330600001127,-12.651326893290886,-12.981444841263849,-13.35562488174695,-13.71391025703689,-13.71391025703689]
[null,null,null,null,null,null,null,null,"Energiekostendifferenz Abluft zu",6,"Energiekostendifferenz Abluft zu RLT-HK70",{"$f":"(L96)*$AA$19","v":-0.34258623583890535},-2.0108892933335842,-3.0854546834480656,-4.4610415869297331,-5.6897626530407361,-6.8797700749706774,-7.7390864471320384,-8.6176158075426255,-9.3610298260213618,-10.015395088472168,-10.619293770026252,-11.24290130131279,-11.749997757036891,-11.749997757036891]
[null,null,null,null,null,null,null,null,"Energiekostendifferenz Abluft zu",7,"Energiekostendifferenz Abluft zu RLT-H70SFP",{"$f":"(L97)*$AA$19","v":-6.3241387586339677},-7.434041128579536,-8.1497647126339583,-9.0670185174782514,-9.8874089649044876,-10.683011481354439,-11.258237675085326,-11.847005561455829,-12.345810935468252,-12.785357036276938,-13.191449113988421,-13.634819611047003,-14.046847792630434,-14.046847792630434]
[null,null,null,null,null,null,null,null,"Energiekostendifferenz Abluft zu",8,"Energiekostendifferenz Abluft zu RLT-HK70SFP",{"$f":"(L98)*$AA$19","v":1.8232035653701428},-0.17663509124162036,-1.4641796201731672,-3.1117025880614286,-4.5825951194221224,-6.006416994812839,-7.0340832686202885,-8.084258702743421,-8.9725150453915106,-9.7540354607354001,-10.474975382065177,-11.20518749354771,-11.788348417630434,-11.788348417630434]
[]
[null,null,null,null,null,null,null,null,null,null,"DFörderung zur Abluftanlage",{"$f":"L110","v":200},{"$f":"M110","v":300},400,600,900,1400,2000,3000,4400,6400,9400,13900,20400,30000]
[null,null,null,null,null,null,null,null,"Förderung Abluft zu",{"$f":"J121","v":1},{"$f":"I131&\" \"&B6","v":"Förderung Abluft zu RLT-H60"},{"$f":"MIN(L61,MAX(0,L61+L121))","v":32.785075126627873},{"$f":"MIN(M61,MAX(0,M61+M121))","v":27.768254695897344},24.551721345862823,20.452763370368359,16.810858053628628,13.30314470269402,10.783383169625395,8.2199693869871702,6.0618543722802478,4.1715136290876025,2.4354559631214858,0.46532976452830965,0,0]
[null,null,null,null,null,null,null,null,{"$f":"I131","v":"Förderung Abluft zu"},{"$f":"J122","v":2},"Förderung Abluft zu RLT-HK60",{"$f":"MIN(L62,MAX(0,L62+L122))","v":68.171070523558413},60.641627049151623,55.335150877817576,47.782522495830776,41.063399667724489,34.583142903689769,29.922110462066414,25.174577052604825,21.172630176399664,17.662984894651565,14.435866578254387,11.107144171106604,8.3542047617171882,8.3542047617171882]
[null,null,null,null,null,null,null,null,{"$f":"I132","v":"Förderung Abluft zu"},3,"Förderung Abluft zu RLT-H60SFP",42.418265233906311,36.206342084771684,32.22533737837697,27.154390882632519,22.651166217124185,18.316145455950206,15.203623043446614,12.038645325312995,9.3753485196800739,7.0435657969254635,4.9030588766659573,2.5662905177673849,0.3348953867171911,0.3348953867171911]
[null,null,null,null,null,null,null,null,"Förderung Abluft zu",4,"Förderung Abluft zu RLT-HK60SFP",81.460819918193806,72.440670409324355,65.709896818553545,56.667229355342869,48.625204551762984,40.871758865523894,35.296774908182329,29.620059619201825,24.836356172845957,20.642373230752572,16.787146562497337,12.887992563760951,9.7221122429631048,9.7221122429631048]
[null,null,null,null,null,null,null,null,"Förderung Abluft zu",5,"Förderung Abluft zu RLT-H70",30.40586169642275,25.536103315438957,22.392863370127664,18.360869841428368,14.750837960987123,11.246087271358611,8.7095738754609133,6.1109111103152305,3.9072123201578197,1.9635658344691329,0.16625700661633225,0,0,0]
[null,null,null,null,null,null,null,null,"Förderung Abluft zu",6,"Förderung Abluft zu RLT-HK70",68.977820525041025,59.894837212014444,54.04442564361338,46.555119169102078,39.86541558694217,33.386486289768044,28.707986041333967,23.924881745765212,19.877405422936548,16.314750105148825,13.026857283354362,9.6316607241276575,6.8708022429631121,6.8708022429631121]
[null,null,null,null,null,null,null,null,"Förderung Abluft zu",7,"Förderung Abluft zu RLT-H70SFP",{"$f":"MIN(L67,MAX(0,L67+L127))","v":40.248007503572552},34.205205711646677,30.308488420683709,25.31455103875367,20.847980824988607,16.516367124316645,13.384580069559604,10.179066021542416,{"$f":"MIN(T67,MAX(0,T67+T127))","v":7.4633478741414425},5.0702635475163795,2.8593177910871841,0.44541175154601831,0,0]
[null,null,null,null,null,null,null,null,"Förderung Abluft zu",8,"Förderung Abluft zu RLT-HK70SFP",82.782556591113675,73.717749692708665,66.707785035192458,57.7379377655786,49.729745094837043,41.977825995487585,36.382754060313694,30.665132252309967,25.829069942337036,21.574125458798079,17.649008109335966,13.673408835708839,10.498421582369566,10.498421582369566]
[]
[null,null,null,null,null,null,null,null,null,null,"DKosten zur Abluftanlage mit Förderung"]
[null,null,null,null,null,null,null,null,"Kostendifferenz Abluft zu",{"$f":"J130","v":0},{"$f":"I141&\" \"&B6","v":"Kostendifferenz Abluft zu RLT-H60"},{"$f":"L61-L131","v":3.9108444279167287},{"$f":"M61-M131","v":4.8323012417243767},5.4230930815266341,6.175962913760312,6.8448842984676084,7.4891581792515183,7.9519715220600418,8.4228026249935937,8.8191910970826193,9.1663965397098401,9.4852642742750444,9.847124188302363,8.7284999999999986,8.7284999999999986]
[null,null,null,null,null,null,null,null,{"$f":"I141","v":"Kostendifferenz Abluft zu"},{"$f":"J131","v":1},"Kostendifferenz Abluft zu RLT-HK60",{"$f":"L62-L132","v":0},0,0.47364187001947045,1.8608593279354153,3.0949839290161592,4.2852351713898855,5.1413431708717283,6.0133391032218135,6.7483905702799056,7.3930192954989451,7.9857553127963854,8.5971533059459766,9.102795238282809,9.102795238282809]
[null,null,null,null,null,null,null,null,{"$f":"I142","v":"Kostendifferenz Abluft zu"},2,"Kostendifferenz Abluft zu RLT-H60SFP",2.8461310699215403,3.9870965462932091,4.7183014923657041,5.6496998283187665,6.4768227260651976,7.2730510291379673,7.844738819189649,8.4260612572141902,8.9152382215141159,9.3435248440608802,9.7366791763534426,10.165881527987874,10.575729613282808,10.575729613282808]
[null,null,null,null,null,null,null,null,"Kostendifferenz Abluft zu",3,"Kostendifferenz Abluft zu RLT-HK60SFP",0,0,0.94281712070394974,2.6037152261916248,4.0808218227675255,5.5049240916685847,6.5289007368945846,7.5715627287481482,8.4502021372624903,9.2205255347898465,9.928628392224482,10.644799534849531,11.226287757036891,11.226287757036891]
[null,null,null,null,null,null,null,null,"Kostendifferenz Abluft zu",4,"Kostendifferenz Abluft zu RLT-H70",7.4272317349728745,8.3216771518882666,8.8990069377617651,9.6395771777269452,10.302644257807991,10.946373976311186,11.412264191884232,11.889569597727318,12.294330600001127,12.651326893290886,12.981444841263849,11.484679445733068,9.8923000000000023,9.8923000000000023]
[null,null,null,null,null,null,null,null,"Kostendifferenz Abluft zu",5,"Kostendifferenz Abluft zu RLT-HK70",0.34258623583890824,2.0108892933335838,3.085454683448063,4.4610415869297313,5.6897626530407379,6.8797700749706792,7.7390864471320384,8.6176158075426272,9.3610298260213618,10.015395088472168,10.619293770026252,11.24290130131279,11.749997757036891,11.749997757036891]
[null,null,null,null,null,null,null,null,"Kostendifferenz Abluft zu",6,"Kostendifferenz Abluft zu RLT-H70SFP",{"$f":"L67-L137","v":6.3241387586339641},7.4340411285795369,8.1497647126339601,9.0670185174782532,9.8874089649044876,10.683011481354441,11.258237675085326,11.847005561455829,12.345810935468252,12.785357036276938,13.191449113988421,13.634819611047003,12.248995000000001,12.248995000000001]
[null,null,null,null,null,null,null,null,"Kostendifferenz Abluft zu",7,"Kostendifferenz Abluft zu RLT-HK70SFP",{"$f":"L68-L138","v":0},0.17663509124162147,1.4641796201731694,3.1117025880614264,4.5825951194221233,6.0064169948128381,7.0340832686202859,8.0842587027434192,8.9725150453915106,9.7540354607354018,10.474975382065178,11.20518749354771,11.788348417630434,11.788348417630434]
[]
[null,null,null,null,null,null,null,null,null,null,"Kapitalrücklaufzeit mit Förderung"]
[null,null,null,null,null,null,null,null,"Kapitalrücklaufzeit",{"$f":"J141","v":0},{"$f":"I151&\" \"&B6","v":"Kapitalrücklaufzeit RLT-H60"},{"$f":"L141/(-1*L91)","v":15.000000000000002},{"$f":"M141/(-1*M91)","v":15},14.999999999999995,14.999999999999998,14.999999999999995,15.000000000000002,15.000000000000002,15.000000000000002,15,15.000000000000002,15,15,12.831609013426549,12.831609013426549]
[null,null,null,null,null,null,null,null,{"$f":"I151","v":"Kapitalrücklaufzeit"},{"$f":"J142","v":1},"Kapitalrücklaufzeit RLT-HK60",{"$f":"L142/(-1*L92)","v":0},0,14.999999999999961,15.000000000000005,14.999999999999988,14.999999999999998,15.000000000000007,14.999999999999998,15.000000000000004,15.000000000000004,15.000000000000002,15,15.000000000000002,15.000000000000002]
[null,null,null,null,null,null,null,null,{"$f":"I152","v":"Kapitalrücklaufzeit"},2,"Kapitalrücklaufzeit RLT-H60SFP",14.999999999999996,15.000000000000007,14.999999999999993,14.999999999999995,15.000000000000004,14.999999999999998,15,14.999999999999998,15,15,15,15,15,15]
[null,null,null,null,null,null,null,null,"Kapitalrücklaufzeit",3,"Kapitalrücklaufzeit RLT-HK60SFP",0,0,14.999999999999927,14.999999999999979,15,15.000000000000005,14.999999999999998,15.000000000000004,15,15,15.000000000000002,15,15,15]
[null,null,null,null,null,null,null,null,"Kapitalrücklaufzeit",4,"Kapitalrücklaufzeit RLT-H70",{"$f":"L145/(-1*L95)","v":15.000000000000002},15.000000000000004,{"$f":"N145/(-1*N95)","v":14.999999999999996},15.000000000000004,15.000000000000002,15,15,15,15,15,15,12.898699477658782,10.819999345107345,10.819999345107345]
[null,null,null,null,null,null,null,null,"Kapitalrücklaufzeit",5,"Kapitalrücklaufzeit RLT-HK70",15.000000000000126,14.999999999999996,14.999999999999988,14.999999999999993,15.000000000000004,15.000000000000004,15,15.000000000000004,15.000000000000002,15,15,15,15.000000000000002,15.000000000000002]
[null,null,null,null,null,null,null,null,"Kapitalrücklaufzeit",6,"Kapitalrücklaufzeit RLT-H70SFP",14.999999999999991,15.000000000000002,15.000000000000004,15.000000000000004,14.999999999999998,15.000000000000002,15,15,15,15,15,15,13.080153477308629,13.080153477308629]
[null,null,null,null,null,null,null,null,"Kapitalrücklaufzeit",7,"Kapitalrücklaufzeit RLT-HK70SFP",0,15.000000000000094,15.000000000000023,14.999999999999989,15.000000000000004,14.999999999999996,14.999999999999995,14.999999999999996,15,15.000000000000004,15.000000000000004,15.000000000000002,15,15]
[]
[null,null,null,null,null,null,null,null,null,null,"Förderquote"]
[null,null,null,null,null,null,null,null,"Förderquote",{"$f":"J151","v":0},{"$f":"I161&\" \"&B6","v":"Förderquote RLT-H60"},{"$f":"L131/L6","v":0.57393646652604158},{"$f":"M131/M6","v":0.54857138883252843},0.52846189939423394,0.49679894067948355,0.46080319409373721,0.41599248815874851,0.37503009184360181,0.32261028682963266,0.26668636140416707,0.20521154784713255,0.13435674910593914,2.8846114298745885E-2,0,0]
[null,null,null,null,null,null,null,null,{"$f":"I161","v":"Förderquote"},{"$f":"J152","v":1},{"$f":"I162&\" \"&B7","v":"Förderquote RLT-HK60"},{"$f":"L132/L7","v":0.7694396842924327},0.77093064070574113,0.76543092532245049,0.74446446673031719,0.72060919136250401,0.69089781475332768,0.66373398584859533,0.62897590872201004,0.59190612103932283,0.55117658451698737,0.5042624132468625,0.43517669223942507,0.35891926283369952,0.35891926283369952]
[null,null,null,null,null,null,null,null,{"$f":"I162","v":"Förderquote"},2,"Förderquote RLT-H60SFP",0.64571771229762309,0.62197278024081948,0.60315838196347737,0.57354948256391325,0.53990621441893394,0.49804366084145163,0.45979085773217615,0.41085425637882778,0.35866160534504848,0.3013025899554212,0.23520604205715859,0.13833576182883736,2.0018104812103747E-2,2.0018104812103747E-2]
[null,null,null,null,null,null,null,null,"Förderquote",3,"Förderquote RLT-HK60SFP",0.79951276894994161,0.80080925278760107,0.79038347434219935,0.76773093335977471,0.74200784355339278,0.71002697228771827,0.68083052488847473,0.64351684004056853,0.60376517355459114,0.56012950204160883,0.50990912061894766,0.4390870758576636,0.36320719393602319,0.36320719393602319]
[null,null,null,null,null,null,null,null,"Förderquote",4,"Förderquote RLT-H70",{"$f":"L135/L10","v":0.52189629045190211},0.49224854465172041,0.46870640144994324,0.43160595337446633,0.38941599567774948,0.33691650372619375,0.28897189869683693,0.22770239078440138,0.16245683187544158,9.0885408542414239E-2,8.5904209864804872E-3,0,0,0]
[null,null,null,null,null,null,null,null,"Förderquote",5,"Förderquote RLT-HK70",0.7685750945602603,0.74939374974408857,0.73416065350653859,0.7101522717415224,0.68284820534401458,0.64887038374477246,0.61783977003031687,0.57818493561619089,0.53595731796703139,0.48963681788447144,0.43637822976845586,0.36082335939085802,0.28113168859659698,0.28113168859659698]
[null,null,null,null,null,null,null,null,"Förderquote",6,"Förderquote RLT-H70SFP",{"$f":"L137/L12","v":0.60072186434814157},0.57335576063437799,0.55164246659036265,{"$f":"O137/O12","v":0.51744782244680976},0.47858959560867281,0.43026648960022396,0.38615851348493402,0.32981599594222422,0.26984030099859618,0.20407104606388612,0.12846921689379337,2.238336463504376E-2,0,0]
[null,null,null,null,null,null,null,null,"Förderquote",7,"Förderquote RLT-HK70SFP",0.80208027015894545,0.80203792885919345,0.78798668626988322,0.76585661117957438,0.74070669352522289,0.70942965746699815,0.68088044936736292,0.64441252654220316,0.60559382384304472,0.5630267127015316,0.5140979632140944,0.44542278454151496,0.37353260851311193,0.37353260851311193]
[]
[]
[null,null,null,null,null,null,null,null,null,null,null,null,null,null,"Start",null,null,null,null,null,null,"bei 15 Jahren bis 9.400"]
[null,null,null,null,null,null,null,null,null,null,"Volumenstrom",{"$f":"L130","v":200},{"$f":"M130","v":300},{"$f":"N130","v":400},{"$f":"O130","v":600},900,1400,2000,3000,{"$f":"T130","v":4400},{"$f":"U130","v":6400},{"$f":"V130","v":9400},13900,{"$f":"X130","v":20400}]
[null,null,null,null,null,null,null,null,null,null,"Spezifische Förderhöhe",{"$f":"L137","v":40.248007503572552},{"$f":"M137","v":34.205205711646677},{"$f":"N137","v":30.308488420683709},{"$f":"O137","v":25.31455103875367},{"$f":"P137","v":20.847980824988607},16.516367124316645,13.384580069559604,10.179066021542416,{"$f":"T137","v":7.4633478741414425},{"$f":"U137","v":5.0702635475163795},{"$f":"V137","v":2.8593177910871841},0.44541175154601831,0]
[]
[null,null,null,null,null,null,null,null,null,null,{"$f":"K172","v":"Volumenstrom"},{"$f":"L172","v":200},{"$f":"M172","v":300},{"$f":"N172","v":400},{"$f":"O172","v":600},900,1400,2000,3000,4400,6400,9400,13900,20400]
[null,null,null,null,null,null,null,null,null,null,{"$f":"K173& \", Regressionsfunktion ln(blubb)\"","v":"Spezifische Förderhöhe, Regressionsfunktion ln(blubb)"},{"$f":"($H$179*LN(L175))+$H$180","v":32.948604204403978},29.659717769487841,27.326215707942211,24.037329273026074,20.748442838109938,17.164564185141984,14.271433897636122,10.982547462719992,7.8759471710197602,4.836661722095144,1.7185477421568578,-1.4544596934040896,-4.5663632817965265]
[]
[null,null,null,null,null,null,"Regression","Y=(a0*ln(x))+a1"]
[null,null,null,null,null,null,"a0",{"$f":"INDEX(LINEST(O173:V173,LN(O172:V172)),1)","v":-8.1113920017965455},null,"f_sub_RLT_a0"]
[null,null,null,null,null,null,"a1",{"$f":"INDEX(LINEST(O173:V173,LN(O172:V172)),1,2)","v":75.925333314401456},null,"f_sub_RLT_a1",null,null,null,{"$f":"I181","v":"€/(m³/h)"},null,{"$f":"V49","v":"kgCO2/(a*(m³/h))"}]
[null,null,null,null,null,null,"Begrenzung unten",{"$f":"O173","v":25.31455103875367},"€/(m³/h)","f_RLT_max",null,"Volumenstrom","Kosten","LN","Quote,ln","CO2Saving","€/toCO2"]
[null,null,null,null,null,null,"Begrenzung oben",{"$f":"V173","v":2.8593177910871841},"€/(m³/h)","f_RLT_min",null,500,{"$f":"MIN($F$12,MAX($E$12,$C$12*$L182^$D$12))*(1+DATA!$O$50)*(1+DATA!$O$51)*(1+DATA!$O$52)","v":51.542782172086824},{"$f":"f_sub_RLT*MAX(f_RLT_min,MIN(f_RLT_max,(f_sub_RLT_a0*LN(L182))+f_sub_RLT_a1))","v":15.188730623252201},{"$f":"N182/M182","v":0.29468200945267781},{"$f":"$U$49-U56","v":3.7126355303030305},{"$f":"N182/(P182/1000)","v":4091.091220584337}]
[null,null,null,null,null,null,"Anpassungsfaktor Förderung",0.6,null,"f_sub_RLT",null,500,{"$f":"MIN($F$12,MAX($E$12,$C$12*$L183^$D$12))*(1+DATA!$O$50)*(1+DATA!$O$51)*(1+DATA!$O$52)","v":51.542782172086824},{"$f":"f_sub_RLT*MAX(f_RLT_min,MIN(f_RLT_max,(f_sub_RLT_a0*LN(L183))+f_sub_RLT_a1))","v":15.188730623252201},{"$f":"N183/M183","v":0.29468200945267781},{"$f":"$U$49-U56","v":3.7126355303030305},{"$f":"N183/(P183/1000)","v":4091.091220584337}]
[null,null,null,null,null,null,null,null,null,null,null,{"$f":"L183+500","v":1000},{"$f":"MIN($F$12,MAX($E$12,$C$12*$L184^$D$12))*(1+DATA!$O$50)*(1+DATA!$O$51)*(1+DATA!$O$52)","v":42.267201730437066},11.936293436458733,{"$f":"N184/M184","v":0.28240084386431669},{"$f":"P183","v":3.7126355303030305},3215.0458452043304]
[null,null,null,null,null,null,null,null,null,null,null,{"$f":"L184+500","v":1500},{"$f":"MIN($F$12,MAX($E$12,$C$12*$L185^$D$12))*(1+DATA!$O$50)*(1+DATA!$O$51)*(1+DATA!$O$52)","v":37.635750156166033},9.9629615755090501,{"$f":"N185/M185","v":0.26472068536348209},{"$f":"P184","v":3.7126355303030305},2683.5280474450074]
[null,null,null,null,null,null,null,null,null,null,null,2000,{"$f":"MIN($F$12,MAX($E$12,$C$12*$L186^$D$12))*(1+DATA!$O$50)*(1+DATA!$O$51)*(1+DATA!$O$52)","v":34.660844192631799},8.5628603385816735,0.24704707972467577,3.7126355303030305,2306.4101683805093]
[null,null,null,null,null,null,null,null,null,null,null,2500,{"$f":"MIN($F$12,MAX($E$12,$C$12*$L187^$D$12))*(1+DATA!$O$50)*(1+DATA!$O$51)*(1+DATA!$O$52)","v":32.516246534397247},7.4768574481521348,0.22994220566764237,3.7126355303030305,2013.8948159939264]
[null,null,null,null,null,null,null,null,null,null,null,3000,{"$f":"MIN($F$12,MAX($E$12,$C$12*$L188^$D$12))*(1+DATA!$O$50)*(1+DATA!$O$51)*(1+DATA!$O$52)","v":30.862863374660407},6.5895284776319949,0.21350995199759237,3.7126355303030305,1774.8923706211874]
[null,null,null,null,null,null,null,null,null,null,null,3500,{"$f":"MIN($F$12,MAX($E$12,$C$12*$L189^$D$12))*(1+DATA!$O$50)*(1+DATA!$O$51)*(1+DATA!$O$52)","v":29.530711821220894},5.8393025227785929,0.19773659904067892,3.7126355303030305,1572.8186823396534]
[null,null,null,null,null,null,null,null,null,null,null,4000,{"$f":"MIN($F$12,MAX($E$12,$C$12*$L190^$D$12))*(1+DATA!$O$50)*(1+DATA!$O$51)*(1+DATA!$O$52)","v":28.423318103899355},5.1894272407046085,0.18257640510988329,3.7126355303030305,1397.7744915566868]
[null,null,null,null,null,null,null,null,null,null,null,4500,{"$f":"MIN($F$12,MAX($E$12,$C$12*$L191^$D$12))*(1+DATA!$O$50)*(1+DATA!$O$51)*(1+DATA!$O$52)","v":27.481048366543824},4.6161966166823047,0.16797745686813709,3.7126355303030305,1243.3745728618626]
[null,null,null,null,null,null,null,null,null,null,null,5000,{"$f":"MIN($F$12,MAX($E$12,$C$12*$L192^$D$12))*(1+DATA!$O$50)*(1+DATA!$O$51)*(1+DATA!$O$52)","v":26.664659800422807},4.1034243502750707,0.15388999450913696,3.7126355303030305,1105.2591391701042]
[null,null,null,null,null,null,null,null,null,null,null,5500,{"$f":"MIN($F$12,MAX($E$12,$C$12*$L193^$D$12))*(1+DATA!$O$50)*(1+DATA!$O$51)*(1+DATA!$O$52)","v":25.94705927385451},3.6395654121823182,0.14026889805773549,3.7126355303030305,980.3185318019224]
[null,null,null,null,null,null,null,null,null,null,null,6000,{"$f":"MIN($F$12,MAX($E$12,$C$12*$L194^$D$12))*(1+DATA!$O$50)*(1+DATA!$O$51)*(1+DATA!$O$52)","v":25.308817593128268},3.2160953797549352,0.1270741064026695,3.7126355303030305,{"$f":"N194/(P194/1000)","v":866.25669379736644}]
[null,null,null,null,null,null,null,null,null,null,null,6500,{"$f":"MIN($F$12,MAX($E$12,$C$12*$L195^$D$12))*(1+DATA!$O$50)*(1+DATA!$O$51)*(1+DATA!$O$52)","v":24.735565020759829},2.8265407124597801,0.11427031119311598,3.7126355303030305,{"$f":"N195/(P195/1000)","v":761.32997418927198}]
[null,null,null,null,null,null,null,null,null,null,null,7000,{"$f":"MIN($F$12,MAX($E$12,$C$12*$L196^$D$12))*(1+DATA!$O$50)*(1+DATA!$O$51)*(1+DATA!$O$52)","v":24.216398517713355},2.4658694249015327,0.10182643067662786,3.7126355303030305,664.18300551583229]
[null,null,null,null,null,null,null,null,null,null,null,7500,{"$f":"MIN($F$12,MAX($E$12,$C$12*$L197^$D$12))*(1+DATA!$O$50)*(1+DATA!$O$51)*(1+DATA!$O$52)","v":23.742865227938989},2.1300924893253979,8.9715056244300706E-2,3.7126355303030305,573.74134141078389]
[null,null,null,null,null,null,null,null,null,null,null,8000,{"$f":"MIN($F$12,MAX($E$12,$C$12*$L198^$D$12))*(1+DATA!$O$50)*(1+DATA!$O$51)*(1+DATA!$O$52)","v":23.308290113926109},1.8159941428275488,{"$f":"N198/M198","v":7.7911941800593021E-2},3.7126355303030305,489.13881473286574]
[null,null,null,null,null,null,null,null,null,null,null,8500,{"$f":"MIN($F$12,MAX($E$12,$C$12*$L199^$D$12))*(1+DATA!$O$50)*(1+DATA!$O$51)*(1+DATA!$O$52)","v":22.907317498489128},1.7155906746523104,7.4892692030197938E-2,3.7126355303030305,462.09509677139829]
[null,null,null,null,null,null,null,null,null,null,null,9000,{"$f":"MIN($F$12,MAX($E$12,$C$12*$L200^$D$12))*(1+DATA!$O$50)*(1+DATA!$O$51)*(1+DATA!$O$52)","v":22.535590166524727},1.7155906746523104,7.6128056198000879E-2,3.7126355303030305,462.09509677139829]
[null,null,null,null,null,null,null,null,null,null,null,9500,{"$f":"MIN($F$12,MAX($E$12,$C$12*$L201^$D$12))*(1+DATA!$O$50)*(1+DATA!$O$51)*(1+DATA!$O$52)","v":22.189519572459897},1.7155906746523104,7.7315359129342454E-2,3.7126355303030305,462.09509677139829]
[null,null,null,null,null,null,null,null,null,null,null,10000,{"$f":"MIN($F$12,MAX($E$12,$C$12*$L202^$D$12))*(1+DATA!$O$50)*(1+DATA!$O$51)*(1+DATA!$O$52)","v":21.86611795799217},{"$f":"f_sub_RLT*MAX(f_RLT_min,MIN(f_RLT_max,(f_sub_RLT_a0*LN(L202))+f_sub_RLT_a1))","v":1.7155906746523104},7.8458859407426446E-2,3.7126355303030305,462.09509677139829]
[]
[null,null,null,null,null,null,null,null,null,null,null,"Förderung","=",{"$f":"H179","v":-8.1113920017965455},"*","ln(VRLT)","+",{"$f":"H180","v":75.925333314401456}]
[]
[]
[null,null,null,null,null,null,null,null,null,null,null,"Reduktionsfaktor"]

{"sheet":"Nutzungen","index":5,"n_rows":114,"n_cols":73,"rows_kept":114,"cut":false,"hidden":true,"merged":[[1,1,1,3]]}
[null,null,null,null,1,{"$f":"E1+1","v":2},3,4,5,6,7,8,9,10,11,12,13,14,15,16,17,18,19,20,21,22,23,24,25,26,27,28,29,30,31,32,33,34,35,36,37,38,39,40]
[1,"Nutzungsprofile\nDIN V 18599 Teil 10, Ausgabe 2007",null,null,"01 Einzelbüro","02 Gruppenbüro","03 Großraumbüro","04 Sitzung","05 Schalterhalle","06 Einzelhandel","07 Handel+Kühl","08 Klassenzimmer","09 Hörsaal","10 Bettenzimmer","11 Hotelzimmer","12 Kantine","13 Restaurant","14 Küche","15 Küche Lager, Vorbereit.","16 WC, Sanitär","17 sonstige Aufenthalsräume","18 Nebenflächen","19 Verkehrsfläche","20 Lager, Technik","21 Serverraum","22 Werkstatt","23 Zuschauer","24 Theaterfoyer","25 Theaterbühne","26 Messe, Kongress","27 Ausstellung","28 Bibliothek Lesesaal","29 Bibliothek, Freihand","30 Bibliothek Magazin","31 Sporthalle","32 Parkhaus","33 Parkhaus öffentlich","34 Wohnen EFH","35 Wohnen MFH","Nutzung A","Nutzung B","Nutzung C","Nutzung D","Nutzung E"]
[{"$f":"A2+1","v":2},"Nutzungs- und Betriebszeiten","Einheit","Symbol",{"$f":"E1","v":1},{"$f":"F1","v":2},3,4,5,6,7,8,9,10,11,12,13,14,15,16,17,18,19,20,21,22,23,24,25,26,27,28,29,30,31,32,33,34,35,36,37,38,39,{"$f":"AR1","v":40}]
[{"$f":"A3+1","v":3},"Nutzung Begin","[Uhr]","-",7,7,7,7,7,8,8,8,8,0,21,8,10,10,10,7,7,7,7,7,0,7,19,19,13,13,10,8,8,8,8,7,9,0,{"$f":"AL4","v":0}]
[{"$f":"A4+1","v":4},"Nutzung Ende","[Uhr]","-",18,18,18,18,18,20,20,{"$f":"15+2","v":17},18,24,8,15,0,23,23,18,18,18,18,18,24,16,23,23,23,18,18,20,20,20,23,18,0,24,{"$f":"AL5","v":24}]
[5,"tägliche Nutzungsstunden","[h/d]","tnutz,d",{"$f":"IF(E5>E4,E5-E4,24-E4+E5)","v":11},{"$f":"IF(F5>F4,F5-F4,24-F4+F5)","v":11},11,11,11,12,12,9,10,24,11,7,14,13,13,11,11,11,11,11,24,9,4,4,10,5,8,12,12,12,15,11,15,24,24,24,24,24,24,24]
[6,"jährliche Nutzungstage","[d/a]","dnutz,a",250,250,250,250,250,300,300,{"$f":"200*0+250","v":250},150,365,365,250,300,300,300,250,250,250,250,250,365,250,250,250,250,150,250,300,300,300,300,250,365,365,365]
[7,"jährliche Nutzungsstunden zur Tagzeit","[h/a]","tTag",2543,2543,2543,2543,2543,2999,2999,{"$f":"1398*0+Z8","v":2192},1409,4407,755,1748,2404,2404,2404,2543,2543,2543,2543,2543,4407,2192,55,55,1253,1260,1850,2999,2999,2999,3002,2543,3290,4407,4407]
[8,"jährliche Nutzungsstunden zur Nachtzeit","[h/a]","tNacht",207,207,207,207,207,601,601,{"$f":"2*0+Z9","v":58},91,4353,3260,2,1796,1496,1496,207,207,207,207,207,4353,58,946,946,1247,90,151,601,601,601,1498,207,2185,4353,4353]
[9,"tägliche Betriebsstunden RLT und Kühlung","[h/d]","tv,op,d",{"$f":"18-5","v":13},13,13,13,13,14,14,{"$f":"9+2","v":11},12,24,24,9,16,15,15,13,13,13,13,13,24,11,6,6,12,11,24,14,14,14,17,13,17,24,24]
[10,"jährliche Betriebstage RLT, Kühlung und Heizung","[d/a]","tRLT-Betrieb=dop",250,250,250,250,250,300,300,{"$f":"0*200+L7","v":250},150,365,365,250,300,300,300,250,250,250,250,250,365,250,250,250,250,150,365,300,300,300,300,250,365,365,365]
[11,"tägliche Betriebsstunden Heizung","[h/d]","th,op,d",13,13,13,13,13,14,14,{"$f":"9+2","v":11},12,24,24,9,16,15,15,13,13,13,13,13,24,11,6,6,12,11,24,14,14,14,17,0,0,17,17]
[12,"Beleuchtung"]
[13,"Wartungswert der Beleuchtungsstärke","[lx]","Em",500,500,500,500,200,300,300,{"$f":"300*0+350","v":350},500,300,200,200,200,500,300,200,300,100,100,100,500,500,200,300,1000,300,200,500,200,100,500,75,75,150,150]
[14,"Höhe der Nutzebene","[m]","hNe",0.8,0.8,0.8,0.8,0.8,0.8,0.8,0.8,0.8,0.8,0.8,0.8,0.8,0.8,0.8,0.8,0.8,0.8,0,0.8,0.8,0.8,0.8,0.8,0.8,0.8,0.8,0.8,0.8,0.8,1,0,0,0,0]
[15,"Minderungsfaktor Bereich Sehaufgabe","[-]","kA",0.84,0.84,0.93,0.93,0.87,0.93,0.93,0.97,0.92,1,1,0.97,1,0.96,1,1,0.93,1,1,1,0.96,0.88,0.97,1,0.9,0.93,0.88,0.88,1,1,1,1,1,1,1]
[16,"relative Abwesenheit","[-]","CA",0.3,0.3,0,0.5,0,0,0,0.25,0.25,0,0.25,0,0,0,0.5,0.9,0.5,0.9,0.8,0.98,0.5,0,0,0.5,0,0.5,0,0,0,0.9,0.3,0.95,0.8,0.57999999999999996,0.57999999999999996]
[17,"Raumindex ","[-]","k",0.9,1.25,2.5,1.25,1.5,2.5,2.5,2,2.5,1.5,1.25,2.5,2.5,1.5,1.5,0.8,1.25,1.5,0.8,1.5,1.5,2,4,4,2.5,5,2,1.5,1.5,1.5,2,2,4,1.25,1.25]
[18,"Teilbetriebsfaktor der Gebäudebetriebszeit für Beleuchtung","[-]","Ft",0.7,0.7,1,1,1,1,1,0.9,0.7,0.5,0.3,1,1,1,1,1,1,1,1,1,0.5,1,1,1,0.6,1,1,1,1,1,1,1,1,0.3,0.3]
[19,"Wartungsfaktor Beleuchtung nach 18599 (pauschal)","[-]","WF",0.67,0.67,0.67,0.67,0.67,0.67,0.67,0.67,0.67,0.67,0.67,0.67,0.67,0.67,0.67,0.67,0.67,0.67,0.67,0.67,0.67,0.67,0.67,0.67,0.67,0.67,0.67,0.67,0.67,0.67,0.67,0.67,0.67,0.67,0.67]
[20,"Wartungsfaktor für Beleuchtung nach EnEV 2009","[-]","WF",0.8,0.8,0.8,0.8,0.8,0.8,0.8,0.8,0.8,0.8,0.8,0.8,0.8,0.6,0.6,0.8,0.8,0.8,0.8,0.8,0.8,0.6,0.8,0.8,0.8,0.8,0.8,0.8,0.8,0.8,0.8,0.8,0.8,0.8,0.8]
[21,"Anpassung Strombedarf Tabellenverfahren nach EnEV 2009","[-]","WF-Fak",0.84,0.84,0.84,0.84,0.84,0.84,0.84,0.84,0.84,0.84,0.84,0.84,0.84,1.1200000000000001,1.1200000000000001,0.84,0.84,0.84,0.84,0.84,0.84,1.1200000000000001,0.84,0.84,0.84,0.84,0.84,0.84,0.84,0.84,0.84,0.84,0.84,0.84,0.84]
[22,"Konstantlichtregelung nach EnEV 2009","[-]","Kon-Fak",0.9,0.9,0.9,0.9,0.9,0.9,0.9,0.9,0.9,0.9,0.9,0.9,0.9,0.8,0.8,0.9,0.9,0.9,0.9,0.9,0.9,0.8,0.9,0.9,0.9,0.9,0.9,0.9,0.9,0.9,0.9,0.9,0.9,0.9,0.9]
[23,"Raumklima"]
[24,"Feuchteanforderung","[Typ]","-","m. T.","m. T.","m. T.","m. T.","m. T.","m. T.","m. T.","m. T.","m. T.","m. T.","m. T.","m. T.","m. T.","m. T.","m. T.","-","m. T.","-","-","-","-","-","m. T.","m. T.","m. T.","m. T.","o. T.","m. T.","m. T.","m. T.","-","-","-","-","-"]
[25,"Mindestaußenluftvolumenstrom","[m³/(h m²)]","V'A",4,4,6,15,2,4,4,10,30,4,3,18,18,90,15,15,7,0.15,0,0.15,1.3,20,40,25,0.3,7,2,8,2,3,3,8,16,1,1]
[26,"Mindestaußenluftvolumenstrom - reduz. Betrieb","[m³/(h m²)]","V'A",0,0,0,0,0,0,0,0,0,0,0,0,0,0,0,0,0,0,0,0,0,0,0,0,0,0,0,0,0,0,0,0,0,0,0]
[27,"Wärmequellen (negative Werte => Senken)"]
[28,"Personen - mittel","[Wh/(m²d)]","qI,p",{"$f":"5*6","v":30},30,42,96,36,84,84,100,420,108,70,177,236,56,56,0,92,0,0,0,15,28,186,88,0,138,28,168,42,0,60,0,0,42.7,85.4]
[29,"Arbeitshilfen - mittel","[Wh/(m²d)]","qI,fac",{"$f":"7*6","v":42},42,60,8,24,24,{"$f":"85","v":85},20,24,24,44,10,14,1800,180,0,8,0,0,0,1800,245,0,0,0,12,0,0,0,0,0,0,0,{"$f":"50-AL29","v":7.2999999999999972},{"$f":"100-AM29","v":14.599999999999994}]
[30,"Personen - hoch","[Wh/(m²d)]","qI,p",{"$f":"7*6","v":42},{"$f":"7*6","v":42},{"$f":"9*6","v":54},{"$f":"35*4","v":140},{"$f":"9*6","v":54},{"$f":"6*18","v":108},{"$f":"6*18","v":108},{"$f":"5*24","v":120},{"$f":"88*6","v":528},{"$f":"24*6","v":144},{"$f":"9*10","v":90},{"$f":"88*3","v":264},{"$f":"88*4","v":352},{"$f":"7*8","v":56},{"$f":"7*16","v":112},0,{"$f":"35*4","v":140},0,0,0,{"$f":"4*6","v":24},{"$f":"6*7","v":42},{"$f":"2*140","v":280},{"$f":"1*140","v":140},0,{"$f":"6*35","v":210},{"$f":"4*14","v":56},{"$f":"6*47","v":282},{"$f":"6*14","v":84},0,{"$f":"10*13","v":130},0,0,{"$f":"AL29","v":42.7},{"$f":"AM29","v":85.4}]
[31,"Arbeitshilfen - hoch","[Wh/(m²d)]","qI,fac",{"$f":"15*6","v":90},{"$f":"15*6","v":90},{"$f":"19*6","v":114},{"$f":"3*4","v":12},{"$f":"9.5*6","v":57},{"$f":"12*3","v":36},{"$f":"17*-8","v":-136},{"$f":"5*6","v":30},{"$f":"6*6","v":36},{"$f":"6*6","v":36},{"$f":"11*6","v":66},{"$f":"5*3","v":15},{"$f":"7*3","v":21},{"$f":"6*400","v":2400},{"$f":"6*40","v":240},0,{"$f":"4*3","v":12},0,0,0,{"$f":"12*500","v":6000},{"$f":"7*45","v":315},0,0,0,{"$f":"6*3","v":18},0,0,0,0,0,0,0,{"$f":"AL30","v":7.2999999999999972},{"$f":"AM30","v":14.599999999999994}]
[32,"Personen - Absenkbetrieb","[Wh/(m²d)]","qI,p",0,0,0,0,0,0,0,0,0,0,0,0,0,0,0,0,0,0,0,0,0,0,0,0,0,0,0,0,0,0,0,0,0,0,0]
[33,"Arbeitshilfen - Absenkbetrieb","[Wh/(m²d)]","qI,fac",0,0,0,0,0,0,0,0,0,0,0,0,0,0,0,0,0,0,0,0,0,0,0,0,0,0,0,0,0,0,0,0,0,0,0]
[34,"Raumlufttemperatur"]
[35,"Raum-Solltemperatur Heizung","[°C]","Ji,h,soll",21,21,21,21,21,21,21,21,21,21,21,21,21,21,21,21,21,21,21,21,21,21,21,21,21,21,21,21,21,21,21,{"$f":"0*21","v":0},{"$f":"0*21","v":0},20,20]
[36,"Temperaturabsenkung reduzierter Betrieb","[K]","Dqi,NA",4,4,4,4,4,4,4,4,4,4,4,4,4,4,4,4,4,4,4,4,4,4,4,4,4,4,4,4,4,4,4,4,4,4,4]
[37,"Raum-Solltemperatur Kühlung","[°C]","Ji,c,soll",24,24,24,24,24,24,24,24,24,24,24,24,24,24,24,24,24,24,24,24,24,24,24,24,24,24,24,24,24,24,24,24,24,26,26]
[38,"Minimaltemperatur Auslegung Heizung","[°C]","Ji,h,min",20,20,20,20,20,20,20,20,20,20,20,20,20,20,20,20,20,20,20,20,20,20,20,20,20,20,20,20,20,20,20,20,20,20,20]
[39,"Maximaltemperatur Auslegung Kühlung","[°C]","Ji,c,max",26,26,26,26,26,26,26,26,26,26,26,26,26,26,26,26,26,26,26,26,26,26,26,26,26,26,26,26,26,26,26,26,26,28,28]
[40,"weitere Randbedingungen"]
[41,"Tagesmittel Außentemperatur Auslegungstag Heizung","[°C]","Je,min",-12,-12,-12,-12,-12,-12,-12,-12,-12,-12,-12,-12,-12,-12,-12,-12,-12,-12,-12,-12,-12,-12,-12,-12,-12,-12,-12,-12,-12,-12,-12,-12,-12,-12,-12]
[42,"Tagesmittel Außentemperatur Auslegungstag Juli Kühlung","[°C]","Je,max,Jul",24.6,24.6,24.6,24.6,24.6,24.6,24.6,24.6,24.6,24.6,24.6,24.6,24.6,24.6,24.6,24.6,24.6,24.6,24.6,24.6,24.6,24.6,24.6,24.6,24.6,24.6,24.6,24.6,24.6,24.6,24.6,24.6,24.6,24.6,24.6]
[43,"Tagesmittel Außentemperatur Auslegungstag September Kühlung","[°C]","Je,max,Sep",18.899999999999999,18.899999999999999,18.899999999999999,18.899999999999999,18.899999999999999,18.899999999999999,18.899999999999999,18.899999999999999,18.899999999999999,18.899999999999999,18.899999999999999,18.899999999999999,18.899999999999999,18.899999999999999,18.899999999999999,18.899999999999999,18.899999999999999,18.899999999999999,18.899999999999999,18.899999999999999,18.899999999999999,18.899999999999999,18.899999999999999,18.899999999999999,18.899999999999999,18.899999999999999,18.899999999999999,18.899999999999999,18.899999999999999,18.899999999999999,18.899999999999999,18.899999999999999,18.899999999999999,18.899999999999999,18.899999999999999]
[44,"Abminderungsfaktor infolge von Verschmutzung","[-]","FV",0.9,0.9,0.9,0.9,0.9,0.9,0.9,0.9,0.9,0.9,0.9,0.9,0.9,0.9,0.9,0.9,0.9,0.9,0.9,0.9,0.9,0.9,0.9,0.9,0.9,0.9,0.9,0.9,0.9,0.9,0.9,0.9,0.9,1,1]
[45,"Verschmutzungsfaktor","[-]","k2",0.9,0.9,0.9,0.9,0.9,0.9,0.9,0.9,0.9,0.9,0.9,0.9,0.9,0.9,0.9,0.9,0.9,0.9,0.9,0.9,0.9,0.9,0.9,0.9,0.9,0.9,0.9,0.9,0.9,0.9,0.9,0.9,0.9,1,1]
[46,"Zuordnung Kennwert-Tabelle Kälteerzeugung"]
[47,"Nummer der Kennwerte-Tabelle gem. DIN 18599 - Teil 7","[Typ]","-","A2","A2","A2","A2","A2","A3","A3","A4","A5","A6","A7","A8","A9","A9","A9","A2","A2","A2","-","A2","A10","A11","A12","A12","A13","A5","A14","A3","A3","A3","A15","-","-","A2","A2"]
[48,"Trinkwarmwasser Nichtwohngebäude (siehe Tabelle 6) "]
[49,"Anzahl der Spitzenzapfungen am Tag","[-]","nSp",1,1,1,1,null,1,1,1,1,1,2,1,1,1,1,1,null,null,null,null,1,null,1,null,null,null,null,null,null,null,null,1,1,1,1]
[50,"spezifische Raumgeometrien (aus Teilkennwertemethode)"]
[51,"typische Raumhöhe","[m]","hR",3,3,3,3,4,4,4,3,4,2.5,2.5,3,3,3,3,3,3,3,3,3,3,4,6,3,6,6,4,3,3,3,7,2.5,2.5,2.5,2.5]
[52,"typische Raumbreite","[m]","bR",3,6,12,6,10,20,20,10,20,4,4,20,12,6,6,3,6,3,2,6,6,20,20,12,10,40,20,20,6,6,40,{"$f":"0*50+10","v":10},{"$f":"0*100+20","v":20},4,4]
[53,"typische Raumtiefe","[m]","aR",6,6,12,6,10,20,20,10,10,4,4,20,12,6,6,6,6,6,12,6,6,20,10,12,5,20,20,20,6,6,20,{"$f":"0*50+10","v":10},{"$f":"0*50+20","v":20},5,5]
[54,"Bodenfläche","[m²]","An,R",{"$f":"E53*E54","v":18},{"$f":"F53*F54","v":36},144,36,100,400,400,100,200,16,16,400,144,36,36,18,36,18,24,36,36,400,200,144,50,800,400,400,36,36,800,100,400,{"$f":"AL53*AL54","v":20},{"$f":"AM53*AM54","v":20},0,0,0,0,0]
[55,"Volumen","[m³]","Vn,R",{"$f":"E55*E52","v":54},{"$f":"F55*F52","v":108},432,108,400,1600,1600,300,800,40,40,1200,432,108,108,54,108,54,72,108,108,1600,1200,432,300,4800,1600,1200,108,108,5600,250,1000,50,50,0,0,0,0,0]
[56,"Anordnungstyp im Gebäude","-","FType","A","A","A","A","B","B","D","A","C","B","B","A","B","D","C","C","B","C","C","D","D","C","C","C","D","B","B","A","B","C","A","D","D","B","B"]
[57,"Daten für Schnittsltelle - Energiebenchmark IWU"]
[58,"Wandfläche je Zonenfläche","[m²/m²]","Awa",0.34313725490196068,0.34313725490196068,0.34313725490196068,0.34313725490196068,0.34313725490196068,0.34313725490196068,0.34313725490196068,0.34313725490196068,0.34313725490196068,0.34313725490196068,0.34313725490196068,0.34313725490196068,0.34313725490196068,0.34313725490196068,0.34313725490196068,0.34313725490196068,0.34313725490196068,0.34313725490196068,0.34313725490196068,0.34313725490196068,0.34313725490196068,0.34313725490196068,0.34313725490196068,0.34313725490196068,0.34313725490196068,0.34313725490196068,0.34313725490196068,0.34313725490196068,0.34313725490196068,0.34313725490196068,0.34313725490196068,null,null,0.34,0.34]
[59,"Fensterfläche je Zonenfläche",{"$f":"C59","v":"[m²/m²]"},"Afe",0.24509803921568626,0.24509803921568626,0.24509803921568626,0.24509803921568626,0.24509803921568626,0.24509803921568626,0.24509803921568626,0.24509803921568626,0.24509803921568626,0.24509803921568626,0.24509803921568626,0.24509803921568626,0.24509803921568626,0.24509803921568626,0.24509803921568626,0.24509803921568626,0.24509803921568626,0.24509803921568626,0.24509803921568626,0.24509803921568626,0.24509803921568626,0.24509803921568626,0.24509803921568626,0.24509803921568626,0.24509803921568626,0.24509803921568626,0.24509803921568626,0.24509803921568626,0.24509803921568626,0.24509803921568626,0.24509803921568626,null,null,0.25,0.25]
[60,"Dachfläche je Zonenfläche",{"$f":"C60","v":"[m²/m²]"},"Ada",0.22166666666666671,0.22166666666666671,0.22166666666666671,0.22166666666666671,0.22166666666666671,0.22166666666666671,0.22166666666666671,0.22166666666666671,0.22166666666666671,0.22166666666666671,0.22166666666666671,0.22166666666666671,0.22166666666666671,0.22166666666666671,0.22166666666666671,0.22166666666666671,0.22166666666666671,0.22166666666666671,0.22166666666666671,0.22166666666666671,0.22166666666666671,0.22166666666666671,0.22166666666666671,0.22166666666666671,0.22166666666666671,0.22166666666666671,0.22166666666666671,0.22166666666666671,0.22166666666666671,0.22166666666666671,0.22166666666666671,null,null,0.22,0.22]
[61,"Bodenfläche je Zonenfläche","[m²/m²]","Afb",0.22166666666666671,0.22166666666666671,0.22166666666666671,0.22166666666666671,0.22166666666666671,0.22166666666666671,0.22166666666666671,0.22166666666666671,0.22166666666666671,0.22166666666666671,0.22166666666666671,0.22166666666666671,0.22166666666666671,0.22166666666666671,0.22166666666666671,0.22166666666666671,0.22166666666666671,0.22166666666666671,0.22166666666666671,0.22166666666666671,0.22166666666666671,0.22166666666666671,0.22166666666666671,0.22166666666666671,0.22166666666666671,0.22166666666666671,0.22166666666666671,0.22166666666666671,0.22166666666666671,0.22166666666666671,0.22166666666666671,null,null,0.22,0.22]
[62,"Bilanztemperatur Heizen","[°C]","Ji,h,soll",21,22,22,21,20,21,18,22,22,23,22,21,22,18,18,18,21,18,21,18,18,18,22,21,21,21,21,22,21,18,18,21,21,20,20]
[63]
[64,"Bedarfsgesteuerte Lüftung"]
[65,"Mindestaußenluftvolumenstrome für Gebäude (Klasse II Schadstoffarm nach DIN EN 15251)","[m³/(h m²)]","VA,Geb",2.5,2.5,2.5,2.5,1.25,2.5,2.5,2.5,2.5,2.5,2,2.5,2.5,null,null,5,2.5,null,null,null,null,null,5,5,null,2.5,2,2.5,2,2,1.25,null,null,0.77,0.77]
[66,"Relative Abwsenheit RLT","[-]","CRTL",0.3,0.3,0.2,0.5,0.5,0.5,0.5,0.25,0.5,0,0.5,0.7,0.6,null,null,0.7,0.5,null,null,null,null,null,0.5,0.5,null,0.7,0.5,0.5,null,0.5,0.5,null,null,0,0]
[67,"Teilbetriebsfaktor der Gebäudebetriebszeit RLT","[-]","FRTL",0.7,0.7,1,0.5,1,1,1,0.9,0.6,0.8,0.5,1,0.7,null,null,1,0.8,null,null,null,null,null,0.5,1,1,1,1,1,1,1,0.9,null,null,0.8,0.8]
[{"$f":"A68+1","v":68},"Manuelle und zeitabhängige Steuerung","[m³/(h m²)]","Vd,c",{"$f":"IF(E$66>0,(E$66+(E$26-E$66)*1)*(1-0)+E$66*0,E$26)","v":4},{"$f":"IF(F$66>0,(F$66+(F$26-F$66)*1)*(1-0)+F$66*0,F$26)","v":4},6,15,2,4,4,10,30,4,3,18,18,90,15,15,7,0.15,0,0.15,1.3,20,40,25,0.3,7,2,8,2,3,3,8,16,{"$f":"IF(AL$66>0,(AL$66+(AL$26-AL$66)*1)*(1-0)+AL$66*0,AL$26)","v":1},1,0,0,0,0,0]
[69,"Präsenzmelder (integriert in der Lüftungsautomation)","[m³/(h m²)]","Vd,c",{"$f":"IF(E$66>0,(E$66+(E$26-E$66)*E$68)*(1-0)+E$66*0,E$26)","v":3.55},{"$f":"IF(F$66>0,(F$66+(F$26-F$66)*F$68)*(1-0)+F$66*0,F$26)","v":3.55},6,8.75,2,4,4,9.25,19,3.7,2.5,18,13.35,90,15,15,6.1,0.15,0,0.15,1.3,20,22.5,25,0.3,7,2,8,2,3,2.8250000000000002,8,16,{"$f":"IF(AL$66>0,(AL$66+(AL$26-AL$66)*AL$68)*(1-0)+AL$66*0,AL$26)","v":0.95399999999999996},0.95399999999999996,0,0,0,0,0]
[70,"Personenzähler (integriert in der Lüftungsautomation)","[m³/(h m²)]","Vd,c",{"$f":"IF(E$66>0,(E$66+(E$26-E$66)*E$68)*(1-E$67)+E$66*E$67,E$26)","v":3.2349999999999999},3.2349999999999999,5.3000000000000007,5.625,1.625,3.25,3.25,7.5625,10.75,3.7,2.25,7.15,6.84,90,15,8,4.3,0.15,0,0.15,1.3,20,13.75,15,0.3,3.8500000000000005,2,5.25,2,2.5,2.0375000000000001,8,16,{"$f":"IF(AL$66>0,(AL$66+(AL$26-AL$66)*AL$68)*(1-AL$67)+AL$66*AL$67,AL$26)","v":0.95399999999999996},0.95399999999999996,0,0,0,0,0]
[71,"Gassensoren (CO2, VOC, Mischgas)","[m³/(h m²)]","Vd,c",{"$f":"IF(E$66>0,(E$66+(E$26-E$66)*E$68)*(1-E$67)+E$66*E$67,E$26)","v":3.2349999999999999},3.2349999999999999,5.3000000000000007,5.625,1.625,3.25,3.25,7.5625,10.75,3.7,2.25,7.15,6.84,90,15,8,4.3,0.15,0,0.15,1.3,20,13.75,15,0.3,3.8500000000000005,2,5.25,2,2.5,2.0375000000000001,8,16,{"$f":"IF(AL$66>0,(AL$66+(AL$26-AL$66)*AL$68)*(1-AL$67)+AL$66*AL$67,AL$26)","v":0.95399999999999996},0.95399999999999996,0,0,0,0,0]
[]
[]
[null,1,{"$f":"B75+1","v":2},{"$f":"C75+1","v":3},4,5,6,7,8,9,10,11,12,13,14,15,16,17,18,19,20,21,22,23,24,25,26,27,28,29,30,31,32,33,34,35,36,37,38,39,40,41,42,43,44,45,46,47,48,49,50,51,52,53,54,55,56,57,58,59,60,61,62,63,64,65,66,{"$f":"BO75+1","v":67},68,69,70,71,{"$f":"BT75+1","v":72}]
[null,null,null,null,{"$f":"INDEX($B$1:$D$72,E75,1)","v":"Nutzung Begin"},{"$f":"INDEX($B$1:$D$72,F75,1)","v":"Nutzung Ende"},"tägliche Nutzungsstunden","jährliche Nutzungstage","jährliche Nutzungsstunden zur Tagzeit","jährliche Nutzungsstunden zur Nachtzeit","tägliche Betriebsstunden RLT und Kühlung","jährliche Betriebstage RLT, Kühlung und Heizung","tägliche Betriebsstunden Heizung",{"$f":"INDEX($B$1:$D$72,N75,1)","v":"Beleuchtung"},"Wartungswert der Beleuchtungsstärke","Höhe der Nutzebene","Minderungsfaktor Bereich Sehaufgabe","relative Abwesenheit","Raumindex ","Teilbetriebsfaktor der Gebäudebetriebszeit für Beleuchtung","Wartungsfaktor Beleuchtung nach 18599 (pauschal)","Wartungsfaktor für Beleuchtung nach EnEV 2009","Anpassung Strombedarf Tabellenverfahren nach EnEV 2009","Konstantlichtregelung nach EnEV 2009","Raumklima","Feuchteanforderung","Mindestaußenluftvolumenstrom","Mindestaußenluftvolumenstrom - reduz. Betrieb","Wärmequellen (negative Werte => Senken)","Personen - mittel","Arbeitshilfen - mittel","Personen - hoch","Arbeitshilfen - hoch","Personen - Absenkbetrieb","Arbeitshilfen - Absenkbetrieb","Raumlufttemperatur","Raum-Solltemperatur Heizung","Temperaturabsenkung reduzierter Betrieb","Raum-Solltemperatur Kühlung","Minimaltemperatur Auslegung Heizung","Maximaltemperatur Auslegung Kühlung","weitere Randbedingungen","Tagesmittel Außentemperatur Auslegungstag Heizung","Tagesmittel Außentemperatur Auslegungstag Juli Kühlung","Tagesmittel Außentemperatur Auslegungstag September Kühlung","Abminderungsfaktor infolge von Verschmutzung","Verschmutzungsfaktor","Zuordnung Kennwert-Tabelle Kälteerzeugung","Nummer der Kennwerte-Tabelle gem. DIN 18599 - Teil 7","Trinkwarmwasser Nichtwohngebäude (siehe Tabelle 6) ","Anzahl der Spitzenzapfungen am Tag","spezifische Raumgeometrien (aus Teilkennwertemethode)","typische Raumhöhe","typische Raumbreite","typische Raumtiefe","Bodenfläche","Volumen","Anordnungstyp im Gebäude","Daten für Schnittsltelle - Energiebenchmark IWU","Wandfläche je Zonenfläche","Fensterfläche je Zonenfläche","Dachfläche je Zonenfläche","Bodenfläche je Zonenfläche","Bilanztemperatur Heizen",0,"check if subsidies are applicable","Mindestaußenluftvolumenstrome für Gebäude (Klasse II Schadstoffarm nach DIN EN 15251)","Relative Abwsenheit RLT","Teilbetriebsfaktor der Gebäudebetriebszeit RLT",{"$f":"INDEX($B$1:$D$72,BR75,1)","v":"Manuelle und zeitabhängige Steuerung"},"Präsenzmelder (integriert in der Lüftungsautomation)","Personenzähler (integriert in der Lüftungsautomation)","Gassensoren (CO2, VOC, Mischgas)"]
[null,null,null,null,{"$f":"INDEX($B$1:$D$72,E75,2)","v":"[Uhr]"},{"$f":"INDEX($B$1:$D$72,F75,2)","v":"[Uhr]"},"[h/d]","[d/a]","[h/a]","[h/a]","[h/d]","[d/a]","[h/d]",0,"[lx]","[m]","[-]","[-]","[-]","[-]","[-]","[-]","[-]","[-]",0,"[Typ]","[m³/(h m²)]","[m³/(h m²)]",0,"[Wh/(m²d)]","[Wh/(m²d)]","[Wh/(m²d)]","[Wh/(m²d)]","[Wh/(m²d)]","[Wh/(m²d)]",0,"[°C]","[K]","[°C]","[°C]","[°C]",0,"[°C]","[°C]","[°C]","[-]","[-]",0,"[Typ]",0,"[-]",0,"[m]","[m]","[m]","[m²]","[m³]","-",0,"[m²/m²]","[m²/m²]","[m²/m²]","[m²/m²]","[°C]",0,0,"[m³/(h m²)]","[-]","[-]",{"$f":"INDEX($B$1:$D$72,BR75,2)","v":"[m³/(h m²)]"},"[m³/(h m²)]","[m³/(h m²)]","[m³/(h m²)]"]
["Nr","Dénomination","Profil DIN 18599",null,{"$f":"INDEX($B$1:$D$72,E75,3)","v":"-"},{"$f":"INDEX($B$1:$D$72,F75,3)","v":"-"},"tnutz,d","dnutz,a","tTag","tNacht","tv,op,d","tRLT-Betrieb=dop","th,op,d",0,"Em","hNe","kA","CA","k","Ft","WF","WF","WF-Fak","Kon-Fak",0,"-","V'A","V'A",0,"qI,p","qI,fac","qI,p","qI,fac","qI,p","qI,fac",0,"Ji,h,soll","Dqi,NA","Ji,c,soll","Ji,h,min","Ji,c,max",0,"Je,min","Je,max,Jul","Je,max,Sep","FV","k2",0,"-",0,"nSp",0,"hR","bR","aR","An,R","Vn,R","FType",0,"Awa","Afe","Ada","Afb","Ji,h,soll",0,0,"VA,Geb","CRTL","FRTL",{"$f":"INDEX($B$1:$D$72,BR75,3)","v":"Vd,c"},"Vd,c","Vd,c","Vd,c"]
[1,"Einzel- und Gruppenbüro","01 Einzelbüro",null,{"$f":"HLOOKUP(Nutzungen!$C79,Nutzungen!$E$2:$AM$72,E$75-1)","v":7},{"$f":"HLOOKUP(Nutzungen!$C79,Nutzungen!$E$2:$AM$72,F$75-1)","v":18},{"$f":"HLOOKUP(Nutzungen!$C79,Nutzungen!$E$2:$AM$72,G$75-1)","v":11},{"$f":"HLOOKUP(Nutzungen!$C79,Nutzungen!$E$2:$AM$72,H$75-1)","v":250},{"$f":"HLOOKUP(Nutzungen!$C79,Nutzungen!$E$2:$AM$72,I$75-1)","v":2543},{"$f":"HLOOKUP(Nutzungen!$C79,Nutzungen!$E$2:$AM$72,J$75-1)","v":207},{"$f":"HLOOKUP(Nutzungen!$C79,Nutzungen!$E$2:$AM$72,K$75-1)","v":13},{"$f":"HLOOKUP(Nutzungen!$C79,Nutzungen!$E$2:$AM$72,L$75-1)","v":250},{"$f":"HLOOKUP(Nutzungen!$C79,Nutzungen!$E$2:$AM$72,M$75-1)","v":13},{"$f":"HLOOKUP(Nutzungen!$C79,Nutzungen!$E$2:$AM$72,N$75-1)","v":0},{"$f":"HLOOKUP(Nutzungen!$C79,Nutzungen!$E$2:$AM$72,O$75-1)","v":500},{"$f":"HLOOKUP(Nutzungen!$C79,Nutzungen!$E$2:$AM$72,P$75-1)","v":0.8},{"$f":"HLOOKUP(Nutzungen!$C79,Nutzungen!$E$2:$AM$72,Q$75-1)","v":0.84},{"$f":"HLOOKUP(Nutzungen!$C79,Nutzungen!$E$2:$AM$72,R$75-1)","v":0.3},{"$f":"HLOOKUP(Nutzungen!$C79,Nutzungen!$E$2:$AM$72,S$75-1)","v":0.9},{"$f":"HLOOKUP(Nutzungen!$C79,Nutzungen!$E$2:$AM$72,T$75-1)","v":0.7},{"$f":"HLOOKUP(Nutzungen!$C79,Nutzungen!$E$2:$AM$72,U$75-1)","v":0.67},{"$f":"HLOOKUP(Nutzungen!$C79,Nutzungen!$E$2:$AM$72,V$75-1)","v":0.8},{"$f":"HLOOKUP(Nutzungen!$C79,Nutzungen!$E$2:$AM$72,W$75-1)","v":0.84},{"$f":"HLOOKUP(Nutzungen!$C79,Nutzungen!$E$2:$AM$72,X$75-1)","v":0.9},{"$f":"HLOOKUP(Nutzungen!$C79,Nutzungen!$E$2:$AM$72,Y$75-1)","v":0},{"$f":"HLOOKUP(Nutzungen!$C79,Nutzungen!$E$2:$AM$72,Z$75-1)","v":"m. T."},{"$f":"HLOOKUP(Nutzungen!$C79,Nutzungen!$E$2:$AM$72,AA$75-1)","v":4},{"$f":"HLOOKUP(Nutzungen!$C79,Nutzungen!$E$2:$AM$72,AB$75-1)","v":0},{"$f":"HLOOKUP(Nutzungen!$C79,Nutzungen!$E$2:$AM$72,AC$75-1)","v":0},{"$f":"HLOOKUP(Nutzungen!$C79,Nutzungen!$E$2:$AM$72,AD$75-1)","v":30},{"$f":"HLOOKUP(Nutzungen!$C79,Nutzungen!$E$2:$AM$72,AE$75-1)","v":42},{"$f":"HLOOKUP(Nutzungen!$C79,Nutzungen!$E$2:$AM$72,AF$75-1)","v":42},{"$f":"HLOOKUP(Nutzungen!$C79,Nutzungen!$E$2:$AM$72,AG$75-1)","v":90},{"$f":"HLOOKUP(Nutzungen!$C79,Nutzungen!$E$2:$AM$72,AH$75-1)","v":0},{"$f":"HLOOKUP(Nutzungen!$C79,Nutzungen!$E$2:$AM$72,AI$75-1)","v":0},{"$f":"HLOOKUP(Nutzungen!$C79,Nutzungen!$E$2:$AM$72,AJ$75-1)","v":0},{"$f":"HLOOKUP(Nutzungen!$C79,Nutzungen!$E$2:$AM$72,AK$75-1)","v":21},{"$f":"HLOOKUP(Nutzungen!$C79,Nutzungen!$E$2:$AM$72,AL$75-1)","v":4},{"$f":"HLOOKUP(Nutzungen!$C79,Nutzungen!$E$2:$AM$72,AM$75-1)","v":24},{"$f":"HLOOKUP(Nutzungen!$C79,Nutzungen!$E$2:$AM$72,AN$75-1)","v":20},{"$f":"HLOOKUP(Nutzungen!$C79,Nutzungen!$E$2:$AM$72,AO$75-1)","v":26},{"$f":"HLOOKUP(Nutzungen!$C79,Nutzungen!$E$2:$AM$72,AP$75-1)","v":0},{"$f":"HLOOKUP(Nutzungen!$C79,Nutzungen!$E$2:$AM$72,AQ$75-1)","v":-12},{"$f":"HLOOKUP(Nutzungen!$C79,Nutzungen!$E$2:$AM$72,AR$75-1)","v":24.6},{"$f":"HLOOKUP(Nutzungen!$C79,Nutzungen!$E$2:$AM$72,AS$75-1)","v":18.899999999999999},{"$f":"HLOOKUP(Nutzungen!$C79,Nutzungen!$E$2:$AM$72,AT$75-1)","v":0.9},{"$f":"HLOOKUP(Nutzungen!$C79,Nutzungen!$E$2:$AM$72,AU$75-1)","v":0.9},{"$f":"HLOOKUP(Nutzungen!$C79,Nutzungen!$E$2:$AM$72,AV$75-1)","v":0},{"$f":"HLOOKUP(Nutzungen!$C79,Nutzungen!$E$2:$AM$72,AW$75-1)","v":"A2"},{"$f":"HLOOKUP(Nutzungen!$C79,Nutzungen!$E$2:$AM$72,AX$75-1)","v":0},{"$f":"HLOOKUP(Nutzungen!$C79,Nutzungen!$E$2:$AM$72,AY$75-1)","v":1},{"$f":"HLOOKUP(Nutzungen!$C79,Nutzungen!$E$2:$AM$72,AZ$75-1)","v":0},{"$f":"HLOOKUP(Nutzungen!$C79,Nutzungen!$E$2:$AM$72,BA$75-1)","v":3},{"$f":"HLOOKUP(Nutzungen!$C79,Nutzungen!$E$2:$AM$72,BB$75-1)","v":3},{"$f":"HLOOKUP(Nutzungen!$C79,Nutzungen!$E$2:$AM$72,BC$75-1)","v":6},{"$f":"HLOOKUP(Nutzungen!$C79,Nutzungen!$E$2:$AM$72,BD$75-1)","v":18},{"$f":"HLOOKUP(Nutzungen!$C79,Nutzungen!$E$2:$AM$72,BE$75-1)","v":54},{"$f":"HLOOKUP(Nutzungen!$C79,Nutzungen!$E$2:$AM$72,BF$75-1)","v":"A"},{"$f":"HLOOKUP(Nutzungen!$C79,Nutzungen!$E$2:$AM$72,BG$75-1)","v":0},{"$f":"HLOOKUP(Nutzungen!$C79,Nutzungen!$E$2:$AM$72,BH$75-1)","v":0.34313725490196068},{"$f":"HLOOKUP(Nutzungen!$C79,Nutzungen!$E$2:$AM$72,BI$75-1)","v":0.24509803921568626},{"$f":"HLOOKUP(Nutzungen!$C79,Nutzungen!$E$2:$AM$72,BJ$75-1)","v":0.22166666666666671},{"$f":"HLOOKUP(Nutzungen!$C79,Nutzungen!$E$2:$AM$72,BK$75-1)","v":0.22166666666666671},{"$f":"HLOOKUP(Nutzungen!$C79,Nutzungen!$E$2:$AM$72,BL$75-1)","v":21},{"$f":"BI79+IF(BF79=\"A\",0.1,IF(BF79=\"C\",-0.1,IF(BF79=\"D\",-1*BI79,0)))","v":0.34509803921568627},1,{"$f":"HLOOKUP(Nutzungen!$C79,Nutzungen!$E$2:$AM$72,BO$75-1)","v":2.5},{"$f":"HLOOKUP(Nutzungen!$C79,Nutzungen!$E$2:$AM$72,BP$75-1)","v":0.3},{"$f":"HLOOKUP(Nutzungen!$C79,Nutzungen!$E$2:$AM$72,BQ$75-1)","v":0.7},{"$f":"HLOOKUP(Nutzungen!$C79,Nutzungen!$E$2:$AM$72,BR$75-1)","v":4},{"$f":"HLOOKUP(Nutzungen!$C79,Nutzungen!$E$2:$AM$72,BS$75-1)","v":3.55},{"$f":"HLOOKUP(Nutzungen!$C79,Nutzungen!$E$2:$AM$72,BT$75-1)","v":3.2349999999999999},{"$f":"HLOOKUP(Nutzungen!$C79,Nutzungen!$E$2:$AM$72,BU$75-1)","v":3.2349999999999999}]
[{"$f":"A79+1","v":2},"Großraumbüro (ab sieben Arbeitsplätzen)","03 Großraumbüro",null,{"$f":"HLOOKUP(Nutzungen!$C80,Nutzungen!$E$2:$AM$72,E$75-1)","v":7},{"$f":"HLOOKUP(Nutzungen!$C80,Nutzungen!$E$2:$AM$72,F$75-1)","v":18},{"$f":"HLOOKUP(Nutzungen!$C80,Nutzungen!$E$2:$AM$72,G$75-1)","v":11},{"$f":"HLOOKUP(Nutzungen!$C80,Nutzungen!$E$2:$AM$72,H$75-1)","v":250},{"$f":"HLOOKUP(Nutzungen!$C80,Nutzungen!$E$2:$AM$72,I$75-1)","v":2543},{"$f":"HLOOKUP(Nutzungen!$C80,Nutzungen!$E$2:$AM$72,J$75-1)","v":207},{"$f":"HLOOKUP(Nutzungen!$C80,Nutzungen!$E$2:$AM$72,K$75-1)","v":13},{"$f":"HLOOKUP(Nutzungen!$C80,Nutzungen!$E$2:$AM$72,L$75-1)","v":250},{"$f":"HLOOKUP(Nutzungen!$C80,Nutzungen!$E$2:$AM$72,M$75-1)","v":13},{"$f":"HLOOKUP(Nutzungen!$C80,Nutzungen!$E$2:$AM$72,N$75-1)","v":0},{"$f":"HLOOKUP(Nutzungen!$C80,Nutzungen!$E$2:$AM$72,O$75-1)","v":500},{"$f":"HLOOKUP(Nutzungen!$C80,Nutzungen!$E$2:$AM$72,P$75-1)","v":0.8},{"$f":"HLOOKUP(Nutzungen!$C80,Nutzungen!$E$2:$AM$72,Q$75-1)","v":0.93},{"$f":"HLOOKUP(Nutzungen!$C80,Nutzungen!$E$2:$AM$72,R$75-1)","v":0},{"$f":"HLOOKUP(Nutzungen!$C80,Nutzungen!$E$2:$AM$72,S$75-1)","v":2.5},{"$f":"HLOOKUP(Nutzungen!$C80,Nutzungen!$E$2:$AM$72,T$75-1)","v":1},{"$f":"HLOOKUP(Nutzungen!$C80,Nutzungen!$E$2:$AM$72,U$75-1)","v":0.67},{"$f":"HLOOKUP(Nutzungen!$C80,Nutzungen!$E$2:$AM$72,V$75-1)","v":0.8},{"$f":"HLOOKUP(Nutzungen!$C80,Nutzungen!$E$2:$AM$72,W$75-1)","v":0.84},{"$f":"HLOOKUP(Nutzungen!$C80,Nutzungen!$E$2:$AM$72,X$75-1)","v":0.9},{"$f":"HLOOKUP(Nutzungen!$C80,Nutzungen!$E$2:$AM$72,Y$75-1)","v":0},{"$f":"HLOOKUP(Nutzungen!$C80,Nutzungen!$E$2:$AM$72,Z$75-1)","v":"m. T."},{"$f":"HLOOKUP(Nutzungen!$C80,Nutzungen!$E$2:$AM$72,AA$75-1)","v":6},{"$f":"HLOOKUP(Nutzungen!$C80,Nutzungen!$E$2:$AM$72,AB$75-1)","v":0},{"$f":"HLOOKUP(Nutzungen!$C80,Nutzungen!$E$2:$AM$72,AC$75-1)","v":0},{"$f":"HLOOKUP(Nutzungen!$C80,Nutzungen!$E$2:$AM$72,AD$75-1)","v":42},{"$f":"HLOOKUP(Nutzungen!$C80,Nutzungen!$E$2:$AM$72,AE$75-1)","v":60},{"$f":"HLOOKUP(Nutzungen!$C80,Nutzungen!$E$2:$AM$72,AF$75-1)","v":54},{"$f":"HLOOKUP(Nutzungen!$C80,Nutzungen!$E$2:$AM$72,AG$75-1)","v":114},{"$f":"HLOOKUP(Nutzungen!$C80,Nutzungen!$E$2:$AM$72,AH$75-1)","v":0},{"$f":"HLOOKUP(Nutzungen!$C80,Nutzungen!$E$2:$AM$72,AI$75-1)","v":0},{"$f":"HLOOKUP(Nutzungen!$C80,Nutzungen!$E$2:$AM$72,AJ$75-1)","v":0},{"$f":"HLOOKUP(Nutzungen!$C80,Nutzungen!$E$2:$AM$72,AK$75-1)","v":21},{"$f":"HLOOKUP(Nutzungen!$C80,Nutzungen!$E$2:$AM$72,AL$75-1)","v":4},{"$f":"HLOOKUP(Nutzungen!$C80,Nutzungen!$E$2:$AM$72,AM$75-1)","v":24},{"$f":"HLOOKUP(Nutzungen!$C80,Nutzungen!$E$2:$AM$72,AN$75-1)","v":20},{"$f":"HLOOKUP(Nutzungen!$C80,Nutzungen!$E$2:$AM$72,AO$75-1)","v":26},{"$f":"HLOOKUP(Nutzungen!$C80,Nutzungen!$E$2:$AM$72,AP$75-1)","v":0},{"$f":"HLOOKUP(Nutzungen!$C80,Nutzungen!$E$2:$AM$72,AQ$75-1)","v":-12},{"$f":"HLOOKUP(Nutzungen!$C80,Nutzungen!$E$2:$AM$72,AR$75-1)","v":24.6},{"$f":"HLOOKUP(Nutzungen!$C80,Nutzungen!$E$2:$AM$72,AS$75-1)","v":18.899999999999999},{"$f":"HLOOKUP(Nutzungen!$C80,Nutzungen!$E$2:$AM$72,AT$75-1)","v":0.9},{"$f":"HLOOKUP(Nutzungen!$C80,Nutzungen!$E$2:$AM$72,AU$75-1)","v":0.9},{"$f":"HLOOKUP(Nutzungen!$C80,Nutzungen!$E$2:$AM$72,AV$75-1)","v":0},{"$f":"HLOOKUP(Nutzungen!$C80,Nutzungen!$E$2:$AM$72,AW$75-1)","v":"A2"},{"$f":"HLOOKUP(Nutzungen!$C80,Nutzungen!$E$2:$AM$72,AX$75-1)","v":0},{"$f":"HLOOKUP(Nutzungen!$C80,Nutzungen!$E$2:$AM$72,AY$75-1)","v":1},{"$f":"HLOOKUP(Nutzungen!$C80,Nutzungen!$E$2:$AM$72,AZ$75-1)","v":0},{"$f":"HLOOKUP(Nutzungen!$C80,Nutzungen!$E$2:$AM$72,BA$75-1)","v":3},{"$f":"HLOOKUP(Nutzungen!$C80,Nutzungen!$E$2:$AM$72,BB$75-1)","v":12},{"$f":"HLOOKUP(Nutzungen!$C80,Nutzungen!$E$2:$AM$72,BC$75-1)","v":12},{"$f":"HLOOKUP(Nutzungen!$C80,Nutzungen!$E$2:$AM$72,BD$75-1)","v":144},{"$f":"HLOOKUP(Nutzungen!$C80,Nutzungen!$E$2:$AM$72,BE$75-1)","v":432},{"$f":"HLOOKUP(Nutzungen!$C80,Nutzungen!$E$2:$AM$72,BF$75-1)","v":"A"},{"$f":"HLOOKUP(Nutzungen!$C80,Nutzungen!$E$2:$AM$72,BG$75-1)","v":0},{"$f":"HLOOKUP(Nutzungen!$C80,Nutzungen!$E$2:$AM$72,BH$75-1)","v":0.34313725490196068},{"$f":"HLOOKUP(Nutzungen!$C80,Nutzungen!$E$2:$AM$72,BI$75-1)","v":0.24509803921568626},{"$f":"HLOOKUP(Nutzungen!$C80,Nutzungen!$E$2:$AM$72,BJ$75-1)","v":0.22166666666666671},{"$f":"HLOOKUP(Nutzungen!$C80,Nutzungen!$E$2:$AM$72,BK$75-1)","v":0.22166666666666671},{"$f":"HLOOKUP(Nutzungen!$C80,Nutzungen!$E$2:$AM$72,BL$75-1)","v":22},{"$f":"BI80+IF(BF80=\"A\",0.1,IF(BF80=\"C\",-0.1,IF(BF80=\"D\",-1*BI80,0)))","v":0.34509803921568627},1,{"$f":"HLOOKUP(Nutzungen!$C80,Nutzungen!$E$2:$AM$72,BO$75-1)","v":2.5},{"$f":"HLOOKUP(Nutzungen!$C80,Nutzungen!$E$2:$AM$72,BP$75-1)","v":0.2},{"$f":"HLOOKUP(Nutzungen!$C80,Nutzungen!$E$2:$AM$72,BQ$75-1)","v":1},{"$f":"HLOOKUP(Nutzungen!$C80,Nutzungen!$E$2:$AM$72,BR$75-1)","v":6},{"$f":"HLOOKUP(Nutzungen!$C80,Nutzungen!$E$2:$AM$72,BS$75-1)","v":6},{"$f":"HLOOKUP(Nutzungen!$C80,Nutzungen!$E$2:$AM$72,BT$75-1)","v":5.3000000000000007},{"$f":"HLOOKUP(Nutzungen!$C80,Nutzungen!$E$2:$AM$72,BU$75-1)","v":5.3000000000000007}]
[{"$f":"A80+1","v":3},"Besprechung/Sitzungszimmer/Seminar","04 Sitzung",null,{"$f":"HLOOKUP(Nutzungen!$C81,Nutzungen!$E$2:$AM$72,E$75-1)","v":7},{"$f":"HLOOKUP(Nutzungen!$C81,Nutzungen!$E$2:$AM$72,F$75-1)","v":18},{"$f":"HLOOKUP(Nutzungen!$C81,Nutzungen!$E$2:$AM$72,G$75-1)","v":11},{"$f":"HLOOKUP(Nutzungen!$C81,Nutzungen!$E$2:$AM$72,H$75-1)","v":250},{"$f":"HLOOKUP(Nutzungen!$C81,Nutzungen!$E$2:$AM$72,I$75-1)","v":2543},{"$f":"HLOOKUP(Nutzungen!$C81,Nutzungen!$E$2:$AM$72,J$75-1)","v":207},{"$f":"HLOOKUP(Nutzungen!$C81,Nutzungen!$E$2:$AM$72,K$75-1)","v":13},{"$f":"HLOOKUP(Nutzungen!$C81,Nutzungen!$E$2:$AM$72,L$75-1)","v":250},{"$f":"HLOOKUP(Nutzungen!$C81,Nutzungen!$E$2:$AM$72,M$75-1)","v":13},{"$f":"HLOOKUP(Nutzungen!$C81,Nutzungen!$E$2:$AM$72,N$75-1)","v":0},{"$f":"HLOOKUP(Nutzungen!$C81,Nutzungen!$E$2:$AM$72,O$75-1)","v":500},{"$f":"HLOOKUP(Nutzungen!$C81,Nutzungen!$E$2:$AM$72,P$75-1)","v":0.8},{"$f":"HLOOKUP(Nutzungen!$C81,Nutzungen!$E$2:$AM$72,Q$75-1)","v":0.93},{"$f":"HLOOKUP(Nutzungen!$C81,Nutzungen!$E$2:$AM$72,R$75-1)","v":0.5},{"$f":"HLOOKUP(Nutzungen!$C81,Nutzungen!$E$2:$AM$72,S$75-1)","v":1.25},{"$f":"HLOOKUP(Nutzungen!$C81,Nutzungen!$E$2:$AM$72,T$75-1)","v":1},{"$f":"HLOOKUP(Nutzungen!$C81,Nutzungen!$E$2:$AM$72,U$75-1)","v":0.67},{"$f":"HLOOKUP(Nutzungen!$C81,Nutzungen!$E$2:$AM$72,V$75-1)","v":0.8},{"$f":"HLOOKUP(Nutzungen!$C81,Nutzungen!$E$2:$AM$72,W$75-1)","v":0.84},{"$f":"HLOOKUP(Nutzungen!$C81,Nutzungen!$E$2:$AM$72,X$75-1)","v":0.9},{"$f":"HLOOKUP(Nutzungen!$C81,Nutzungen!$E$2:$AM$72,Y$75-1)","v":0},{"$f":"HLOOKUP(Nutzungen!$C81,Nutzungen!$E$2:$AM$72,Z$75-1)","v":"m. T."},{"$f":"HLOOKUP(Nutzungen!$C81,Nutzungen!$E$2:$AM$72,AA$75-1)","v":15},{"$f":"HLOOKUP(Nutzungen!$C81,Nutzungen!$E$2:$AM$72,AB$75-1)","v":0},{"$f":"HLOOKUP(Nutzungen!$C81,Nutzungen!$E$2:$AM$72,AC$75-1)","v":0},{"$f":"HLOOKUP(Nutzungen!$C81,Nutzungen!$E$2:$AM$72,AD$75-1)","v":96},{"$f":"HLOOKUP(Nutzungen!$C81,Nutzungen!$E$2:$AM$72,AE$75-1)","v":8},{"$f":"HLOOKUP(Nutzungen!$C81,Nutzungen!$E$2:$AM$72,AF$75-1)","v":140},{"$f":"HLOOKUP(Nutzungen!$C81,Nutzungen!$E$2:$AM$72,AG$75-1)","v":12},{"$f":"HLOOKUP(Nutzungen!$C81,Nutzungen!$E$2:$AM$72,AH$75-1)","v":0},{"$f":"HLOOKUP(Nutzungen!$C81,Nutzungen!$E$2:$AM$72,AI$75-1)","v":0},{"$f":"HLOOKUP(Nutzungen!$C81,Nutzungen!$E$2:$AM$72,AJ$75-1)","v":0},{"$f":"HLOOKUP(Nutzungen!$C81,Nutzungen!$E$2:$AM$72,AK$75-1)","v":21},{"$f":"HLOOKUP(Nutzungen!$C81,Nutzungen!$E$2:$AM$72,AL$75-1)","v":4},{"$f":"HLOOKUP(Nutzungen!$C81,Nutzungen!$E$2:$AM$72,AM$75-1)","v":24},{"$f":"HLOOKUP(Nutzungen!$C81,Nutzungen!$E$2:$AM$72,AN$75-1)","v":20},{"$f":"HLOOKUP(Nutzungen!$C81,Nutzungen!$E$2:$AM$72,AO$75-1)","v":26},{"$f":"HLOOKUP(Nutzungen!$C81,Nutzungen!$E$2:$AM$72,AP$75-1)","v":0},{"$f":"HLOOKUP(Nutzungen!$C81,Nutzungen!$E$2:$AM$72,AQ$75-1)","v":-12},{"$f":"HLOOKUP(Nutzungen!$C81,Nutzungen!$E$2:$AM$72,AR$75-1)","v":24.6},{"$f":"HLOOKUP(Nutzungen!$C81,Nutzungen!$E$2:$AM$72,AS$75-1)","v":18.899999999999999},{"$f":"HLOOKUP(Nutzungen!$C81,Nutzungen!$E$2:$AM$72,AT$75-1)","v":0.9},{"$f":"HLOOKUP(Nutzungen!$C81,Nutzungen!$E$2:$AM$72,AU$75-1)","v":0.9},{"$f":"HLOOKUP(Nutzungen!$C81,Nutzungen!$E$2:$AM$72,AV$75-1)","v":0},{"$f":"HLOOKUP(Nutzungen!$C81,Nutzungen!$E$2:$AM$72,AW$75-1)","v":"A2"},{"$f":"HLOOKUP(Nutzungen!$C81,Nutzungen!$E$2:$AM$72,AX$75-1)","v":0},{"$f":"HLOOKUP(Nutzungen!$C81,Nutzungen!$E$2:$AM$72,AY$75-1)","v":1},{"$f":"HLOOKUP(Nutzungen!$C81,Nutzungen!$E$2:$AM$72,AZ$75-1)","v":0},{"$f":"HLOOKUP(Nutzungen!$C81,Nutzungen!$E$2:$AM$72,BA$75-1)","v":3},{"$f":"HLOOKUP(Nutzungen!$C81,Nutzungen!$E$2:$AM$72,BB$75-1)","v":6},{"$f":"HLOOKUP(Nutzungen!$C81,Nutzungen!$E$2:$AM$72,BC$75-1)","v":6},{"$f":"HLOOKUP(Nutzungen!$C81,Nutzungen!$E$2:$AM$72,BD$75-1)","v":36},{"$f":"HLOOKUP(Nutzungen!$C81,Nutzungen!$E$2:$AM$72,BE$75-1)","v":108},{"$f":"HLOOKUP(Nutzungen!$C81,Nutzungen!$E$2:$AM$72,BF$75-1)","v":"A"},{"$f":"HLOOKUP(Nutzungen!$C81,Nutzungen!$E$2:$AM$72,BG$75-1)","v":0},{"$f":"HLOOKUP(Nutzungen!$C81,Nutzungen!$E$2:$AM$72,BH$75-1)","v":0.34313725490196068},{"$f":"HLOOKUP(Nutzungen!$C81,Nutzungen!$E$2:$AM$72,BI$75-1)","v":0.24509803921568626},{"$f":"HLOOKUP(Nutzungen!$C81,Nutzungen!$E$2:$AM$72,BJ$75-1)","v":0.22166666666666671},{"$f":"HLOOKUP(Nutzungen!$C81,Nutzungen!$E$2:$AM$72,BK$75-1)","v":0.22166666666666671},{"$f":"HLOOKUP(Nutzungen!$C81,Nutzungen!$E$2:$AM$72,BL$75-1)","v":21},0.34509803921568627,1,{"$f":"HLOOKUP(Nutzungen!$C81,Nutzungen!$E$2:$AM$72,BO$75-1)","v":2.5},{"$f":"HLOOKUP(Nutzungen!$C81,Nutzungen!$E$2:$AM$72,BP$75-1)","v":0.5},{"$f":"HLOOKUP(Nutzungen!$C81,Nutzungen!$E$2:$AM$72,BQ$75-1)","v":0.5},{"$f":"HLOOKUP(Nutzungen!$C81,Nutzungen!$E$2:$AM$72,BR$75-1)","v":15},{"$f":"HLOOKUP(Nutzungen!$C81,Nutzungen!$E$2:$AM$72,BS$75-1)","v":8.75},{"$f":"HLOOKUP(Nutzungen!$C81,Nutzungen!$E$2:$AM$72,BT$75-1)","v":5.625},{"$f":"HLOOKUP(Nutzungen!$C81,Nutzungen!$E$2:$AM$72,BU$75-1)","v":5.625}]
[4,"Schalterhalle","05 Schalterhalle",null,{"$f":"HLOOKUP(Nutzungen!$C82,Nutzungen!$E$2:$AM$72,E$75-1)","v":7},{"$f":"HLOOKUP(Nutzungen!$C82,Nutzungen!$E$2:$AM$72,F$75-1)","v":18},{"$f":"HLOOKUP(Nutzungen!$C82,Nutzungen!$E$2:$AM$72,G$75-1)","v":11},{"$f":"HLOOKUP(Nutzungen!$C82,Nutzungen!$E$2:$AM$72,H$75-1)","v":250},{"$f":"HLOOKUP(Nutzungen!$C82,Nutzungen!$E$2:$AM$72,I$75-1)","v":2543},{"$f":"HLOOKUP(Nutzungen!$C82,Nutzungen!$E$2:$AM$72,J$75-1)","v":207},{"$f":"HLOOKUP(Nutzungen!$C82,Nutzungen!$E$2:$AM$72,K$75-1)","v":13},{"$f":"HLOOKUP(Nutzungen!$C82,Nutzungen!$E$2:$AM$72,L$75-1)","v":250},{"$f":"HLOOKUP(Nutzungen!$C82,Nutzungen!$E$2:$AM$72,M$75-1)","v":13},{"$f":"HLOOKUP(Nutzungen!$C82,Nutzungen!$E$2:$AM$72,N$75-1)","v":0},{"$f":"HLOOKUP(Nutzungen!$C82,Nutzungen!$E$2:$AM$72,O$75-1)","v":200},{"$f":"HLOOKUP(Nutzungen!$C82,Nutzungen!$E$2:$AM$72,P$75-1)","v":0.8},{"$f":"HLOOKUP(Nutzungen!$C82,Nutzungen!$E$2:$AM$72,Q$75-1)","v":0.87},{"$f":"HLOOKUP(Nutzungen!$C82,Nutzungen!$E$2:$AM$72,R$75-1)","v":0},{"$f":"HLOOKUP(Nutzungen!$C82,Nutzungen!$E$2:$AM$72,S$75-1)","v":1.5},{"$f":"HLOOKUP(Nutzungen!$C82,Nutzungen!$E$2:$AM$72,T$75-1)","v":1},{"$f":"HLOOKUP(Nutzungen!$C82,Nutzungen!$E$2:$AM$72,U$75-1)","v":0.67},{"$f":"HLOOKUP(Nutzungen!$C82,Nutzungen!$E$2:$AM$72,V$75-1)","v":0.8},{"$f":"HLOOKUP(Nutzungen!$C82,Nutzungen!$E$2:$AM$72,W$75-1)","v":0.84},{"$f":"HLOOKUP(Nutzungen!$C82,Nutzungen!$E$2:$AM$72,X$75-1)","v":0.9},{"$f":"HLOOKUP(Nutzungen!$C82,Nutzungen!$E$2:$AM$72,Y$75-1)","v":0},{"$f":"HLOOKUP(Nutzungen!$C82,Nutzungen!$E$2:$AM$72,Z$75-1)","v":"m. T."},{"$f":"HLOOKUP(Nutzungen!$C82,Nutzungen!$E$2:$AM$72,AA$75-1)","v":2},{"$f":"HLOOKUP(Nutzungen!$C82,Nutzungen!$E$2:$AM$72,AB$75-1)","v":0},{"$f":"HLOOKUP(Nutzungen!$C82,Nutzungen!$E$2:$AM$72,AC$75-1)","v":0},{"$f":"HLOOKUP(Nutzungen!$C82,Nutzungen!$E$2:$AM$72,AD$75-1)","v":36},{"$f":"HLOOKUP(Nutzungen!$C82,Nutzungen!$E$2:$AM$72,AE$75-1)","v":24},{"$f":"HLOOKUP(Nutzungen!$C82,Nutzungen!$E$2:$AM$72,AF$75-1)","v":54},{"$f":"HLOOKUP(Nutzungen!$C82,Nutzungen!$E$2:$AM$72,AG$75-1)","v":57},{"$f":"HLOOKUP(Nutzungen!$C82,Nutzungen!$E$2:$AM$72,AH$75-1)","v":0},{"$f":"HLOOKUP(Nutzungen!$C82,Nutzungen!$E$2:$AM$72,AI$75-1)","v":0},{"$f":"HLOOKUP(Nutzungen!$C82,Nutzungen!$E$2:$AM$72,AJ$75-1)","v":0},{"$f":"HLOOKUP(Nutzungen!$C82,Nutzungen!$E$2:$AM$72,AK$75-1)","v":21},{"$f":"HLOOKUP(Nutzungen!$C82,Nutzungen!$E$2:$AM$72,AL$75-1)","v":4},{"$f":"HLOOKUP(Nutzungen!$C82,Nutzungen!$E$2:$AM$72,AM$75-1)","v":24},{"$f":"HLOOKUP(Nutzungen!$C82,Nutzungen!$E$2:$AM$72,AN$75-1)","v":20},{"$f":"HLOOKUP(Nutzungen!$C82,Nutzungen!$E$2:$AM$72,AO$75-1)","v":26},{"$f":"HLOOKUP(Nutzungen!$C82,Nutzungen!$E$2:$AM$72,AP$75-1)","v":0},{"$f":"HLOOKUP(Nutzungen!$C82,Nutzungen!$E$2:$AM$72,AQ$75-1)","v":-12},{"$f":"HLOOKUP(Nutzungen!$C82,Nutzungen!$E$2:$AM$72,AR$75-1)","v":24.6},{"$f":"HLOOKUP(Nutzungen!$C82,Nutzungen!$E$2:$AM$72,AS$75-1)","v":18.899999999999999},{"$f":"HLOOKUP(Nutzungen!$C82,Nutzungen!$E$2:$AM$72,AT$75-1)","v":0.9},{"$f":"HLOOKUP(Nutzungen!$C82,Nutzungen!$E$2:$AM$72,AU$75-1)","v":0.9},{"$f":"HLOOKUP(Nutzungen!$C82,Nutzungen!$E$2:$AM$72,AV$75-1)","v":0},{"$f":"HLOOKUP(Nutzungen!$C82,Nutzungen!$E$2:$AM$72,AW$75-1)","v":"A2"},{"$f":"HLOOKUP(Nutzungen!$C82,Nutzungen!$E$2:$AM$72,AX$75-1)","v":0},{"$f":"HLOOKUP(Nutzungen!$C82,Nutzungen!$E$2:$AM$72,AY$75-1)","v":0},{"$f":"HLOOKUP(Nutzungen!$C82,Nutzungen!$E$2:$AM$72,AZ$75-1)","v":0},{"$f":"HLOOKUP(Nutzungen!$C82,Nutzungen!$E$2:$AM$72,BA$75-1)","v":4},{"$f":"HLOOKUP(Nutzungen!$C82,Nutzungen!$E$2:$AM$72,BB$75-1)","v":10},{"$f":"HLOOKUP(Nutzungen!$C82,Nutzungen!$E$2:$AM$72,BC$75-1)","v":10},{"$f":"HLOOKUP(Nutzungen!$C82,Nutzungen!$E$2:$AM$72,BD$75-1)","v":100},{"$f":"HLOOKUP(Nutzungen!$C82,Nutzungen!$E$2:$AM$72,BE$75-1)","v":400},{"$f":"HLOOKUP(Nutzungen!$C82,Nutzungen!$E$2:$AM$72,BF$75-1)","v":"B"},{"$f":"HLOOKUP(Nutzungen!$C82,Nutzungen!$E$2:$AM$72,BG$75-1)","v":0},{"$f":"HLOOKUP(Nutzungen!$C82,Nutzungen!$E$2:$AM$72,BH$75-1)","v":0.34313725490196068},{"$f":"HLOOKUP(Nutzungen!$C82,Nutzungen!$E$2:$AM$72,BI$75-1)","v":0.24509803921568626},{"$f":"HLOOKUP(Nutzungen!$C82,Nutzungen!$E$2:$AM$72,BJ$75-1)","v":0.22166666666666671},{"$f":"HLOOKUP(Nutzungen!$C82,Nutzungen!$E$2:$AM$72,BK$75-1)","v":0.22166666666666671},{"$f":"HLOOKUP(Nutzungen!$C82,Nutzungen!$E$2:$AM$72,BL$75-1)","v":20},0.24509803921568626,1,{"$f":"HLOOKUP(Nutzungen!$C82,Nutzungen!$E$2:$AM$72,BO$75-1)","v":1.25},{"$f":"HLOOKUP(Nutzungen!$C82,Nutzungen!$E$2:$AM$72,BP$75-1)","v":0.5},{"$f":"HLOOKUP(Nutzungen!$C82,Nutzungen!$E$2:$AM$72,BQ$75-1)","v":1},{"$f":"HLOOKUP(Nutzungen!$C82,Nutzungen!$E$2:$AM$72,BR$75-1)","v":2},{"$f":"HLOOKUP(Nutzungen!$C82,Nutzungen!$E$2:$AM$72,BS$75-1)","v":2},{"$f":"HLOOKUP(Nutzungen!$C82,Nutzungen!$E$2:$AM$72,BT$75-1)","v":1.625},{"$f":"HLOOKUP(Nutzungen!$C82,Nutzungen!$E$2:$AM$72,BU$75-1)","v":1.625}]
[5,"Einzelhandel/Kaufhaus (ohne Kühlprodukte)","06 Einzelhandel",null,{"$f":"HLOOKUP(Nutzungen!$C83,Nutzungen!$E$2:$AM$72,E$75-1)","v":8},{"$f":"HLOOKUP(Nutzungen!$C83,Nutzungen!$E$2:$AM$72,F$75-1)","v":20},{"$f":"HLOOKUP(Nutzungen!$C83,Nutzungen!$E$2:$AM$72,G$75-1)","v":12},{"$f":"HLOOKUP(Nutzungen!$C83,Nutzungen!$E$2:$AM$72,H$75-1)","v":300},{"$f":"HLOOKUP(Nutzungen!$C83,Nutzungen!$E$2:$AM$72,I$75-1)","v":2999},{"$f":"HLOOKUP(Nutzungen!$C83,Nutzungen!$E$2:$AM$72,J$75-1)","v":601},{"$f":"HLOOKUP(Nutzungen!$C83,Nutzungen!$E$2:$AM$72,K$75-1)","v":14},{"$f":"HLOOKUP(Nutzungen!$C83,Nutzungen!$E$2:$AM$72,L$75-1)","v":300},{"$f":"HLOOKUP(Nutzungen!$C83,Nutzungen!$E$2:$AM$72,M$75-1)","v":14},{"$f":"HLOOKUP(Nutzungen!$C83,Nutzungen!$E$2:$AM$72,N$75-1)","v":0},{"$f":"HLOOKUP(Nutzungen!$C83,Nutzungen!$E$2:$AM$72,O$75-1)","v":300},{"$f":"HLOOKUP(Nutzungen!$C83,Nutzungen!$E$2:$AM$72,P$75-1)","v":0.8},{"$f":"HLOOKUP(Nutzungen!$C83,Nutzungen!$E$2:$AM$72,Q$75-1)","v":0.93},{"$f":"HLOOKUP(Nutzungen!$C83,Nutzungen!$E$2:$AM$72,R$75-1)","v":0},{"$f":"HLOOKUP(Nutzungen!$C83,Nutzungen!$E$2:$AM$72,S$75-1)","v":2.5},{"$f":"HLOOKUP(Nutzungen!$C83,Nutzungen!$E$2:$AM$72,T$75-1)","v":1},{"$f":"HLOOKUP(Nutzungen!$C83,Nutzungen!$E$2:$AM$72,U$75-1)","v":0.67},{"$f":"HLOOKUP(Nutzungen!$C83,Nutzungen!$E$2:$AM$72,V$75-1)","v":0.8},{"$f":"HLOOKUP(Nutzungen!$C83,Nutzungen!$E$2:$AM$72,W$75-1)","v":0.84},{"$f":"HLOOKUP(Nutzungen!$C83,Nutzungen!$E$2:$AM$72,X$75-1)","v":0.9},{"$f":"HLOOKUP(Nutzungen!$C83,Nutzungen!$E$2:$AM$72,Y$75-1)","v":0},{"$f":"HLOOKUP(Nutzungen!$C83,Nutzungen!$E$2:$AM$72,Z$75-1)","v":"m. T."},{"$f":"HLOOKUP(Nutzungen!$C83,Nutzungen!$E$2:$AM$72,AA$75-1)","v":4},{"$f":"HLOOKUP(Nutzungen!$C83,Nutzungen!$E$2:$AM$72,AB$75-1)","v":0},{"$f":"HLOOKUP(Nutzungen!$C83,Nutzungen!$E$2:$AM$72,AC$75-1)","v":0},{"$f":"HLOOKUP(Nutzungen!$C83,Nutzungen!$E$2:$AM$72,AD$75-1)","v":84},{"$f":"HLOOKUP(Nutzungen!$C83,Nutzungen!$E$2:$AM$72,AE$75-1)","v":24},{"$f":"HLOOKUP(Nutzungen!$C83,Nutzungen!$E$2:$AM$72,AF$75-1)","v":108},{"$f":"HLOOKUP(Nutzungen!$C83,Nutzungen!$E$2:$AM$72,AG$75-1)","v":36},{"$f":"HLOOKUP(Nutzungen!$C83,Nutzungen!$E$2:$AM$72,AH$75-1)","v":0},{"$f":"HLOOKUP(Nutzungen!$C83,Nutzungen!$E$2:$AM$72,AI$75-1)","v":0},{"$f":"HLOOKUP(Nutzungen!$C83,Nutzungen!$E$2:$AM$72,AJ$75-1)","v":0},{"$f":"HLOOKUP(Nutzungen!$C83,Nutzungen!$E$2:$AM$72,AK$75-1)","v":21},{"$f":"HLOOKUP(Nutzungen!$C83,Nutzungen!$E$2:$AM$72,AL$75-1)","v":4},{"$f":"HLOOKUP(Nutzungen!$C83,Nutzungen!$E$2:$AM$72,AM$75-1)","v":24},{"$f":"HLOOKUP(Nutzungen!$C83,Nutzungen!$E$2:$AM$72,AN$75-1)","v":20},{"$f":"HLOOKUP(Nutzungen!$C83,Nutzungen!$E$2:$AM$72,AO$75-1)","v":26},{"$f":"HLOOKUP(Nutzungen!$C83,Nutzungen!$E$2:$AM$72,AP$75-1)","v":0},{"$f":"HLOOKUP(Nutzungen!$C83,Nutzungen!$E$2:$AM$72,AQ$75-1)","v":-12},{"$f":"HLOOKUP(Nutzungen!$C83,Nutzungen!$E$2:$AM$72,AR$75-1)","v":24.6},{"$f":"HLOOKUP(Nutzungen!$C83,Nutzungen!$E$2:$AM$72,AS$75-1)","v":18.899999999999999},{"$f":"HLOOKUP(Nutzungen!$C83,Nutzungen!$E$2:$AM$72,AT$75-1)","v":0.9},{"$f":"HLOOKUP(Nutzungen!$C83,Nutzungen!$E$2:$AM$72,AU$75-1)","v":0.9},{"$f":"HLOOKUP(Nutzungen!$C83,Nutzungen!$E$2:$AM$72,AV$75-1)","v":0},{"$f":"HLOOKUP(Nutzungen!$C83,Nutzungen!$E$2:$AM$72,AW$75-1)","v":"A3"},{"$f":"HLOOKUP(Nutzungen!$C83,Nutzungen!$E$2:$AM$72,AX$75-1)","v":0},{"$f":"HLOOKUP(Nutzungen!$C83,Nutzungen!$E$2:$AM$72,AY$75-1)","v":1},{"$f":"HLOOKUP(Nutzungen!$C83,Nutzungen!$E$2:$AM$72,AZ$75-1)","v":0},{"$f":"HLOOKUP(Nutzungen!$C83,Nutzungen!$E$2:$AM$72,BA$75-1)","v":4},{"$f":"HLOOKUP(Nutzungen!$C83,Nutzungen!$E$2:$AM$72,BB$75-1)","v":20},{"$f":"HLOOKUP(Nutzungen!$C83,Nutzungen!$E$2:$AM$72,BC$75-1)","v":20},{"$f":"HLOOKUP(Nutzungen!$C83,Nutzungen!$E$2:$AM$72,BD$75-1)","v":400},{"$f":"HLOOKUP(Nutzungen!$C83,Nutzungen!$E$2:$AM$72,BE$75-1)","v":1600},{"$f":"HLOOKUP(Nutzungen!$C83,Nutzungen!$E$2:$AM$72,BF$75-1)","v":"B"},{"$f":"HLOOKUP(Nutzungen!$C83,Nutzungen!$E$2:$AM$72,BG$75-1)","v":0},{"$f":"HLOOKUP(Nutzungen!$C83,Nutzungen!$E$2:$AM$72,BH$75-1)","v":0.34313725490196068},{"$f":"HLOOKUP(Nutzungen!$C83,Nutzungen!$E$2:$AM$72,BI$75-1)","v":0.24509803921568626},{"$f":"HLOOKUP(Nutzungen!$C83,Nutzungen!$E$2:$AM$72,BJ$75-1)","v":0.22166666666666671},{"$f":"HLOOKUP(Nutzungen!$C83,Nutzungen!$E$2:$AM$72,BK$75-1)","v":0.22166666666666671},{"$f":"HLOOKUP(Nutzungen!$C83,Nutzungen!$E$2:$AM$72,BL$75-1)","v":21},0.24509803921568626,0,{"$f":"HLOOKUP(Nutzungen!$C83,Nutzungen!$E$2:$AM$72,BO$75-1)","v":2.5},{"$f":"HLOOKUP(Nutzungen!$C83,Nutzungen!$E$2:$AM$72,BP$75-1)","v":0.5},{"$f":"HLOOKUP(Nutzungen!$C83,Nutzungen!$E$2:$AM$72,BQ$75-1)","v":1},{"$f":"HLOOKUP(Nutzungen!$C83,Nutzungen!$E$2:$AM$72,BR$75-1)","v":4},{"$f":"HLOOKUP(Nutzungen!$C83,Nutzungen!$E$2:$AM$72,BS$75-1)","v":4},{"$f":"HLOOKUP(Nutzungen!$C83,Nutzungen!$E$2:$AM$72,BT$75-1)","v":3.25},{"$f":"HLOOKUP(Nutzungen!$C83,Nutzungen!$E$2:$AM$72,BU$75-1)","v":3.25}]
[6,"Einzelhandel/Kaufhaus (mit Kühlprodukten)","07 Handel+Kühl",null,{"$f":"HLOOKUP(Nutzungen!$C84,Nutzungen!$E$2:$AM$72,E$75-1)","v":8},{"$f":"HLOOKUP(Nutzungen!$C84,Nutzungen!$E$2:$AM$72,F$75-1)","v":20},{"$f":"HLOOKUP(Nutzungen!$C84,Nutzungen!$E$2:$AM$72,G$75-1)","v":12},{"$f":"HLOOKUP(Nutzungen!$C84,Nutzungen!$E$2:$AM$72,H$75-1)","v":300},{"$f":"HLOOKUP(Nutzungen!$C84,Nutzungen!$E$2:$AM$72,I$75-1)","v":2999},{"$f":"HLOOKUP(Nutzungen!$C84,Nutzungen!$E$2:$AM$72,J$75-1)","v":601},{"$f":"HLOOKUP(Nutzungen!$C84,Nutzungen!$E$2:$AM$72,K$75-1)","v":14},{"$f":"HLOOKUP(Nutzungen!$C84,Nutzungen!$E$2:$AM$72,L$75-1)","v":300},{"$f":"HLOOKUP(Nutzungen!$C84,Nutzungen!$E$2:$AM$72,M$75-1)","v":14},{"$f":"HLOOKUP(Nutzungen!$C84,Nutzungen!$E$2:$AM$72,N$75-1)","v":0},{"$f":"HLOOKUP(Nutzungen!$C84,Nutzungen!$E$2:$AM$72,O$75-1)","v":300},{"$f":"HLOOKUP(Nutzungen!$C84,Nutzungen!$E$2:$AM$72,P$75-1)","v":0.8},{"$f":"HLOOKUP(Nutzungen!$C84,Nutzungen!$E$2:$AM$72,Q$75-1)","v":0.93},{"$f":"HLOOKUP(Nutzungen!$C84,Nutzungen!$E$2:$AM$72,R$75-1)","v":0},{"$f":"HLOOKUP(Nutzungen!$C84,Nutzungen!$E$2:$AM$72,S$75-1)","v":2.5},{"$f":"HLOOKUP(Nutzungen!$C84,Nutzungen!$E$2:$AM$72,T$75-1)","v":1},{"$f":"HLOOKUP(Nutzungen!$C84,Nutzungen!$E$2:$AM$72,U$75-1)","v":0.67},{"$f":"HLOOKUP(Nutzungen!$C84,Nutzungen!$E$2:$AM$72,V$75-1)","v":0.8},{"$f":"HLOOKUP(Nutzungen!$C84,Nutzungen!$E$2:$AM$72,W$75-1)","v":0.84},{"$f":"HLOOKUP(Nutzungen!$C84,Nutzungen!$E$2:$AM$72,X$75-1)","v":0.9},{"$f":"HLOOKUP(Nutzungen!$C84,Nutzungen!$E$2:$AM$72,Y$75-1)","v":0},{"$f":"HLOOKUP(Nutzungen!$C84,Nutzungen!$E$2:$AM$72,Z$75-1)","v":"m. T."},{"$f":"HLOOKUP(Nutzungen!$C84,Nutzungen!$E$2:$AM$72,AA$75-1)","v":4},{"$f":"HLOOKUP(Nutzungen!$C84,Nutzungen!$E$2:$AM$72,AB$75-1)","v":0},{"$f":"HLOOKUP(Nutzungen!$C84,Nutzungen!$E$2:$AM$72,AC$75-1)","v":0},{"$f":"HLOOKUP(Nutzungen!$C84,Nutzungen!$E$2:$AM$72,AD$75-1)","v":84},{"$f":"HLOOKUP(Nutzungen!$C84,Nutzungen!$E$2:$AM$72,AE$75-1)","v":85},{"$f":"HLOOKUP(Nutzungen!$C84,Nutzungen!$E$2:$AM$72,AF$75-1)","v":108},{"$f":"HLOOKUP(Nutzungen!$C84,Nutzungen!$E$2:$AM$72,AG$75-1)","v":-136},{"$f":"HLOOKUP(Nutzungen!$C84,Nutzungen!$E$2:$AM$72,AH$75-1)","v":0},{"$f":"HLOOKUP(Nutzungen!$C84,Nutzungen!$E$2:$AM$72,AI$75-1)","v":0},{"$f":"HLOOKUP(Nutzungen!$C84,Nutzungen!$E$2:$AM$72,AJ$75-1)","v":0},{"$f":"HLOOKUP(Nutzungen!$C84,Nutzungen!$E$2:$AM$72,AK$75-1)","v":21},{"$f":"HLOOKUP(Nutzungen!$C84,Nutzungen!$E$2:$AM$72,AL$75-1)","v":4},{"$f":"HLOOKUP(Nutzungen!$C84,Nutzungen!$E$2:$AM$72,AM$75-1)","v":24},{"$f":"HLOOKUP(Nutzungen!$C84,Nutzungen!$E$2:$AM$72,AN$75-1)","v":20},{"$f":"HLOOKUP(Nutzungen!$C84,Nutzungen!$E$2:$AM$72,AO$75-1)","v":26},{"$f":"HLOOKUP(Nutzungen!$C84,Nutzungen!$E$2:$AM$72,AP$75-1)","v":0},{"$f":"HLOOKUP(Nutzungen!$C84,Nutzungen!$E$2:$AM$72,AQ$75-1)","v":-12},{"$f":"HLOOKUP(Nutzungen!$C84,Nutzungen!$E$2:$AM$72,AR$75-1)","v":24.6},{"$f":"HLOOKUP(Nutzungen!$C84,Nutzungen!$E$2:$AM$72,AS$75-1)","v":18.899999999999999},{"$f":"HLOOKUP(Nutzungen!$C84,Nutzungen!$E$2:$AM$72,AT$75-1)","v":0.9},{"$f":"HLOOKUP(Nutzungen!$C84,Nutzungen!$E$2:$AM$72,AU$75-1)","v":0.9},{"$f":"HLOOKUP(Nutzungen!$C84,Nutzungen!$E$2:$AM$72,AV$75-1)","v":0},{"$f":"HLOOKUP(Nutzungen!$C84,Nutzungen!$E$2:$AM$72,AW$75-1)","v":"A3"},{"$f":"HLOOKUP(Nutzungen!$C84,Nutzungen!$E$2:$AM$72,AX$75-1)","v":0},{"$f":"HLOOKUP(Nutzungen!$C84,Nutzungen!$E$2:$AM$72,AY$75-1)","v":1},{"$f":"HLOOKUP(Nutzungen!$C84,Nutzungen!$E$2:$AM$72,AZ$75-1)","v":0},{"$f":"HLOOKUP(Nutzungen!$C84,Nutzungen!$E$2:$AM$72,BA$75-1)","v":4},{"$f":"HLOOKUP(Nutzungen!$C84,Nutzungen!$E$2:$AM$72,BB$75-1)","v":20},{"$f":"HLOOKUP(Nutzungen!$C84,Nutzungen!$E$2:$AM$72,BC$75-1)","v":20},{"$f":"HLOOKUP(Nutzungen!$C84,Nutzungen!$E$2:$AM$72,BD$75-1)","v":400},{"$f":"HLOOKUP(Nutzungen!$C84,Nutzungen!$E$2:$AM$72,BE$75-1)","v":1600},{"$f":"HLOOKUP(Nutzungen!$C84,Nutzungen!$E$2:$AM$72,BF$75-1)","v":"D"},{"$f":"HLOOKUP(Nutzungen!$C84,Nutzungen!$E$2:$AM$72,BG$75-1)","v":0},{"$f":"HLOOKUP(Nutzungen!$C84,Nutzungen!$E$2:$AM$72,BH$75-1)","v":0.34313725490196068},{"$f":"HLOOKUP(Nutzungen!$C84,Nutzungen!$E$2:$AM$72,BI$75-1)","v":0.24509803921568626},{"$f":"HLOOKUP(Nutzungen!$C84,Nutzungen!$E$2:$AM$72,BJ$75-1)","v":0.22166666666666671},{"$f":"HLOOKUP(Nutzungen!$C84,Nutzungen!$E$2:$AM$72,BK$75-1)","v":0.22166666666666671},{"$f":"HLOOKUP(Nutzungen!$C84,Nutzungen!$E$2:$AM$72,BL$75-1)","v":18},0,0,{"$f":"HLOOKUP(Nutzungen!$C84,Nutzungen!$E$2:$AM$72,BO$75-1)","v":2.5},{"$f":"HLOOKUP(Nutzungen!$C84,Nutzungen!$E$2:$AM$72,BP$75-1)","v":0.5},{"$f":"HLOOKUP(Nutzungen!$C84,Nutzungen!$E$2:$AM$72,BQ$75-1)","v":1},{"$f":"HLOOKUP(Nutzungen!$C84,Nutzungen!$E$2:$AM$72,BR$75-1)","v":4},{"$f":"HLOOKUP(Nutzungen!$C84,Nutzungen!$E$2:$AM$72,BS$75-1)","v":4},{"$f":"HLOOKUP(Nutzungen!$C84,Nutzungen!$E$2:$AM$72,BT$75-1)","v":3.25},{"$f":"HLOOKUP(Nutzungen!$C84,Nutzungen!$E$2:$AM$72,BU$75-1)","v":3.25}]
[7,"Klassenzimmer (Schulen)","08 Klassenzimmer",null,{"$f":"HLOOKUP(Nutzungen!$C85,Nutzungen!$E$2:$AM$72,E$75-1)","v":8},{"$f":"HLOOKUP(Nutzungen!$C85,Nutzungen!$E$2:$AM$72,F$75-1)","v":17},{"$f":"HLOOKUP(Nutzungen!$C85,Nutzungen!$E$2:$AM$72,G$75-1)","v":9},{"$f":"HLOOKUP(Nutzungen!$C85,Nutzungen!$E$2:$AM$72,H$75-1)","v":250},{"$f":"HLOOKUP(Nutzungen!$C85,Nutzungen!$E$2:$AM$72,I$75-1)","v":2192},{"$f":"HLOOKUP(Nutzungen!$C85,Nutzungen!$E$2:$AM$72,J$75-1)","v":58},{"$f":"HLOOKUP(Nutzungen!$C85,Nutzungen!$E$2:$AM$72,K$75-1)","v":11},{"$f":"HLOOKUP(Nutzungen!$C85,Nutzungen!$E$2:$AM$72,L$75-1)","v":250},{"$f":"HLOOKUP(Nutzungen!$C85,Nutzungen!$E$2:$AM$72,M$75-1)","v":11},{"$f":"HLOOKUP(Nutzungen!$C85,Nutzungen!$E$2:$AM$72,N$75-1)","v":0},{"$f":"HLOOKUP(Nutzungen!$C85,Nutzungen!$E$2:$AM$72,O$75-1)","v":350},{"$f":"HLOOKUP(Nutzungen!$C85,Nutzungen!$E$2:$AM$72,P$75-1)","v":0.8},{"$f":"HLOOKUP(Nutzungen!$C85,Nutzungen!$E$2:$AM$72,Q$75-1)","v":0.97},{"$f":"HLOOKUP(Nutzungen!$C85,Nutzungen!$E$2:$AM$72,R$75-1)","v":0.25},{"$f":"HLOOKUP(Nutzungen!$C85,Nutzungen!$E$2:$AM$72,S$75-1)","v":2},{"$f":"HLOOKUP(Nutzungen!$C85,Nutzungen!$E$2:$AM$72,T$75-1)","v":0.9},{"$f":"HLOOKUP(Nutzungen!$C85,Nutzungen!$E$2:$AM$72,U$75-1)","v":0.67},{"$f":"HLOOKUP(Nutzungen!$C85,Nutzungen!$E$2:$AM$72,V$75-1)","v":0.8},{"$f":"HLOOKUP(Nutzungen!$C85,Nutzungen!$E$2:$AM$72,W$75-1)","v":0.84},{"$f":"HLOOKUP(Nutzungen!$C85,Nutzungen!$E$2:$AM$72,X$75-1)","v":0.9},{"$f":"HLOOKUP(Nutzungen!$C85,Nutzungen!$E$2:$AM$72,Y$75-1)","v":0},{"$f":"HLOOKUP(Nutzungen!$C85,Nutzungen!$E$2:$AM$72,Z$75-1)","v":"m. T."},{"$f":"HLOOKUP(Nutzungen!$C85,Nutzungen!$E$2:$AM$72,AA$75-1)","v":10},{"$f":"HLOOKUP(Nutzungen!$C85,Nutzungen!$E$2:$AM$72,AB$75-1)","v":0},{"$f":"HLOOKUP(Nutzungen!$C85,Nutzungen!$E$2:$AM$72,AC$75-1)","v":0},{"$f":"HLOOKUP(Nutzungen!$C85,Nutzungen!$E$2:$AM$72,AD$75-1)","v":100},{"$f":"HLOOKUP(Nutzungen!$C85,Nutzungen!$E$2:$AM$72,AE$75-1)","v":20},{"$f":"HLOOKUP(Nutzungen!$C85,Nutzungen!$E$2:$AM$72,AF$75-1)","v":120},{"$f":"HLOOKUP(Nutzungen!$C85,Nutzungen!$E$2:$AM$72,AG$75-1)","v":30},{"$f":"HLOOKUP(Nutzungen!$C85,Nutzungen!$E$2:$AM$72,AH$75-1)","v":0},{"$f":"HLOOKUP(Nutzungen!$C85,Nutzungen!$E$2:$AM$72,AI$75-1)","v":0},{"$f":"HLOOKUP(Nutzungen!$C85,Nutzungen!$E$2:$AM$72,AJ$75-1)","v":0},{"$f":"HLOOKUP(Nutzungen!$C85,Nutzungen!$E$2:$AM$72,AK$75-1)","v":21},{"$f":"HLOOKUP(Nutzungen!$C85,Nutzungen!$E$2:$AM$72,AL$75-1)","v":4},{"$f":"HLOOKUP(Nutzungen!$C85,Nutzungen!$E$2:$AM$72,AM$75-1)","v":24},{"$f":"HLOOKUP(Nutzungen!$C85,Nutzungen!$E$2:$AM$72,AN$75-1)","v":20},{"$f":"HLOOKUP(Nutzungen!$C85,Nutzungen!$E$2:$AM$72,AO$75-1)","v":26},{"$f":"HLOOKUP(Nutzungen!$C85,Nutzungen!$E$2:$AM$72,AP$75-1)","v":0},{"$f":"HLOOKUP(Nutzungen!$C85,Nutzungen!$E$2:$AM$72,AQ$75-1)","v":-12},{"$f":"HLOOKUP(Nutzungen!$C85,Nutzungen!$E$2:$AM$72,AR$75-1)","v":24.6},{"$f":"HLOOKUP(Nutzungen!$C85,Nutzungen!$E$2:$AM$72,AS$75-1)","v":18.899999999999999},{"$f":"HLOOKUP(Nutzungen!$C85,Nutzungen!$E$2:$AM$72,AT$75-1)","v":0.9},{"$f":"HLOOKUP(Nutzungen!$C85,Nutzungen!$E$2:$AM$72,AU$75-1)","v":0.9},{"$f":"HLOOKUP(Nutzungen!$C85,Nutzungen!$E$2:$AM$72,AV$75-1)","v":0},{"$f":"HLOOKUP(Nutzungen!$C85,Nutzungen!$E$2:$AM$72,AW$75-1)","v":"A4"},{"$f":"HLOOKUP(Nutzungen!$C85,Nutzungen!$E$2:$AM$72,AX$75-1)","v":0},{"$f":"HLOOKUP(Nutzungen!$C85,Nutzungen!$E$2:$AM$72,AY$75-1)","v":1},{"$f":"HLOOKUP(Nutzungen!$C85,Nutzungen!$E$2:$AM$72,AZ$75-1)","v":0},{"$f":"HLOOKUP(Nutzungen!$C85,Nutzungen!$E$2:$AM$72,BA$75-1)","v":3},{"$f":"HLOOKUP(Nutzungen!$C85,Nutzungen!$E$2:$AM$72,BB$75-1)","v":10},{"$f":"HLOOKUP(Nutzungen!$C85,Nutzungen!$E$2:$AM$72,BC$75-1)","v":10},{"$f":"HLOOKUP(Nutzungen!$C85,Nutzungen!$E$2:$AM$72,BD$75-1)","v":100},{"$f":"HLOOKUP(Nutzungen!$C85,Nutzungen!$E$2:$AM$72,BE$75-1)","v":300},{"$f":"HLOOKUP(Nutzungen!$C85,Nutzungen!$E$2:$AM$72,BF$75-1)","v":"A"},{"$f":"HLOOKUP(Nutzungen!$C85,Nutzungen!$E$2:$AM$72,BG$75-1)","v":0},{"$f":"HLOOKUP(Nutzungen!$C85,Nutzungen!$E$2:$AM$72,BH$75-1)","v":0.34313725490196068},{"$f":"HLOOKUP(Nutzungen!$C85,Nutzungen!$E$2:$AM$72,BI$75-1)","v":0.24509803921568626},{"$f":"HLOOKUP(Nutzungen!$C85,Nutzungen!$E$2:$AM$72,BJ$75-1)","v":0.22166666666666671},{"$f":"HLOOKUP(Nutzungen!$C85,Nutzungen!$E$2:$AM$72,BK$75-1)","v":0.22166666666666671},{"$f":"HLOOKUP(Nutzungen!$C85,Nutzungen!$E$2:$AM$72,BL$75-1)","v":22},0.34509803921568627,1,{"$f":"HLOOKUP(Nutzungen!$C85,Nutzungen!$E$2:$AM$72,BO$75-1)","v":2.5},{"$f":"HLOOKUP(Nutzungen!$C85,Nutzungen!$E$2:$AM$72,BP$75-1)","v":0.25},{"$f":"HLOOKUP(Nutzungen!$C85,Nutzungen!$E$2:$AM$72,BQ$75-1)","v":0.9},{"$f":"HLOOKUP(Nutzungen!$C85,Nutzungen!$E$2:$AM$72,BR$75-1)","v":10},{"$f":"HLOOKUP(Nutzungen!$C85,Nutzungen!$E$2:$AM$72,BS$75-1)","v":9.25},{"$f":"HLOOKUP(Nutzungen!$C85,Nutzungen!$E$2:$AM$72,BT$75-1)","v":7.5625},{"$f":"HLOOKUP(Nutzungen!$C85,Nutzungen!$E$2:$AM$72,BU$75-1)","v":7.5625}]
[8,"Hörsaal, Auditorium","09 Hörsaal",null,{"$f":"HLOOKUP(Nutzungen!$C86,Nutzungen!$E$2:$AM$72,E$75-1)","v":8},{"$f":"HLOOKUP(Nutzungen!$C86,Nutzungen!$E$2:$AM$72,F$75-1)","v":18},{"$f":"HLOOKUP(Nutzungen!$C86,Nutzungen!$E$2:$AM$72,G$75-1)","v":10},{"$f":"HLOOKUP(Nutzungen!$C86,Nutzungen!$E$2:$AM$72,H$75-1)","v":150},{"$f":"HLOOKUP(Nutzungen!$C86,Nutzungen!$E$2:$AM$72,I$75-1)","v":1409},{"$f":"HLOOKUP(Nutzungen!$C86,Nutzungen!$E$2:$AM$72,J$75-1)","v":91},{"$f":"HLOOKUP(Nutzungen!$C86,Nutzungen!$E$2:$AM$72,K$75-1)","v":12},{"$f":"HLOOKUP(Nutzungen!$C86,Nutzungen!$E$2:$AM$72,L$75-1)","v":150},{"$f":"HLOOKUP(Nutzungen!$C86,Nutzungen!$E$2:$AM$72,M$75-1)","v":12},{"$f":"HLOOKUP(Nutzungen!$C86,Nutzungen!$E$2:$AM$72,N$75-1)","v":0},{"$f":"HLOOKUP(Nutzungen!$C86,Nutzungen!$E$2:$AM$72,O$75-1)","v":500},{"$f":"HLOOKUP(Nutzungen!$C86,Nutzungen!$E$2:$AM$72,P$75-1)","v":0.8},{"$f":"HLOOKUP(Nutzungen!$C86,Nutzungen!$E$2:$AM$72,Q$75-1)","v":0.92},{"$f":"HLOOKUP(Nutzungen!$C86,Nutzungen!$E$2:$AM$72,R$75-1)","v":0.25},{"$f":"HLOOKUP(Nutzungen!$C86,Nutzungen!$E$2:$AM$72,S$75-1)","v":2.5},{"$f":"HLOOKUP(Nutzungen!$C86,Nutzungen!$E$2:$AM$72,T$75-1)","v":0.7},{"$f":"HLOOKUP(Nutzungen!$C86,Nutzungen!$E$2:$AM$72,U$75-1)","v":0.67},{"$f":"HLOOKUP(Nutzungen!$C86,Nutzungen!$E$2:$AM$72,V$75-1)","v":0.8},{"$f":"HLOOKUP(Nutzungen!$C86,Nutzungen!$E$2:$AM$72,W$75-1)","v":0.84},{"$f":"HLOOKUP(Nutzungen!$C86,Nutzungen!$E$2:$AM$72,X$75-1)","v":0.9},{"$f":"HLOOKUP(Nutzungen!$C86,Nutzungen!$E$2:$AM$72,Y$75-1)","v":0},{"$f":"HLOOKUP(Nutzungen!$C86,Nutzungen!$E$2:$AM$72,Z$75-1)","v":"m. T."},{"$f":"HLOOKUP(Nutzungen!$C86,Nutzungen!$E$2:$AM$72,AA$75-1)","v":30},{"$f":"HLOOKUP(Nutzungen!$C86,Nutzungen!$E$2:$AM$72,AB$75-1)","v":0},{"$f":"HLOOKUP(Nutzungen!$C86,Nutzungen!$E$2:$AM$72,AC$75-1)","v":0},{"$f":"HLOOKUP(Nutzungen!$C86,Nutzungen!$E$2:$AM$72,AD$75-1)","v":420},{"$f":"HLOOKUP(Nutzungen!$C86,Nutzungen!$E$2:$AM$72,AE$75-1)","v":24},{"$f":"HLOOKUP(Nutzungen!$C86,Nutzungen!$E$2:$AM$72,AF$75-1)","v":528},{"$f":"HLOOKUP(Nutzungen!$C86,Nutzungen!$E$2:$AM$72,AG$75-1)","v":36},{"$f":"HLOOKUP(Nutzungen!$C86,Nutzungen!$E$2:$AM$72,AH$75-1)","v":0},{"$f":"HLOOKUP(Nutzungen!$C86,Nutzungen!$E$2:$AM$72,AI$75-1)","v":0},{"$f":"HLOOKUP(Nutzungen!$C86,Nutzungen!$E$2:$AM$72,AJ$75-1)","v":0},{"$f":"HLOOKUP(Nutzungen!$C86,Nutzungen!$E$2:$AM$72,AK$75-1)","v":21},{"$f":"HLOOKUP(Nutzungen!$C86,Nutzungen!$E$2:$AM$72,AL$75-1)","v":4},{"$f":"HLOOKUP(Nutzungen!$C86,Nutzungen!$E$2:$AM$72,AM$75-1)","v":24},{"$f":"HLOOKUP(Nutzungen!$C86,Nutzungen!$E$2:$AM$72,AN$75-1)","v":20},{"$f":"HLOOKUP(Nutzungen!$C86,Nutzungen!$E$2:$AM$72,AO$75-1)","v":26},{"$f":"HLOOKUP(Nutzungen!$C86,Nutzungen!$E$2:$AM$72,AP$75-1)","v":0},{"$f":"HLOOKUP(Nutzungen!$C86,Nutzungen!$E$2:$AM$72,AQ$75-1)","v":-12},{"$f":"HLOOKUP(Nutzungen!$C86,Nutzungen!$E$2:$AM$72,AR$75-1)","v":24.6},{"$f":"HLOOKUP(Nutzungen!$C86,Nutzungen!$E$2:$AM$72,AS$75-1)","v":18.899999999999999},{"$f":"HLOOKUP(Nutzungen!$C86,Nutzungen!$E$2:$AM$72,AT$75-1)","v":0.9},{"$f":"HLOOKUP(Nutzungen!$C86,Nutzungen!$E$2:$AM$72,AU$75-1)","v":0.9},{"$f":"HLOOKUP(Nutzungen!$C86,Nutzungen!$E$2:$AM$72,AV$75-1)","v":0},{"$f":"HLOOKUP(Nutzungen!$C86,Nutzungen!$E$2:$AM$72,AW$75-1)","v":"A5"},{"$f":"HLOOKUP(Nutzungen!$C86,Nutzungen!$E$2:$AM$72,AX$75-1)","v":0},{"$f":"HLOOKUP(Nutzungen!$C86,Nutzungen!$E$2:$AM$72,AY$75-1)","v":1},{"$f":"HLOOKUP(Nutzungen!$C86,Nutzungen!$E$2:$AM$72,AZ$75-1)","v":0},{"$f":"HLOOKUP(Nutzungen!$C86,Nutzungen!$E$2:$AM$72,BA$75-1)","v":4},{"$f":"HLOOKUP(Nutzungen!$C86,Nutzungen!$E$2:$AM$72,BB$75-1)","v":20},{"$f":"HLOOKUP(Nutzungen!$C86,Nutzungen!$E$2:$AM$72,BC$75-1)","v":10},{"$f":"HLOOKUP(Nutzungen!$C86,Nutzungen!$E$2:$AM$72,BD$75-1)","v":200},{"$f":"HLOOKUP(Nutzungen!$C86,Nutzungen!$E$2:$AM$72,BE$75-1)","v":800},{"$f":"HLOOKUP(Nutzungen!$C86,Nutzungen!$E$2:$AM$72,BF$75-1)","v":"C"},{"$f":"HLOOKUP(Nutzungen!$C86,Nutzungen!$E$2:$AM$72,BG$75-1)","v":0},{"$f":"HLOOKUP(Nutzungen!$C86,Nutzungen!$E$2:$AM$72,BH$75-1)","v":0.34313725490196068},{"$f":"HLOOKUP(Nutzungen!$C86,Nutzungen!$E$2:$AM$72,BI$75-1)","v":0.24509803921568626},{"$f":"HLOOKUP(Nutzungen!$C86,Nutzungen!$E$2:$AM$72,BJ$75-1)","v":0.22166666666666671},{"$f":"HLOOKUP(Nutzungen!$C86,Nutzungen!$E$2:$AM$72,BK$75-1)","v":0.22166666666666671},{"$f":"HLOOKUP(Nutzungen!$C86,Nutzungen!$E$2:$AM$72,BL$75-1)","v":22},0.14509803921568626,0,{"$f":"HLOOKUP(Nutzungen!$C86,Nutzungen!$E$2:$AM$72,BO$75-1)","v":2.5},{"$f":"HLOOKUP(Nutzungen!$C86,Nutzungen!$E$2:$AM$72,BP$75-1)","v":0.5},{"$f":"HLOOKUP(Nutzungen!$C86,Nutzungen!$E$2:$AM$72,BQ$75-1)","v":0.6},{"$f":"HLOOKUP(Nutzungen!$C86,Nutzungen!$E$2:$AM$72,BR$75-1)","v":30},{"$f":"HLOOKUP(Nutzungen!$C86,Nutzungen!$E$2:$AM$72,BS$75-1)","v":19},{"$f":"HLOOKUP(Nutzungen!$C86,Nutzungen!$E$2:$AM$72,BT$75-1)","v":10.75},{"$f":"HLOOKUP(Nutzungen!$C86,Nutzungen!$E$2:$AM$72,BU$75-1)","v":10.75}]
[9,"Bettenzimmer","10 Bettenzimmer",null,{"$f":"HLOOKUP(Nutzungen!$C87,Nutzungen!$E$2:$AM$72,E$75-1)","v":0},{"$f":"HLOOKUP(Nutzungen!$C87,Nutzungen!$E$2:$AM$72,F$75-1)","v":24},{"$f":"HLOOKUP(Nutzungen!$C87,Nutzungen!$E$2:$AM$72,G$75-1)","v":24},{"$f":"HLOOKUP(Nutzungen!$C87,Nutzungen!$E$2:$AM$72,H$75-1)","v":365},{"$f":"HLOOKUP(Nutzungen!$C87,Nutzungen!$E$2:$AM$72,I$75-1)","v":4407},{"$f":"HLOOKUP(Nutzungen!$C87,Nutzungen!$E$2:$AM$72,J$75-1)","v":4353},{"$f":"HLOOKUP(Nutzungen!$C87,Nutzungen!$E$2:$AM$72,K$75-1)","v":24},{"$f":"HLOOKUP(Nutzungen!$C87,Nutzungen!$E$2:$AM$72,L$75-1)","v":365},{"$f":"HLOOKUP(Nutzungen!$C87,Nutzungen!$E$2:$AM$72,M$75-1)","v":24},{"$f":"HLOOKUP(Nutzungen!$C87,Nutzungen!$E$2:$AM$72,N$75-1)","v":0},{"$f":"HLOOKUP(Nutzungen!$C87,Nutzungen!$E$2:$AM$72,O$75-1)","v":300},{"$f":"HLOOKUP(Nutzungen!$C87,Nutzungen!$E$2:$AM$72,P$75-1)","v":0.8},{"$f":"HLOOKUP(Nutzungen!$C87,Nutzungen!$E$2:$AM$72,Q$75-1)","v":1},{"$f":"HLOOKUP(Nutzungen!$C87,Nutzungen!$E$2:$AM$72,R$75-1)","v":0},{"$f":"HLOOKUP(Nutzungen!$C87,Nutzungen!$E$2:$AM$72,S$75-1)","v":1.5},{"$f":"HLOOKUP(Nutzungen!$C87,Nutzungen!$E$2:$AM$72,T$75-1)","v":0.5},{"$f":"HLOOKUP(Nutzungen!$C87,Nutzungen!$E$2:$AM$72,U$75-1)","v":0.67},{"$f":"HLOOKUP(Nutzungen!$C87,Nutzungen!$E$2:$AM$72,V$75-1)","v":0.8},{"$f":"HLOOKUP(Nutzungen!$C87,Nutzungen!$E$2:$AM$72,W$75-1)","v":0.84},{"$f":"HLOOKUP(Nutzungen!$C87,Nutzungen!$E$2:$AM$72,X$75-1)","v":0.9},{"$f":"HLOOKUP(Nutzungen!$C87,Nutzungen!$E$2:$AM$72,Y$75-1)","v":0},{"$f":"HLOOKUP(Nutzungen!$C87,Nutzungen!$E$2:$AM$72,Z$75-1)","v":"m. T."},{"$f":"HLOOKUP(Nutzungen!$C87,Nutzungen!$E$2:$AM$72,AA$75-1)","v":4},{"$f":"HLOOKUP(Nutzungen!$C87,Nutzungen!$E$2:$AM$72,AB$75-1)","v":0},{"$f":"HLOOKUP(Nutzungen!$C87,Nutzungen!$E$2:$AM$72,AC$75-1)","v":0},{"$f":"HLOOKUP(Nutzungen!$C87,Nutzungen!$E$2:$AM$72,AD$75-1)","v":108},{"$f":"HLOOKUP(Nutzungen!$C87,Nutzungen!$E$2:$AM$72,AE$75-1)","v":24},{"$f":"HLOOKUP(Nutzungen!$C87,Nutzungen!$E$2:$AM$72,AF$75-1)","v":144},{"$f":"HLOOKUP(Nutzungen!$C87,Nutzungen!$E$2:$AM$72,AG$75-1)","v":36},{"$f":"HLOOKUP(Nutzungen!$C87,Nutzungen!$E$2:$AM$72,AH$75-1)","v":0},{"$f":"HLOOKUP(Nutzungen!$C87,Nutzungen!$E$2:$AM$72,AI$75-1)","v":0},{"$f":"HLOOKUP(Nutzungen!$C87,Nutzungen!$E$2:$AM$72,AJ$75-1)","v":0},{"$f":"HLOOKUP(Nutzungen!$C87,Nutzungen!$E$2:$AM$72,AK$75-1)","v":21},{"$f":"HLOOKUP(Nutzungen!$C87,Nutzungen!$E$2:$AM$72,AL$75-1)","v":4},{"$f":"HLOOKUP(Nutzungen!$C87,Nutzungen!$E$2:$AM$72,AM$75-1)","v":24},{"$f":"HLOOKUP(Nutzungen!$C87,Nutzungen!$E$2:$AM$72,AN$75-1)","v":20},{"$f":"HLOOKUP(Nutzungen!$C87,Nutzungen!$E$2:$AM$72,AO$75-1)","v":26},{"$f":"HLOOKUP(Nutzungen!$C87,Nutzungen!$E$2:$AM$72,AP$75-1)","v":0},{"$f":"HLOOKUP(Nutzungen!$C87,Nutzungen!$E$2:$AM$72,AQ$75-1)","v":-12},{"$f":"HLOOKUP(Nutzungen!$C87,Nutzungen!$E$2:$AM$72,AR$75-1)","v":24.6},{"$f":"HLOOKUP(Nutzungen!$C87,Nutzungen!$E$2:$AM$72,AS$75-1)","v":18.899999999999999},{"$f":"HLOOKUP(Nutzungen!$C87,Nutzungen!$E$2:$AM$72,AT$75-1)","v":0.9},{"$f":"HLOOKUP(Nutzungen!$C87,Nutzungen!$E$2:$AM$72,AU$75-1)","v":0.9},{"$f":"HLOOKUP(Nutzungen!$C87,Nutzungen!$E$2:$AM$72,AV$75-1)","v":0},{"$f":"HLOOKUP(Nutzungen!$C87,Nutzungen!$E$2:$AM$72,AW$75-1)","v":"A6"},{"$f":"HLOOKUP(Nutzungen!$C87,Nutzungen!$E$2:$AM$72,AX$75-1)","v":0},{"$f":"HLOOKUP(Nutzungen!$C87,Nutzungen!$E$2:$AM$72,AY$75-1)","v":1},{"$f":"HLOOKUP(Nutzungen!$C87,Nutzungen!$E$2:$AM$72,AZ$75-1)","v":0},{"$f":"HLOOKUP(Nutzungen!$C87,Nutzungen!$E$2:$AM$72,BA$75-1)","v":2.5},{"$f":"HLOOKUP(Nutzungen!$C87,Nutzungen!$E$2:$AM$72,BB$75-1)","v":4},{"$f":"HLOOKUP(Nutzungen!$C87,Nutzungen!$E$2:$AM$72,BC$75-1)","v":4},{"$f":"HLOOKUP(Nutzungen!$C87,Nutzungen!$E$2:$AM$72,BD$75-1)","v":16},{"$f":"HLOOKUP(Nutzungen!$C87,Nutzungen!$E$2:$AM$72,BE$75-1)","v":40},{"$f":"HLOOKUP(Nutzungen!$C87,Nutzungen!$E$2:$AM$72,BF$75-1)","v":"B"},{"$f":"HLOOKUP(Nutzungen!$C87,Nutzungen!$E$2:$AM$72,BG$75-1)","v":0},{"$f":"HLOOKUP(Nutzungen!$C87,Nutzungen!$E$2:$AM$72,BH$75-1)","v":0.34313725490196068},{"$f":"HLOOKUP(Nutzungen!$C87,Nutzungen!$E$2:$AM$72,BI$75-1)","v":0.24509803921568626},{"$f":"HLOOKUP(Nutzungen!$C87,Nutzungen!$E$2:$AM$72,BJ$75-1)","v":0.22166666666666671},{"$f":"HLOOKUP(Nutzungen!$C87,Nutzungen!$E$2:$AM$72,BK$75-1)","v":0.22166666666666671},{"$f":"HLOOKUP(Nutzungen!$C87,Nutzungen!$E$2:$AM$72,BL$75-1)","v":23},0.24509803921568626,1,{"$f":"HLOOKUP(Nutzungen!$C87,Nutzungen!$E$2:$AM$72,BO$75-1)","v":2.5},{"$f":"HLOOKUP(Nutzungen!$C87,Nutzungen!$E$2:$AM$72,BP$75-1)","v":0},{"$f":"HLOOKUP(Nutzungen!$C87,Nutzungen!$E$2:$AM$72,BQ$75-1)","v":0.8},{"$f":"HLOOKUP(Nutzungen!$C87,Nutzungen!$E$2:$AM$72,BR$75-1)","v":4},{"$f":"HLOOKUP(Nutzungen!$C87,Nutzungen!$E$2:$AM$72,BS$75-1)","v":3.7},{"$f":"HLOOKUP(Nutzungen!$C87,Nutzungen!$E$2:$AM$72,BT$75-1)","v":3.7},{"$f":"HLOOKUP(Nutzungen!$C87,Nutzungen!$E$2:$AM$72,BU$75-1)","v":3.7}]
[10,"Hotelzimmer","11 Hotelzimmer",null,{"$f":"HLOOKUP(Nutzungen!$C88,Nutzungen!$E$2:$AM$72,E$75-1)","v":21},{"$f":"HLOOKUP(Nutzungen!$C88,Nutzungen!$E$2:$AM$72,F$75-1)","v":8},{"$f":"HLOOKUP(Nutzungen!$C88,Nutzungen!$E$2:$AM$72,G$75-1)","v":11},{"$f":"HLOOKUP(Nutzungen!$C88,Nutzungen!$E$2:$AM$72,H$75-1)","v":365},{"$f":"HLOOKUP(Nutzungen!$C88,Nutzungen!$E$2:$AM$72,I$75-1)","v":755},{"$f":"HLOOKUP(Nutzungen!$C88,Nutzungen!$E$2:$AM$72,J$75-1)","v":3260},{"$f":"HLOOKUP(Nutzungen!$C88,Nutzungen!$E$2:$AM$72,K$75-1)","v":24},{"$f":"HLOOKUP(Nutzungen!$C88,Nutzungen!$E$2:$AM$72,L$75-1)","v":365},{"$f":"HLOOKUP(Nutzungen!$C88,Nutzungen!$E$2:$AM$72,M$75-1)","v":24},{"$f":"HLOOKUP(Nutzungen!$C88,Nutzungen!$E$2:$AM$72,N$75-1)","v":0},{"$f":"HLOOKUP(Nutzungen!$C88,Nutzungen!$E$2:$AM$72,O$75-1)","v":200},{"$f":"HLOOKUP(Nutzungen!$C88,Nutzungen!$E$2:$AM$72,P$75-1)","v":0.8},{"$f":"HLOOKUP(Nutzungen!$C88,Nutzungen!$E$2:$AM$72,Q$75-1)","v":1},{"$f":"HLOOKUP(Nutzungen!$C88,Nutzungen!$E$2:$AM$72,R$75-1)","v":0.25},{"$f":"HLOOKUP(Nutzungen!$C88,Nutzungen!$E$2:$AM$72,S$75-1)","v":1.25},{"$f":"HLOOKUP(Nutzungen!$C88,Nutzungen!$E$2:$AM$72,T$75-1)","v":0.3},{"$f":"HLOOKUP(Nutzungen!$C88,Nutzungen!$E$2:$AM$72,U$75-1)","v":0.67},{"$f":"HLOOKUP(Nutzungen!$C88,Nutzungen!$E$2:$AM$72,V$75-1)","v":0.8},{"$f":"HLOOKUP(Nutzungen!$C88,Nutzungen!$E$2:$AM$72,W$75-1)","v":0.84},{"$f":"HLOOKUP(Nutzungen!$C88,Nutzungen!$E$2:$AM$72,X$75-1)","v":0.9},{"$f":"HLOOKUP(Nutzungen!$C88,Nutzungen!$E$2:$AM$72,Y$75-1)","v":0},{"$f":"HLOOKUP(Nutzungen!$C88,Nutzungen!$E$2:$AM$72,Z$75-1)","v":"m. T."},{"$f":"HLOOKUP(Nutzungen!$C88,Nutzungen!$E$2:$AM$72,AA$75-1)","v":3},{"$f":"HLOOKUP(Nutzungen!$C88,Nutzungen!$E$2:$AM$72,AB$75-1)","v":0},{"$f":"HLOOKUP(Nutzungen!$C88,Nutzungen!$E$2:$AM$72,AC$75-1)","v":0},{"$f":"HLOOKUP(Nutzungen!$C88,Nutzungen!$E$2:$AM$72,AD$75-1)","v":70},{"$f":"HLOOKUP(Nutzungen!$C88,Nutzungen!$E$2:$AM$72,AE$75-1)","v":44},{"$f":"HLOOKUP(Nutzungen!$C88,Nutzungen!$E$2:$AM$72,AF$75-1)","v":90},{"$f":"HLOOKUP(Nutzungen!$C88,Nutzungen!$E$2:$AM$72,AG$75-1)","v":66},{"$f":"HLOOKUP(Nutzungen!$C88,Nutzungen!$E$2:$AM$72,AH$75-1)","v":0},{"$f":"HLOOKUP(Nutzungen!$C88,Nutzungen!$E$2:$AM$72,AI$75-1)","v":0},{"$f":"HLOOKUP(Nutzungen!$C88,Nutzungen!$E$2:$AM$72,AJ$75-1)","v":0},{"$f":"HLOOKUP(Nutzungen!$C88,Nutzungen!$E$2:$AM$72,AK$75-1)","v":21},{"$f":"HLOOKUP(Nutzungen!$C88,Nutzungen!$E$2:$AM$72,AL$75-1)","v":4},{"$f":"HLOOKUP(Nutzungen!$C88,Nutzungen!$E$2:$AM$72,AM$75-1)","v":24},{"$f":"HLOOKUP(Nutzungen!$C88,Nutzungen!$E$2:$AM$72,AN$75-1)","v":20},{"$f":"HLOOKUP(Nutzungen!$C88,Nutzungen!$E$2:$AM$72,AO$75-1)","v":26},{"$f":"HLOOKUP(Nutzungen!$C88,Nutzungen!$E$2:$AM$72,AP$75-1)","v":0},{"$f":"HLOOKUP(Nutzungen!$C88,Nutzungen!$E$2:$AM$72,AQ$75-1)","v":-12},{"$f":"HLOOKUP(Nutzungen!$C88,Nutzungen!$E$2:$AM$72,AR$75-1)","v":24.6},{"$f":"HLOOKUP(Nutzungen!$C88,Nutzungen!$E$2:$AM$72,AS$75-1)","v":18.899999999999999},{"$f":"HLOOKUP(Nutzungen!$C88,Nutzungen!$E$2:$AM$72,AT$75-1)","v":0.9},{"$f":"HLOOKUP(Nutzungen!$C88,Nutzungen!$E$2:$AM$72,AU$75-1)","v":0.9},{"$f":"HLOOKUP(Nutzungen!$C88,Nutzungen!$E$2:$AM$72,AV$75-1)","v":0},{"$f":"HLOOKUP(Nutzungen!$C88,Nutzungen!$E$2:$AM$72,AW$75-1)","v":"A7"},{"$f":"HLOOKUP(Nutzungen!$C88,Nutzungen!$E$2:$AM$72,AX$75-1)","v":0},{"$f":"HLOOKUP(Nutzungen!$C88,Nutzungen!$E$2:$AM$72,AY$75-1)","v":2},{"$f":"HLOOKUP(Nutzungen!$C88,Nutzungen!$E$2:$AM$72,AZ$75-1)","v":0},{"$f":"HLOOKUP(Nutzungen!$C88,Nutzungen!$E$2:$AM$72,BA$75-1)","v":2.5},{"$f":"HLOOKUP(Nutzungen!$C88,Nutzungen!$E$2:$AM$72,BB$75-1)","v":4},{"$f":"HLOOKUP(Nutzungen!$C88,Nutzungen!$E$2:$AM$72,BC$75-1)","v":4},{"$f":"HLOOKUP(Nutzungen!$C88,Nutzungen!$E$2:$AM$72,BD$75-1)","v":16},{"$f":"HLOOKUP(Nutzungen!$C88,Nutzungen!$E$2:$AM$72,BE$75-1)","v":40},{"$f":"HLOOKUP(Nutzungen!$C88,Nutzungen!$E$2:$AM$72,BF$75-1)","v":"B"},{"$f":"HLOOKUP(Nutzungen!$C88,Nutzungen!$E$2:$AM$72,BG$75-1)","v":0},{"$f":"HLOOKUP(Nutzungen!$C88,Nutzungen!$E$2:$AM$72,BH$75-1)","v":0.34313725490196068},{"$f":"HLOOKUP(Nutzungen!$C88,Nutzungen!$E$2:$AM$72,BI$75-1)","v":0.24509803921568626},{"$f":"HLOOKUP(Nutzungen!$C88,Nutzungen!$E$2:$AM$72,BJ$75-1)","v":0.22166666666666671},{"$f":"HLOOKUP(Nutzungen!$C88,Nutzungen!$E$2:$AM$72,BK$75-1)","v":0.22166666666666671},{"$f":"HLOOKUP(Nutzungen!$C88,Nutzungen!$E$2:$AM$72,BL$75-1)","v":22},0.24509803921568626,1,{"$f":"HLOOKUP(Nutzungen!$C88,Nutzungen!$E$2:$AM$72,BO$75-1)","v":2},{"$f":"HLOOKUP(Nutzungen!$C88,Nutzungen!$E$2:$AM$72,BP$75-1)","v":0.5},{"$f":"HLOOKUP(Nutzungen!$C88,Nutzungen!$E$2:$AM$72,BQ$75-1)","v":0.5},{"$f":"HLOOKUP(Nutzungen!$C88,Nutzungen!$E$2:$AM$72,BR$75-1)","v":3},{"$f":"HLOOKUP(Nutzungen!$C88,Nutzungen!$E$2:$AM$72,BS$75-1)","v":2.5},{"$f":"HLOOKUP(Nutzungen!$C88,Nutzungen!$E$2:$AM$72,BT$75-1)","v":2.25},{"$f":"HLOOKUP(Nutzungen!$C88,Nutzungen!$E$2:$AM$72,BU$75-1)","v":2.25}]
[11,"Kantine (Essbereich)","12 Kantine",null,{"$f":"HLOOKUP(Nutzungen!$C89,Nutzungen!$E$2:$AM$72,E$75-1)","v":8},{"$f":"HLOOKUP(Nutzungen!$C89,Nutzungen!$E$2:$AM$72,F$75-1)","v":15},{"$f":"HLOOKUP(Nutzungen!$C89,Nutzungen!$E$2:$AM$72,G$75-1)","v":7},{"$f":"HLOOKUP(Nutzungen!$C89,Nutzungen!$E$2:$AM$72,H$75-1)","v":250},{"$f":"HLOOKUP(Nutzungen!$C89,Nutzungen!$E$2:$AM$72,I$75-1)","v":1748},{"$f":"HLOOKUP(Nutzungen!$C89,Nutzungen!$E$2:$AM$72,J$75-1)","v":2},{"$f":"HLOOKUP(Nutzungen!$C89,Nutzungen!$E$2:$AM$72,K$75-1)","v":9},{"$f":"HLOOKUP(Nutzungen!$C89,Nutzungen!$E$2:$AM$72,L$75-1)","v":250},{"$f":"HLOOKUP(Nutzungen!$C89,Nutzungen!$E$2:$AM$72,M$75-1)","v":9},{"$f":"HLOOKUP(Nutzungen!$C89,Nutzungen!$E$2:$AM$72,N$75-1)","v":0},{"$f":"HLOOKUP(Nutzungen!$C89,Nutzungen!$E$2:$AM$72,O$75-1)","v":200},{"$f":"HLOOKUP(Nutzungen!$C89,Nutzungen!$E$2:$AM$72,P$75-1)","v":0.8},{"$f":"HLOOKUP(Nutzungen!$C89,Nutzungen!$E$2:$AM$72,Q$75-1)","v":0.97},{"$f":"HLOOKUP(Nutzungen!$C89,Nutzungen!$E$2:$AM$72,R$75-1)","v":0},{"$f":"HLOOKUP(Nutzungen!$C89,Nutzungen!$E$2:$AM$72,S$75-1)","v":2.5},{"$f":"HLOOKUP(Nutzungen!$C89,Nutzungen!$E$2:$AM$72,T$75-1)","v":1},{"$f":"HLOOKUP(Nutzungen!$C89,Nutzungen!$E$2:$AM$72,U$75-1)","v":0.67},{"$f":"HLOOKUP(Nutzungen!$C89,Nutzungen!$E$2:$AM$72,V$75-1)","v":0.8},{"$f":"HLOOKUP(Nutzungen!$C89,Nutzungen!$E$2:$AM$72,W$75-1)","v":0.84},{"$f":"HLOOKUP(Nutzungen!$C89,Nutzungen!$E$2:$AM$72,X$75-1)","v":0.9},{"$f":"HLOOKUP(Nutzungen!$C89,Nutzungen!$E$2:$AM$72,Y$75-1)","v":0},{"$f":"HLOOKUP(Nutzungen!$C89,Nutzungen!$E$2:$AM$72,Z$75-1)","v":"m. T."},{"$f":"HLOOKUP(Nutzungen!$C89,Nutzungen!$E$2:$AM$72,AA$75-1)","v":18},{"$f":"HLOOKUP(Nutzungen!$C89,Nutzungen!$E$2:$AM$72,AB$75-1)","v":0},{"$f":"HLOOKUP(Nutzungen!$C89,Nutzungen!$E$2:$AM$72,AC$75-1)","v":0},{"$f":"HLOOKUP(Nutzungen!$C89,Nutzungen!$E$2:$AM$72,AD$75-1)","v":177},{"$f":"HLOOKUP(Nutzungen!$C89,Nutzungen!$E$2:$AM$72,AE$75-1)","v":10},{"$f":"HLOOKUP(Nutzungen!$C89,Nutzungen!$E$2:$AM$72,AF$75-1)","v":264},{"$f":"HLOOKUP(Nutzungen!$C89,Nutzungen!$E$2:$AM$72,AG$75-1)","v":15},{"$f":"HLOOKUP(Nutzungen!$C89,Nutzungen!$E$2:$AM$72,AH$75-1)","v":0},{"$f":"HLOOKUP(Nutzungen!$C89,Nutzungen!$E$2:$AM$72,AI$75-1)","v":0},{"$f":"HLOOKUP(Nutzungen!$C89,Nutzungen!$E$2:$AM$72,AJ$75-1)","v":0},{"$f":"HLOOKUP(Nutzungen!$C89,Nutzungen!$E$2:$AM$72,AK$75-1)","v":21},{"$f":"HLOOKUP(Nutzungen!$C89,Nutzungen!$E$2:$AM$72,AL$75-1)","v":4},{"$f":"HLOOKUP(Nutzungen!$C89,Nutzungen!$E$2:$AM$72,AM$75-1)","v":24},{"$f":"HLOOKUP(Nutzungen!$C89,Nutzungen!$E$2:$AM$72,AN$75-1)","v":20},{"$f":"HLOOKUP(Nutzungen!$C89,Nutzungen!$E$2:$AM$72,AO$75-1)","v":26},{"$f":"HLOOKUP(Nutzungen!$C89,Nutzungen!$E$2:$AM$72,AP$75-1)","v":0},{"$f":"HLOOKUP(Nutzungen!$C89,Nutzungen!$E$2:$AM$72,AQ$75-1)","v":-12},{"$f":"HLOOKUP(Nutzungen!$C89,Nutzungen!$E$2:$AM$72,AR$75-1)","v":24.6},{"$f":"HLOOKUP(Nutzungen!$C89,Nutzungen!$E$2:$AM$72,AS$75-1)","v":18.899999999999999},{"$f":"HLOOKUP(Nutzungen!$C89,Nutzungen!$E$2:$AM$72,AT$75-1)","v":0.9},{"$f":"HLOOKUP(Nutzungen!$C89,Nutzungen!$E$2:$AM$72,AU$75-1)","v":0.9},{"$f":"HLOOKUP(Nutzungen!$C89,Nutzungen!$E$2:$AM$72,AV$75-1)","v":0},{"$f":"HLOOKUP(Nutzungen!$C89,Nutzungen!$E$2:$AM$72,AW$75-1)","v":"A8"},{"$f":"HLOOKUP(Nutzungen!$C89,Nutzungen!$E$2:$AM$72,AX$75-1)","v":0},{"$f":"HLOOKUP(Nutzungen!$C89,Nutzungen!$E$2:$AM$72,AY$75-1)","v":1},{"$f":"HLOOKUP(Nutzungen!$C89,Nutzungen!$E$2:$AM$72,AZ$75-1)","v":0},{"$f":"HLOOKUP(Nutzungen!$C89,Nutzungen!$E$2:$AM$72,BA$75-1)","v":3},{"$f":"HLOOKUP(Nutzungen!$C89,Nutzungen!$E$2:$AM$72,BB$75-1)","v":20},{"$f":"HLOOKUP(Nutzungen!$C89,Nutzungen!$E$2:$AM$72,BC$75-1)","v":20},{"$f":"HLOOKUP(Nutzungen!$C89,Nutzungen!$E$2:$AM$72,BD$75-1)","v":400},{"$f":"HLOOKUP(Nutzungen!$C89,Nutzungen!$E$2:$AM$72,BE$75-1)","v":1200},{"$f":"HLOOKUP(Nutzungen!$C89,Nutzungen!$E$2:$AM$72,BF$75-1)","v":"A"},{"$f":"HLOOKUP(Nutzungen!$C89,Nutzungen!$E$2:$AM$72,BG$75-1)","v":0},{"$f":"HLOOKUP(Nutzungen!$C89,Nutzungen!$E$2:$AM$72,BH$75-1)","v":0.34313725490196068},{"$f":"HLOOKUP(Nutzungen!$C89,Nutzungen!$E$2:$AM$72,BI$75-1)","v":0.24509803921568626},{"$f":"HLOOKUP(Nutzungen!$C89,Nutzungen!$E$2:$AM$72,BJ$75-1)","v":0.22166666666666671},{"$f":"HLOOKUP(Nutzungen!$C89,Nutzungen!$E$2:$AM$72,BK$75-1)","v":0.22166666666666671},{"$f":"HLOOKUP(Nutzungen!$C89,Nutzungen!$E$2:$AM$72,BL$75-1)","v":21},0.34509803921568627,1,{"$f":"HLOOKUP(Nutzungen!$C89,Nutzungen!$E$2:$AM$72,BO$75-1)","v":2.5},{"$f":"HLOOKUP(Nutzungen!$C89,Nutzungen!$E$2:$AM$72,BP$75-1)","v":0.7},{"$f":"HLOOKUP(Nutzungen!$C89,Nutzungen!$E$2:$AM$72,BQ$75-1)","v":1},{"$f":"HLOOKUP(Nutzungen!$C89,Nutzungen!$E$2:$AM$72,BR$75-1)","v":18},{"$f":"HLOOKUP(Nutzungen!$C89,Nutzungen!$E$2:$AM$72,BS$75-1)","v":18},{"$f":"HLOOKUP(Nutzungen!$C89,Nutzungen!$E$2:$AM$72,BT$75-1)","v":7.15},{"$f":"HLOOKUP(Nutzungen!$C89,Nutzungen!$E$2:$AM$72,BU$75-1)","v":7.15}]
[12,"Restaurant (Essbereich)","13 Restaurant",null,{"$f":"HLOOKUP(Nutzungen!$C90,Nutzungen!$E$2:$AM$72,E$75-1)","v":10},{"$f":"HLOOKUP(Nutzungen!$C90,Nutzungen!$E$2:$AM$72,F$75-1)","v":0},{"$f":"HLOOKUP(Nutzungen!$C90,Nutzungen!$E$2:$AM$72,G$75-1)","v":14},{"$f":"HLOOKUP(Nutzungen!$C90,Nutzungen!$E$2:$AM$72,H$75-1)","v":300},{"$f":"HLOOKUP(Nutzungen!$C90,Nutzungen!$E$2:$AM$72,I$75-1)","v":2404},{"$f":"HLOOKUP(Nutzungen!$C90,Nutzungen!$E$2:$AM$72,J$75-1)","v":1796},{"$f":"HLOOKUP(Nutzungen!$C90,Nutzungen!$E$2:$AM$72,K$75-1)","v":16},{"$f":"HLOOKUP(Nutzungen!$C90,Nutzungen!$E$2:$AM$72,L$75-1)","v":300},{"$f":"HLOOKUP(Nutzungen!$C90,Nutzungen!$E$2:$AM$72,M$75-1)","v":16},{"$f":"HLOOKUP(Nutzungen!$C90,Nutzungen!$E$2:$AM$72,N$75-1)","v":0},{"$f":"HLOOKUP(Nutzungen!$C90,Nutzungen!$E$2:$AM$72,O$75-1)","v":200},{"$f":"HLOOKUP(Nutzungen!$C90,Nutzungen!$E$2:$AM$72,P$75-1)","v":0.8},{"$f":"HLOOKUP(Nutzungen!$C90,Nutzungen!$E$2:$AM$72,Q$75-1)","v":1},{"$f":"HLOOKUP(Nutzungen!$C90,Nutzungen!$E$2:$AM$72,R$75-1)","v":0},{"$f":"HLOOKUP(Nutzungen!$C90,Nutzungen!$E$2:$AM$72,S$75-1)","v":2.5},{"$f":"HLOOKUP(Nutzungen!$C90,Nutzungen!$E$2:$AM$72,T$75-1)","v":1},{"$f":"HLOOKUP(Nutzungen!$C90,Nutzungen!$E$2:$AM$72,U$75-1)","v":0.67},{"$f":"HLOOKUP(Nutzungen!$C90,Nutzungen!$E$2:$AM$72,V$75-1)","v":0.8},{"$f":"HLOOKUP(Nutzungen!$C90,Nutzungen!$E$2:$AM$72,W$75-1)","v":0.84},{"$f":"HLOOKUP(Nutzungen!$C90,Nutzungen!$E$2:$AM$72,X$75-1)","v":0.9},{"$f":"HLOOKUP(Nutzungen!$C90,Nutzungen!$E$2:$AM$72,Y$75-1)","v":0},{"$f":"HLOOKUP(Nutzungen!$C90,Nutzungen!$E$2:$AM$72,Z$75-1)","v":"m. T."},{"$f":"HLOOKUP(Nutzungen!$C90,Nutzungen!$E$2:$AM$72,AA$75-1)","v":18},{"$f":"HLOOKUP(Nutzungen!$C90,Nutzungen!$E$2:$AM$72,AB$75-1)","v":0},{"$f":"HLOOKUP(Nutzungen!$C90,Nutzungen!$E$2:$AM$72,AC$75-1)","v":0},{"$f":"HLOOKUP(Nutzungen!$C90,Nutzungen!$E$2:$AM$72,AD$75-1)","v":236},{"$f":"HLOOKUP(Nutzungen!$C90,Nutzungen!$E$2:$AM$72,AE$75-1)","v":14},{"$f":"HLOOKUP(Nutzungen!$C90,Nutzungen!$E$2:$AM$72,AF$75-1)","v":352},{"$f":"HLOOKUP(Nutzungen!$C90,Nutzungen!$E$2:$AM$72,AG$75-1)","v":21},{"$f":"HLOOKUP(Nutzungen!$C90,Nutzungen!$E$2:$AM$72,AH$75-1)","v":0},{"$f":"HLOOKUP(Nutzungen!$C90,Nutzungen!$E$2:$AM$72,AI$75-1)","v":0},{"$f":"HLOOKUP(Nutzungen!$C90,Nutzungen!$E$2:$AM$72,AJ$75-1)","v":0},{"$f":"HLOOKUP(Nutzungen!$C90,Nutzungen!$E$2:$AM$72,AK$75-1)","v":21},{"$f":"HLOOKUP(Nutzungen!$C90,Nutzungen!$E$2:$AM$72,AL$75-1)","v":4},{"$f":"HLOOKUP(Nutzungen!$C90,Nutzungen!$E$2:$AM$72,AM$75-1)","v":24},{"$f":"HLOOKUP(Nutzungen!$C90,Nutzungen!$E$2:$AM$72,AN$75-1)","v":20},{"$f":"HLOOKUP(Nutzungen!$C90,Nutzungen!$E$2:$AM$72,AO$75-1)","v":26},{"$f":"HLOOKUP(Nutzungen!$C90,Nutzungen!$E$2:$AM$72,AP$75-1)","v":0},{"$f":"HLOOKUP(Nutzungen!$C90,Nutzungen!$E$2:$AM$72,AQ$75-1)","v":-12},{"$f":"HLOOKUP(Nutzungen!$C90,Nutzungen!$E$2:$AM$72,AR$75-1)","v":24.6},{"$f":"HLOOKUP(Nutzungen!$C90,Nutzungen!$E$2:$AM$72,AS$75-1)","v":18.899999999999999},{"$f":"HLOOKUP(Nutzungen!$C90,Nutzungen!$E$2:$AM$72,AT$75-1)","v":0.9},{"$f":"HLOOKUP(Nutzungen!$C90,Nutzungen!$E$2:$AM$72,AU$75-1)","v":0.9},{"$f":"HLOOKUP(Nutzungen!$C90,Nutzungen!$E$2:$AM$72,AV$75-1)","v":0},{"$f":"HLOOKUP(Nutzungen!$C90,Nutzungen!$E$2:$AM$72,AW$75-1)","v":"A9"},{"$f":"HLOOKUP(Nutzungen!$C90,Nutzungen!$E$2:$AM$72,AX$75-1)","v":0},{"$f":"HLOOKUP(Nutzungen!$C90,Nutzungen!$E$2:$AM$72,AY$75-1)","v":1},{"$f":"HLOOKUP(Nutzungen!$C90,Nutzungen!$E$2:$AM$72,AZ$75-1)","v":0},{"$f":"HLOOKUP(Nutzungen!$C90,Nutzungen!$E$2:$AM$72,BA$75-1)","v":3},{"$f":"HLOOKUP(Nutzungen!$C90,Nutzungen!$E$2:$AM$72,BB$75-1)","v":12},{"$f":"HLOOKUP(Nutzungen!$C90,Nutzungen!$E$2:$AM$72,BC$75-1)","v":12},{"$f":"HLOOKUP(Nutzungen!$C90,Nutzungen!$E$2:$AM$72,BD$75-1)","v":144},{"$f":"HLOOKUP(Nutzungen!$C90,Nutzungen!$E$2:$AM$72,BE$75-1)","v":432},{"$f":"HLOOKUP(Nutzungen!$C90,Nutzungen!$E$2:$AM$72,BF$75-1)","v":"B"},{"$f":"HLOOKUP(Nutzungen!$C90,Nutzungen!$E$2:$AM$72,BG$75-1)","v":0},{"$f":"HLOOKUP(Nutzungen!$C90,Nutzungen!$E$2:$AM$72,BH$75-1)","v":0.34313725490196068},{"$f":"HLOOKUP(Nutzungen!$C90,Nutzungen!$E$2:$AM$72,BI$75-1)","v":0.24509803921568626},{"$f":"HLOOKUP(Nutzungen!$C90,Nutzungen!$E$2:$AM$72,BJ$75-1)","v":0.22166666666666671},{"$f":"HLOOKUP(Nutzungen!$C90,Nutzungen!$E$2:$AM$72,BK$75-1)","v":0.22166666666666671},{"$f":"HLOOKUP(Nutzungen!$C90,Nutzungen!$E$2:$AM$72,BL$75-1)","v":22},0.24509803921568626,1,{"$f":"HLOOKUP(Nutzungen!$C90,Nutzungen!$E$2:$AM$72,BO$75-1)","v":2.5},{"$f":"HLOOKUP(Nutzungen!$C90,Nutzungen!$E$2:$AM$72,BP$75-1)","v":0.6},{"$f":"HLOOKUP(Nutzungen!$C90,Nutzungen!$E$2:$AM$72,BQ$75-1)","v":0.7},{"$f":"HLOOKUP(Nutzungen!$C90,Nutzungen!$E$2:$AM$72,BR$75-1)","v":18},{"$f":"HLOOKUP(Nutzungen!$C90,Nutzungen!$E$2:$AM$72,BS$75-1)","v":13.35},{"$f":"HLOOKUP(Nutzungen!$C90,Nutzungen!$E$2:$AM$72,BT$75-1)","v":6.84},{"$f":"HLOOKUP(Nutzungen!$C90,Nutzungen!$E$2:$AM$72,BU$75-1)","v":6.84}]
[13,"Gewerbeküchen","14 Küche",null,{"$f":"HLOOKUP(Nutzungen!$C91,Nutzungen!$E$2:$AM$72,E$75-1)","v":10},{"$f":"HLOOKUP(Nutzungen!$C91,Nutzungen!$E$2:$AM$72,F$75-1)","v":23},{"$f":"HLOOKUP(Nutzungen!$C91,Nutzungen!$E$2:$AM$72,G$75-1)","v":13},{"$f":"HLOOKUP(Nutzungen!$C91,Nutzungen!$E$2:$AM$72,H$75-1)","v":300},{"$f":"HLOOKUP(Nutzungen!$C91,Nutzungen!$E$2:$AM$72,I$75-1)","v":2404},{"$f":"HLOOKUP(Nutzungen!$C91,Nutzungen!$E$2:$AM$72,J$75-1)","v":1496},{"$f":"HLOOKUP(Nutzungen!$C91,Nutzungen!$E$2:$AM$72,K$75-1)","v":15},{"$f":"HLOOKUP(Nutzungen!$C91,Nutzungen!$E$2:$AM$72,L$75-1)","v":300},{"$f":"HLOOKUP(Nutzungen!$C91,Nutzungen!$E$2:$AM$72,M$75-1)","v":15},{"$f":"HLOOKUP(Nutzungen!$C91,Nutzungen!$E$2:$AM$72,N$75-1)","v":0},{"$f":"HLOOKUP(Nutzungen!$C91,Nutzungen!$E$2:$AM$72,O$75-1)","v":500},{"$f":"HLOOKUP(Nutzungen!$C91,Nutzungen!$E$2:$AM$72,P$75-1)","v":0.8},{"$f":"HLOOKUP(Nutzungen!$C91,Nutzungen!$E$2:$AM$72,Q$75-1)","v":0.96},{"$f":"HLOOKUP(Nutzungen!$C91,Nutzungen!$E$2:$AM$72,R$75-1)","v":0},{"$f":"HLOOKUP(Nutzungen!$C91,Nutzungen!$E$2:$AM$72,S$75-1)","v":1.5},{"$f":"HLOOKUP(Nutzungen!$C91,Nutzungen!$E$2:$AM$72,T$75-1)","v":1},{"$f":"HLOOKUP(Nutzungen!$C91,Nutzungen!$E$2:$AM$72,U$75-1)","v":0.67},{"$f":"HLOOKUP(Nutzungen!$C91,Nutzungen!$E$2:$AM$72,V$75-1)","v":0.6},{"$f":"HLOOKUP(Nutzungen!$C91,Nutzungen!$E$2:$AM$72,W$75-1)","v":1.1200000000000001},{"$f":"HLOOKUP(Nutzungen!$C91,Nutzungen!$E$2:$AM$72,X$75-1)","v":0.8},{"$f":"HLOOKUP(Nutzungen!$C91,Nutzungen!$E$2:$AM$72,Y$75-1)","v":0},{"$f":"HLOOKUP(Nutzungen!$C91,Nutzungen!$E$2:$AM$72,Z$75-1)","v":"m. T."},{"$f":"HLOOKUP(Nutzungen!$C91,Nutzungen!$E$2:$AM$72,AA$75-1)","v":90},{"$f":"HLOOKUP(Nutzungen!$C91,Nutzungen!$E$2:$AM$72,AB$75-1)","v":0},{"$f":"HLOOKUP(Nutzungen!$C91,Nutzungen!$E$2:$AM$72,AC$75-1)","v":0},{"$f":"HLOOKUP(Nutzungen!$C91,Nutzungen!$E$2:$AM$72,AD$75-1)","v":56},{"$f":"HLOOKUP(Nutzungen!$C91,Nutzungen!$E$2:$AM$72,AE$75-1)","v":1800},{"$f":"HLOOKUP(Nutzungen!$C91,Nutzungen!$E$2:$AM$72,AF$75-1)","v":56},{"$f":"HLOOKUP(Nutzungen!$C91,Nutzungen!$E$2:$AM$72,AG$75-1)","v":2400},{"$f":"HLOOKUP(Nutzungen!$C91,Nutzungen!$E$2:$AM$72,AH$75-1)","v":0},{"$f":"HLOOKUP(Nutzungen!$C91,Nutzungen!$E$2:$AM$72,AI$75-1)","v":0},{"$f":"HLOOKUP(Nutzungen!$C91,Nutzungen!$E$2:$AM$72,AJ$75-1)","v":0},{"$f":"HLOOKUP(Nutzungen!$C91,Nutzungen!$E$2:$AM$72,AK$75-1)","v":21},{"$f":"HLOOKUP(Nutzungen!$C91,Nutzungen!$E$2:$AM$72,AL$75-1)","v":4},{"$f":"HLOOKUP(Nutzungen!$C91,Nutzungen!$E$2:$AM$72,AM$75-1)","v":24},{"$f":"HLOOKUP(Nutzungen!$C91,Nutzungen!$E$2:$AM$72,AN$75-1)","v":20},{"$f":"HLOOKUP(Nutzungen!$C91,Nutzungen!$E$2:$AM$72,AO$75-1)","v":26},{"$f":"HLOOKUP(Nutzungen!$C91,Nutzungen!$E$2:$AM$72,AP$75-1)","v":0},{"$f":"HLOOKUP(Nutzungen!$C91,Nutzungen!$E$2:$AM$72,AQ$75-1)","v":-12},{"$f":"HLOOKUP(Nutzungen!$C91,Nutzungen!$E$2:$AM$72,AR$75-1)","v":24.6},{"$f":"HLOOKUP(Nutzungen!$C91,Nutzungen!$E$2:$AM$72,AS$75-1)","v":18.899999999999999},{"$f":"HLOOKUP(Nutzungen!$C91,Nutzungen!$E$2:$AM$72,AT$75-1)","v":0.9},{"$f":"HLOOKUP(Nutzungen!$C91,Nutzungen!$E$2:$AM$72,AU$75-1)","v":0.9},{"$f":"HLOOKUP(Nutzungen!$C91,Nutzungen!$E$2:$AM$72,AV$75-1)","v":0},{"$f":"HLOOKUP(Nutzungen!$C91,Nutzungen!$E$2:$AM$72,AW$75-1)","v":"A9"},{"$f":"HLOOKUP(Nutzungen!$C91,Nutzungen!$E$2:$AM$72,AX$75-1)","v":0},{"$f":"HLOOKUP(Nutzungen!$C91,Nutzungen!$E$2:$AM$72,AY$75-1)","v":1},{"$f":"HLOOKUP(Nutzungen!$C91,Nutzungen!$E$2:$AM$72,AZ$75-1)","v":0},{"$f":"HLOOKUP(Nutzungen!$C91,Nutzungen!$E$2:$AM$72,BA$75-1)","v":3},{"$f":"HLOOKUP(Nutzungen!$C91,Nutzungen!$E$2:$AM$72,BB$75-1)","v":6},{"$f":"HLOOKUP(Nutzungen!$C91,Nutzungen!$E$2:$AM$72,BC$75-1)","v":6},{"$f":"HLOOKUP(Nutzungen!$C91,Nutzungen!$E$2:$AM$72,BD$75-1)","v":36},{"$f":"HLOOKUP(Nutzungen!$C91,Nutzungen!$E$2:$AM$72,BE$75-1)","v":108},{"$f":"HLOOKUP(Nutzungen!$C91,Nutzungen!$E$2:$AM$72,BF$75-1)","v":"D"},{"$f":"HLOOKUP(Nutzungen!$C91,Nutzungen!$E$2:$AM$72,BG$75-1)","v":0},{"$f":"HLOOKUP(Nutzungen!$C91,Nutzungen!$E$2:$AM$72,BH$75-1)","v":0.34313725490196068},{"$f":"HLOOKUP(Nutzungen!$C91,Nutzungen!$E$2:$AM$72,BI$75-1)","v":0.24509803921568626},{"$f":"HLOOKUP(Nutzungen!$C91,Nutzungen!$E$2:$AM$72,BJ$75-1)","v":0.22166666666666671},{"$f":"HLOOKUP(Nutzungen!$C91,Nutzungen!$E$2:$AM$72,BK$75-1)","v":0.22166666666666671},{"$f":"HLOOKUP(Nutzungen!$C91,Nutzungen!$E$2:$AM$72,BL$75-1)","v":18},0,0,{"$f":"HLOOKUP(Nutzungen!$C91,Nutzungen!$E$2:$AM$72,BO$75-1)","v":0},{"$f":"HLOOKUP(Nutzungen!$C91,Nutzungen!$E$2:$AM$72,BP$75-1)","v":0},{"$f":"HLOOKUP(Nutzungen!$C91,Nutzungen!$E$2:$AM$72,BQ$75-1)","v":0},{"$f":"HLOOKUP(Nutzungen!$C91,Nutzungen!$E$2:$AM$72,BR$75-1)","v":90},{"$f":"HLOOKUP(Nutzungen!$C91,Nutzungen!$E$2:$AM$72,BS$75-1)","v":90},{"$f":"HLOOKUP(Nutzungen!$C91,Nutzungen!$E$2:$AM$72,BT$75-1)","v":90},{"$f":"HLOOKUP(Nutzungen!$C91,Nutzungen!$E$2:$AM$72,BU$75-1)","v":90}]
[14,"Gewerbeküche - Vorbereitung, Lager","15 Küche Lager, Vorbereit.",null,{"$f":"HLOOKUP(Nutzungen!$C92,Nutzungen!$E$2:$AM$72,E$75-1)","v":10},{"$f":"HLOOKUP(Nutzungen!$C92,Nutzungen!$E$2:$AM$72,F$75-1)","v":23},{"$f":"HLOOKUP(Nutzungen!$C92,Nutzungen!$E$2:$AM$72,G$75-1)","v":13},{"$f":"HLOOKUP(Nutzungen!$C92,Nutzungen!$E$2:$AM$72,H$75-1)","v":300},{"$f":"HLOOKUP(Nutzungen!$C92,Nutzungen!$E$2:$AM$72,I$75-1)","v":2404},{"$f":"HLOOKUP(Nutzungen!$C92,Nutzungen!$E$2:$AM$72,J$75-1)","v":1496},{"$f":"HLOOKUP(Nutzungen!$C92,Nutzungen!$E$2:$AM$72,K$75-1)","v":15},{"$f":"HLOOKUP(Nutzungen!$C92,Nutzungen!$E$2:$AM$72,L$75-1)","v":300},{"$f":"HLOOKUP(Nutzungen!$C92,Nutzungen!$E$2:$AM$72,M$75-1)","v":15},{"$f":"HLOOKUP(Nutzungen!$C92,Nutzungen!$E$2:$AM$72,N$75-1)","v":0},{"$f":"HLOOKUP(Nutzungen!$C92,Nutzungen!$E$2:$AM$72,O$75-1)","v":300},{"$f":"HLOOKUP(Nutzungen!$C92,Nutzungen!$E$2:$AM$72,P$75-1)","v":0.8},{"$f":"HLOOKUP(Nutzungen!$C92,Nutzungen!$E$2:$AM$72,Q$75-1)","v":1},{"$f":"HLOOKUP(Nutzungen!$C92,Nutzungen!$E$2:$AM$72,R$75-1)","v":0.5},{"$f":"HLOOKUP(Nutzungen!$C92,Nutzungen!$E$2:$AM$72,S$75-1)","v":1.5},{"$f":"HLOOKUP(Nutzungen!$C92,Nutzungen!$E$2:$AM$72,T$75-1)","v":1},{"$f":"HLOOKUP(Nutzungen!$C92,Nutzungen!$E$2:$AM$72,U$75-1)","v":0.67},{"$f":"HLOOKUP(Nutzungen!$C92,Nutzungen!$E$2:$AM$72,V$75-1)","v":0.6},{"$f":"HLOOKUP(Nutzungen!$C92,Nutzungen!$E$2:$AM$72,W$75-1)","v":1.1200000000000001},{"$f":"HLOOKUP(Nutzungen!$C92,Nutzungen!$E$2:$AM$72,X$75-1)","v":0.8},{"$f":"HLOOKUP(Nutzungen!$C92,Nutzungen!$E$2:$AM$72,Y$75-1)","v":0},{"$f":"HLOOKUP(Nutzungen!$C92,Nutzungen!$E$2:$AM$72,Z$75-1)","v":"m. T."},{"$f":"HLOOKUP(Nutzungen!$C92,Nutzungen!$E$2:$AM$72,AA$75-1)","v":15},{"$f":"HLOOKUP(Nutzungen!$C92,Nutzungen!$E$2:$AM$72,AB$75-1)","v":0},{"$f":"HLOOKUP(Nutzungen!$C92,Nutzungen!$E$2:$AM$72,AC$75-1)","v":0},{"$f":"HLOOKUP(Nutzungen!$C92,Nutzungen!$E$2:$AM$72,AD$75-1)","v":56},{"$f":"HLOOKUP(Nutzungen!$C92,Nutzungen!$E$2:$AM$72,AE$75-1)","v":180},{"$f":"HLOOKUP(Nutzungen!$C92,Nutzungen!$E$2:$AM$72,AF$75-1)","v":112},{"$f":"HLOOKUP(Nutzungen!$C92,Nutzungen!$E$2:$AM$72,AG$75-1)","v":240},{"$f":"HLOOKUP(Nutzungen!$C92,Nutzungen!$E$2:$AM$72,AH$75-1)","v":0},{"$f":"HLOOKUP(Nutzungen!$C92,Nutzungen!$E$2:$AM$72,AI$75-1)","v":0},{"$f":"HLOOKUP(Nutzungen!$C92,Nutzungen!$E$2:$AM$72,AJ$75-1)","v":0},{"$f":"HLOOKUP(Nutzungen!$C92,Nutzungen!$E$2:$AM$72,AK$75-1)","v":21},{"$f":"HLOOKUP(Nutzungen!$C92,Nutzungen!$E$2:$AM$72,AL$75-1)","v":4},{"$f":"HLOOKUP(Nutzungen!$C92,Nutzungen!$E$2:$AM$72,AM$75-1)","v":24},{"$f":"HLOOKUP(Nutzungen!$C92,Nutzungen!$E$2:$AM$72,AN$75-1)","v":20},{"$f":"HLOOKUP(Nutzungen!$C92,Nutzungen!$E$2:$AM$72,AO$75-1)","v":26},{"$f":"HLOOKUP(Nutzungen!$C92,Nutzungen!$E$2:$AM$72,AP$75-1)","v":0},{"$f":"HLOOKUP(Nutzungen!$C92,Nutzungen!$E$2:$AM$72,AQ$75-1)","v":-12},{"$f":"HLOOKUP(Nutzungen!$C92,Nutzungen!$E$2:$AM$72,AR$75-1)","v":24.6},{"$f":"HLOOKUP(Nutzungen!$C92,Nutzungen!$E$2:$AM$72,AS$75-1)","v":18.899999999999999},{"$f":"HLOOKUP(Nutzungen!$C92,Nutzungen!$E$2:$AM$72,AT$75-1)","v":0.9},{"$f":"HLOOKUP(Nutzungen!$C92,Nutzungen!$E$2:$AM$72,AU$75-1)","v":0.9},{"$f":"HLOOKUP(Nutzungen!$C92,Nutzungen!$E$2:$AM$72,AV$75-1)","v":0},{"$f":"HLOOKUP(Nutzungen!$C92,Nutzungen!$E$2:$AM$72,AW$75-1)","v":"A9"},{"$f":"HLOOKUP(Nutzungen!$C92,Nutzungen!$E$2:$AM$72,AX$75-1)","v":0},{"$f":"HLOOKUP(Nutzungen!$C92,Nutzungen!$E$2:$AM$72,AY$75-1)","v":1},{"$f":"HLOOKUP(Nutzungen!$C92,Nutzungen!$E$2:$AM$72,AZ$75-1)","v":0},{"$f":"HLOOKUP(Nutzungen!$C92,Nutzungen!$E$2:$AM$72,BA$75-1)","v":3},{"$f":"HLOOKUP(Nutzungen!$C92,Nutzungen!$E$2:$AM$72,BB$75-1)","v":6},{"$f":"HLOOKUP(Nutzungen!$C92,Nutzungen!$E$2:$AM$72,BC$75-1)","v":6},{"$f":"HLOOKUP(Nutzungen!$C92,Nutzungen!$E$2:$AM$72,BD$75-1)","v":36},{"$f":"HLOOKUP(Nutzungen!$C92,Nutzungen!$E$2:$AM$72,BE$75-1)","v":108},{"$f":"HLOOKUP(Nutzungen!$C92,Nutzungen!$E$2:$AM$72,BF$75-1)","v":"C"},{"$f":"HLOOKUP(Nutzungen!$C92,Nutzungen!$E$2:$AM$72,BG$75-1)","v":0},{"$f":"HLOOKUP(Nutzungen!$C92,Nutzungen!$E$2:$AM$72,BH$75-1)","v":0.34313725490196068},{"$f":"HLOOKUP(Nutzungen!$C92,Nutzungen!$E$2:$AM$72,BI$75-1)","v":0.24509803921568626},{"$f":"HLOOKUP(Nutzungen!$C92,Nutzungen!$E$2:$AM$72,BJ$75-1)","v":0.22166666666666671},{"$f":"HLOOKUP(Nutzungen!$C92,Nutzungen!$E$2:$AM$72,BK$75-1)","v":0.22166666666666671},{"$f":"HLOOKUP(Nutzungen!$C92,Nutzungen!$E$2:$AM$72,BL$75-1)","v":18},0.14509803921568626,0,{"$f":"HLOOKUP(Nutzungen!$C92,Nutzungen!$E$2:$AM$72,BO$75-1)","v":0},{"$f":"HLOOKUP(Nutzungen!$C92,Nutzungen!$E$2:$AM$72,BP$75-1)","v":0},{"$f":"HLOOKUP(Nutzungen!$C92,Nutzungen!$E$2:$AM$72,BQ$75-1)","v":0},{"$f":"HLOOKUP(Nutzungen!$C92,Nutzungen!$E$2:$AM$72,BR$75-1)","v":15},{"$f":"HLOOKUP(Nutzungen!$C92,Nutzungen!$E$2:$AM$72,BS$75-1)","v":15},{"$f":"HLOOKUP(Nutzungen!$C92,Nutzungen!$E$2:$AM$72,BT$75-1)","v":15},{"$f":"HLOOKUP(Nutzungen!$C92,Nutzungen!$E$2:$AM$72,BU$75-1)","v":15}]
[15,"WC und Sanitärräume   ","16 WC, Sanitär",null,{"$f":"HLOOKUP(Nutzungen!$C93,Nutzungen!$E$2:$AM$72,E$75-1)","v":7},{"$f":"HLOOKUP(Nutzungen!$C93,Nutzungen!$E$2:$AM$72,F$75-1)","v":18},{"$f":"HLOOKUP(Nutzungen!$C93,Nutzungen!$E$2:$AM$72,G$75-1)","v":11},{"$f":"HLOOKUP(Nutzungen!$C93,Nutzungen!$E$2:$AM$72,H$75-1)","v":250},{"$f":"HLOOKUP(Nutzungen!$C93,Nutzungen!$E$2:$AM$72,I$75-1)","v":2543},{"$f":"HLOOKUP(Nutzungen!$C93,Nutzungen!$E$2:$AM$72,J$75-1)","v":207},{"$f":"HLOOKUP(Nutzungen!$C93,Nutzungen!$E$2:$AM$72,K$75-1)","v":13},{"$f":"HLOOKUP(Nutzungen!$C93,Nutzungen!$E$2:$AM$72,L$75-1)","v":250},{"$f":"HLOOKUP(Nutzungen!$C93,Nutzungen!$E$2:$AM$72,M$75-1)","v":13},{"$f":"HLOOKUP(Nutzungen!$C93,Nutzungen!$E$2:$AM$72,N$75-1)","v":0},{"$f":"HLOOKUP(Nutzungen!$C93,Nutzungen!$E$2:$AM$72,O$75-1)","v":200},{"$f":"HLOOKUP(Nutzungen!$C93,Nutzungen!$E$2:$AM$72,P$75-1)","v":0.8},{"$f":"HLOOKUP(Nutzungen!$C93,Nutzungen!$E$2:$AM$72,Q$75-1)","v":1},{"$f":"HLOOKUP(Nutzungen!$C93,Nutzungen!$E$2:$AM$72,R$75-1)","v":0.9},{"$f":"HLOOKUP(Nutzungen!$C93,Nutzungen!$E$2:$AM$72,S$75-1)","v":0.8},{"$f":"HLOOKUP(Nutzungen!$C93,Nutzungen!$E$2:$AM$72,T$75-1)","v":1},{"$f":"HLOOKUP(Nutzungen!$C93,Nutzungen!$E$2:$AM$72,U$75-1)","v":0.67},{"$f":"HLOOKUP(Nutzungen!$C93,Nutzungen!$E$2:$AM$72,V$75-1)","v":0.8},{"$f":"HLOOKUP(Nutzungen!$C93,Nutzungen!$E$2:$AM$72,W$75-1)","v":0.84},{"$f":"HLOOKUP(Nutzungen!$C93,Nutzungen!$E$2:$AM$72,X$75-1)","v":0.9},{"$f":"HLOOKUP(Nutzungen!$C93,Nutzungen!$E$2:$AM$72,Y$75-1)","v":0},{"$f":"HLOOKUP(Nutzungen!$C93,Nutzungen!$E$2:$AM$72,Z$75-1)","v":"-"},{"$f":"HLOOKUP(Nutzungen!$C93,Nutzungen!$E$2:$AM$72,AA$75-1)","v":15},{"$f":"HLOOKUP(Nutzungen!$C93,Nutzungen!$E$2:$AM$72,AB$75-1)","v":0},{"$f":"HLOOKUP(Nutzungen!$C93,Nutzungen!$E$2:$AM$72,AC$75-1)","v":0},{"$f":"HLOOKUP(Nutzungen!$C93,Nutzungen!$E$2:$AM$72,AD$75-1)","v":0},{"$f":"HLOOKUP(Nutzungen!$C93,Nutzungen!$E$2:$AM$72,AE$75-1)","v":0},{"$f":"HLOOKUP(Nutzungen!$C93,Nutzungen!$E$2:$AM$72,AF$75-1)","v":0},{"$f":"HLOOKUP(Nutzungen!$C93,Nutzungen!$E$2:$AM$72,AG$75-1)","v":0},{"$f":"HLOOKUP(Nutzungen!$C93,Nutzungen!$E$2:$AM$72,AH$75-1)","v":0},{"$f":"HLOOKUP(Nutzungen!$C93,Nutzungen!$E$2:$AM$72,AI$75-1)","v":0},{"$f":"HLOOKUP(Nutzungen!$C93,Nutzungen!$E$2:$AM$72,AJ$75-1)","v":0},{"$f":"HLOOKUP(Nutzungen!$C93,Nutzungen!$E$2:$AM$72,AK$75-1)","v":21},{"$f":"HLOOKUP(Nutzungen!$C93,Nutzungen!$E$2:$AM$72,AL$75-1)","v":4},{"$f":"HLOOKUP(Nutzungen!$C93,Nutzungen!$E$2:$AM$72,AM$75-1)","v":24},{"$f":"HLOOKUP(Nutzungen!$C93,Nutzungen!$E$2:$AM$72,AN$75-1)","v":20},{"$f":"HLOOKUP(Nutzungen!$C93,Nutzungen!$E$2:$AM$72,AO$75-1)","v":26},{"$f":"HLOOKUP(Nutzungen!$C93,Nutzungen!$E$2:$AM$72,AP$75-1)","v":0},{"$f":"HLOOKUP(Nutzungen!$C93,Nutzungen!$E$2:$AM$72,AQ$75-1)","v":-12},{"$f":"HLOOKUP(Nutzungen!$C93,Nutzungen!$E$2:$AM$72,AR$75-1)","v":24.6},{"$f":"HLOOKUP(Nutzungen!$C93,Nutzungen!$E$2:$AM$72,AS$75-1)","v":18.899999999999999},{"$f":"HLOOKUP(Nutzungen!$C93,Nutzungen!$E$2:$AM$72,AT$75-1)","v":0.9},{"$f":"HLOOKUP(Nutzungen!$C93,Nutzungen!$E$2:$AM$72,AU$75-1)","v":0.9},{"$f":"HLOOKUP(Nutzungen!$C93,Nutzungen!$E$2:$AM$72,AV$75-1)","v":0},{"$f":"HLOOKUP(Nutzungen!$C93,Nutzungen!$E$2:$AM$72,AW$75-1)","v":"A2"},{"$f":"HLOOKUP(Nutzungen!$C93,Nutzungen!$E$2:$AM$72,AX$75-1)","v":0},{"$f":"HLOOKUP(Nutzungen!$C93,Nutzungen!$E$2:$AM$72,AY$75-1)","v":1},{"$f":"HLOOKUP(Nutzungen!$C93,Nutzungen!$E$2:$AM$72,AZ$75-1)","v":0},{"$f":"HLOOKUP(Nutzungen!$C93,Nutzungen!$E$2:$AM$72,BA$75-1)","v":3},{"$f":"HLOOKUP(Nutzungen!$C93,Nutzungen!$E$2:$AM$72,BB$75-1)","v":3},{"$f":"HLOOKUP(Nutzungen!$C93,Nutzungen!$E$2:$AM$72,BC$75-1)","v":6},{"$f":"HLOOKUP(Nutzungen!$C93,Nutzungen!$E$2:$AM$72,BD$75-1)","v":18},{"$f":"HLOOKUP(Nutzungen!$C93,Nutzungen!$E$2:$AM$72,BE$75-1)","v":54},{"$f":"HLOOKUP(Nutzungen!$C93,Nutzungen!$E$2:$AM$72,BF$75-1)","v":"C"},{"$f":"HLOOKUP(Nutzungen!$C93,Nutzungen!$E$2:$AM$72,BG$75-1)","v":0},{"$f":"HLOOKUP(Nutzungen!$C93,Nutzungen!$E$2:$AM$72,BH$75-1)","v":0.34313725490196068},{"$f":"HLOOKUP(Nutzungen!$C93,Nutzungen!$E$2:$AM$72,BI$75-1)","v":0.24509803921568626},{"$f":"HLOOKUP(Nutzungen!$C93,Nutzungen!$E$2:$AM$72,BJ$75-1)","v":0.22166666666666671},{"$f":"HLOOKUP(Nutzungen!$C93,Nutzungen!$E$2:$AM$72,BK$75-1)","v":0.22166666666666671},{"$f":"HLOOKUP(Nutzungen!$C93,Nutzungen!$E$2:$AM$72,BL$75-1)","v":18},0.14509803921568626,1,{"$f":"HLOOKUP(Nutzungen!$C93,Nutzungen!$E$2:$AM$72,BO$75-1)","v":5},{"$f":"HLOOKUP(Nutzungen!$C93,Nutzungen!$E$2:$AM$72,BP$75-1)","v":0.7},{"$f":"HLOOKUP(Nutzungen!$C93,Nutzungen!$E$2:$AM$72,BQ$75-1)","v":1},{"$f":"HLOOKUP(Nutzungen!$C93,Nutzungen!$E$2:$AM$72,BR$75-1)","v":15},{"$f":"HLOOKUP(Nutzungen!$C93,Nutzungen!$E$2:$AM$72,BS$75-1)","v":15},{"$f":"HLOOKUP(Nutzungen!$C93,Nutzungen!$E$2:$AM$72,BT$75-1)","v":8},{"$f":"HLOOKUP(Nutzungen!$C93,Nutzungen!$E$2:$AM$72,BU$75-1)","v":8}]
[16,"Sonstige Aufenthaltsräume   ","17 sonstige Aufenthalsräume",null,{"$f":"HLOOKUP(Nutzungen!$C94,Nutzungen!$E$2:$AM$72,E$75-1)","v":7},{"$f":"HLOOKUP(Nutzungen!$C94,Nutzungen!$E$2:$AM$72,F$75-1)","v":18},{"$f":"HLOOKUP(Nutzungen!$C94,Nutzungen!$E$2:$AM$72,G$75-1)","v":11},{"$f":"HLOOKUP(Nutzungen!$C94,Nutzungen!$E$2:$AM$72,H$75-1)","v":250},{"$f":"HLOOKUP(Nutzungen!$C94,Nutzungen!$E$2:$AM$72,I$75-1)","v":2543},{"$f":"HLOOKUP(Nutzungen!$C94,Nutzungen!$E$2:$AM$72,J$75-1)","v":207},{"$f":"HLOOKUP(Nutzungen!$C94,Nutzungen!$E$2:$AM$72,K$75-1)","v":13},{"$f":"HLOOKUP(Nutzungen!$C94,Nutzungen!$E$2:$AM$72,L$75-1)","v":250},{"$f":"HLOOKUP(Nutzungen!$C94,Nutzungen!$E$2:$AM$72,M$75-1)","v":13},{"$f":"HLOOKUP(Nutzungen!$C94,Nutzungen!$E$2:$AM$72,N$75-1)","v":0},{"$f":"HLOOKUP(Nutzungen!$C94,Nutzungen!$E$2:$AM$72,O$75-1)","v":300},{"$f":"HLOOKUP(Nutzungen!$C94,Nutzungen!$E$2:$AM$72,P$75-1)","v":0.8},{"$f":"HLOOKUP(Nutzungen!$C94,Nutzungen!$E$2:$AM$72,Q$75-1)","v":0.93},{"$f":"HLOOKUP(Nutzungen!$C94,Nutzungen!$E$2:$AM$72,R$75-1)","v":0.5},{"$f":"HLOOKUP(Nutzungen!$C94,Nutzungen!$E$2:$AM$72,S$75-1)","v":1.25},{"$f":"HLOOKUP(Nutzungen!$C94,Nutzungen!$E$2:$AM$72,T$75-1)","v":1},{"$f":"HLOOKUP(Nutzungen!$C94,Nutzungen!$E$2:$AM$72,U$75-1)","v":0.67},{"$f":"HLOOKUP(Nutzungen!$C94,Nutzungen!$E$2:$AM$72,V$75-1)","v":0.8},{"$f":"HLOOKUP(Nutzungen!$C94,Nutzungen!$E$2:$AM$72,W$75-1)","v":0.84},{"$f":"HLOOKUP(Nutzungen!$C94,Nutzungen!$E$2:$AM$72,X$75-1)","v":0.9},{"$f":"HLOOKUP(Nutzungen!$C94,Nutzungen!$E$2:$AM$72,Y$75-1)","v":0},{"$f":"HLOOKUP(Nutzungen!$C94,Nutzungen!$E$2:$AM$72,Z$75-1)","v":"m. T."},{"$f":"HLOOKUP(Nutzungen!$C94,Nutzungen!$E$2:$AM$72,AA$75-1)","v":7},{"$f":"HLOOKUP(Nutzungen!$C94,Nutzungen!$E$2:$AM$72,AB$75-1)","v":0},{"$f":"HLOOKUP(Nutzungen!$C94,Nutzungen!$E$2:$AM$72,AC$75-1)","v":0},{"$f":"HLOOKUP(Nutzungen!$C94,Nutzungen!$E$2:$AM$72,AD$75-1)","v":92},{"$f":"HLOOKUP(Nutzungen!$C94,Nutzungen!$E$2:$AM$72,AE$75-1)","v":8},{"$f":"HLOOKUP(Nutzungen!$C94,Nutzungen!$E$2:$AM$72,AF$75-1)","v":140},{"$f":"HLOOKUP(Nutzungen!$C94,Nutzungen!$E$2:$AM$72,AG$75-1)","v":12},{"$f":"HLOOKUP(Nutzungen!$C94,Nutzungen!$E$2:$AM$72,AH$75-1)","v":0},{"$f":"HLOOKUP(Nutzungen!$C94,Nutzungen!$E$2:$AM$72,AI$75-1)","v":0},{"$f":"HLOOKUP(Nutzungen!$C94,Nutzungen!$E$2:$AM$72,AJ$75-1)","v":0},{"$f":"HLOOKUP(Nutzungen!$C94,Nutzungen!$E$2:$AM$72,AK$75-1)","v":21},{"$f":"HLOOKUP(Nutzungen!$C94,Nutzungen!$E$2:$AM$72,AL$75-1)","v":4},{"$f":"HLOOKUP(Nutzungen!$C94,Nutzungen!$E$2:$AM$72,AM$75-1)","v":24},{"$f":"HLOOKUP(Nutzungen!$C94,Nutzungen!$E$2:$AM$72,AN$75-1)","v":20},{"$f":"HLOOKUP(Nutzungen!$C94,Nutzungen!$E$2:$AM$72,AO$75-1)","v":26},{"$f":"HLOOKUP(Nutzungen!$C94,Nutzungen!$E$2:$AM$72,AP$75-1)","v":0},{"$f":"HLOOKUP(Nutzungen!$C94,Nutzungen!$E$2:$AM$72,AQ$75-1)","v":-12},{"$f":"HLOOKUP(Nutzungen!$C94,Nutzungen!$E$2:$AM$72,AR$75-1)","v":24.6},{"$f":"HLOOKUP(Nutzungen!$C94,Nutzungen!$E$2:$AM$72,AS$75-1)","v":18.899999999999999},{"$f":"HLOOKUP(Nutzungen!$C94,Nutzungen!$E$2:$AM$72,AT$75-1)","v":0.9},{"$f":"HLOOKUP(Nutzungen!$C94,Nutzungen!$E$2:$AM$72,AU$75-1)","v":0.9},{"$f":"HLOOKUP(Nutzungen!$C94,Nutzungen!$E$2:$AM$72,AV$75-1)","v":0},{"$f":"HLOOKUP(Nutzungen!$C94,Nutzungen!$E$2:$AM$72,AW$75-1)","v":"A2"},{"$f":"HLOOKUP(Nutzungen!$C94,Nutzungen!$E$2:$AM$72,AX$75-1)","v":0},{"$f":"HLOOKUP(Nutzungen!$C94,Nutzungen!$E$2:$AM$72,AY$75-1)","v":0},{"$f":"HLOOKUP(Nutzungen!$C94,Nutzungen!$E$2:$AM$72,AZ$75-1)","v":0},{"$f":"HLOOKUP(Nutzungen!$C94,Nutzungen!$E$2:$AM$72,BA$75-1)","v":3},{"$f":"HLOOKUP(Nutzungen!$C94,Nutzungen!$E$2:$AM$72,BB$75-1)","v":6},{"$f":"HLOOKUP(Nutzungen!$C94,Nutzungen!$E$2:$AM$72,BC$75-1)","v":6},{"$f":"HLOOKUP(Nutzungen!$C94,Nutzungen!$E$2:$AM$72,BD$75-1)","v":36},{"$f":"HLOOKUP(Nutzungen!$C94,Nutzungen!$E$2:$AM$72,BE$75-1)","v":108},{"$f":"HLOOKUP(Nutzungen!$C94,Nutzungen!$E$2:$AM$72,BF$75-1)","v":"B"},{"$f":"HLOOKUP(Nutzungen!$C94,Nutzungen!$E$2:$AM$72,BG$75-1)","v":0},{"$f":"HLOOKUP(Nutzungen!$C94,Nutzungen!$E$2:$AM$72,BH$75-1)","v":0.34313725490196068},{"$f":"HLOOKUP(Nutzungen!$C94,Nutzungen!$E$2:$AM$72,BI$75-1)","v":0.24509803921568626},{"$f":"HLOOKUP(Nutzungen!$C94,Nutzungen!$E$2:$AM$72,BJ$75-1)","v":0.22166666666666671},{"$f":"HLOOKUP(Nutzungen!$C94,Nutzungen!$E$2:$AM$72,BK$75-1)","v":0.22166666666666671},{"$f":"HLOOKUP(Nutzungen!$C94,Nutzungen!$E$2:$AM$72,BL$75-1)","v":21},0.24509803921568626,1,{"$f":"HLOOKUP(Nutzungen!$C94,Nutzungen!$E$2:$AM$72,BO$75-1)","v":2.5},{"$f":"HLOOKUP(Nutzungen!$C94,Nutzungen!$E$2:$AM$72,BP$75-1)","v":0.5},{"$f":"HLOOKUP(Nutzungen!$C94,Nutzungen!$E$2:$AM$72,BQ$75-1)","v":0.8},{"$f":"HLOOKUP(Nutzungen!$C94,Nutzungen!$E$2:$AM$72,BR$75-1)","v":7},{"$f":"HLOOKUP(Nutzungen!$C94,Nutzungen!$E$2:$AM$72,BS$75-1)","v":6.1},{"$f":"HLOOKUP(Nutzungen!$C94,Nutzungen!$E$2:$AM$72,BT$75-1)","v":4.3},{"$f":"HLOOKUP(Nutzungen!$C94,Nutzungen!$E$2:$AM$72,BU$75-1)","v":4.3}]
[17,"Nebenflächen ohne Aufenthaltsräume   ","18 Nebenflächen",null,{"$f":"HLOOKUP(Nutzungen!$C95,Nutzungen!$E$2:$AM$72,E$75-1)","v":7},{"$f":"HLOOKUP(Nutzungen!$C95,Nutzungen!$E$2:$AM$72,F$75-1)","v":18},{"$f":"HLOOKUP(Nutzungen!$C95,Nutzungen!$E$2:$AM$72,G$75-1)","v":11},{"$f":"HLOOKUP(Nutzungen!$C95,Nutzungen!$E$2:$AM$72,H$75-1)","v":250},{"$f":"HLOOKUP(Nutzungen!$C95,Nutzungen!$E$2:$AM$72,I$75-1)","v":2543},{"$f":"HLOOKUP(Nutzungen!$C95,Nutzungen!$E$2:$AM$72,J$75-1)","v":207},{"$f":"HLOOKUP(Nutzungen!$C95,Nutzungen!$E$2:$AM$72,K$75-1)","v":13},{"$f":"HLOOKUP(Nutzungen!$C95,Nutzungen!$E$2:$AM$72,L$75-1)","v":250},{"$f":"HLOOKUP(Nutzungen!$C95,Nutzungen!$E$2:$AM$72,M$75-1)","v":13},{"$f":"HLOOKUP(Nutzungen!$C95,Nutzungen!$E$2:$AM$72,N$75-1)","v":0},{"$f":"HLOOKUP(Nutzungen!$C95,Nutzungen!$E$2:$AM$72,O$75-1)","v":100},{"$f":"HLOOKUP(Nutzungen!$C95,Nutzungen!$E$2:$AM$72,P$75-1)","v":0.8},{"$f":"HLOOKUP(Nutzungen!$C95,Nutzungen!$E$2:$AM$72,Q$75-1)","v":1},{"$f":"HLOOKUP(Nutzungen!$C95,Nutzungen!$E$2:$AM$72,R$75-1)","v":0.9},{"$f":"HLOOKUP(Nutzungen!$C95,Nutzungen!$E$2:$AM$72,S$75-1)","v":1.5},{"$f":"HLOOKUP(Nutzungen!$C95,Nutzungen!$E$2:$AM$72,T$75-1)","v":1},{"$f":"HLOOKUP(Nutzungen!$C95,Nutzungen!$E$2:$AM$72,U$75-1)","v":0.67},{"$f":"HLOOKUP(Nutzungen!$C95,Nutzungen!$E$2:$AM$72,V$75-1)","v":0.8},{"$f":"HLOOKUP(Nutzungen!$C95,Nutzungen!$E$2:$AM$72,W$75-1)","v":0.84},{"$f":"HLOOKUP(Nutzungen!$C95,Nutzungen!$E$2:$AM$72,X$75-1)","v":0.9},{"$f":"HLOOKUP(Nutzungen!$C95,Nutzungen!$E$2:$AM$72,Y$75-1)","v":0},{"$f":"HLOOKUP(Nutzungen!$C95,Nutzungen!$E$2:$AM$72,Z$75-1)","v":"-"},{"$f":"HLOOKUP(Nutzungen!$C95,Nutzungen!$E$2:$AM$72,AA$75-1)","v":0.15},{"$f":"HLOOKUP(Nutzungen!$C95,Nutzungen!$E$2:$AM$72,AB$75-1)","v":0},{"$f":"HLOOKUP(Nutzungen!$C95,Nutzungen!$E$2:$AM$72,AC$75-1)","v":0},{"$f":"HLOOKUP(Nutzungen!$C95,Nutzungen!$E$2:$AM$72,AD$75-1)","v":0},{"$f":"HLOOKUP(Nutzungen!$C95,Nutzungen!$E$2:$AM$72,AE$75-1)","v":0},{"$f":"HLOOKUP(Nutzungen!$C95,Nutzungen!$E$2:$AM$72,AF$75-1)","v":0},{"$f":"HLOOKUP(Nutzungen!$C95,Nutzungen!$E$2:$AM$72,AG$75-1)","v":0},{"$f":"HLOOKUP(Nutzungen!$C95,Nutzungen!$E$2:$AM$72,AH$75-1)","v":0},{"$f":"HLOOKUP(Nutzungen!$C95,Nutzungen!$E$2:$AM$72,AI$75-1)","v":0},{"$f":"HLOOKUP(Nutzungen!$C95,Nutzungen!$E$2:$AM$72,AJ$75-1)","v":0},{"$f":"HLOOKUP(Nutzungen!$C95,Nutzungen!$E$2:$AM$72,AK$75-1)","v":21},{"$f":"HLOOKUP(Nutzungen!$C95,Nutzungen!$E$2:$AM$72,AL$75-1)","v":4},{"$f":"HLOOKUP(Nutzungen!$C95,Nutzungen!$E$2:$AM$72,AM$75-1)","v":24},{"$f":"HLOOKUP(Nutzungen!$C95,Nutzungen!$E$2:$AM$72,AN$75-1)","v":20},{"$f":"HLOOKUP(Nutzungen!$C95,Nutzungen!$E$2:$AM$72,AO$75-1)","v":26},{"$f":"HLOOKUP(Nutzungen!$C95,Nutzungen!$E$2:$AM$72,AP$75-1)","v":0},{"$f":"HLOOKUP(Nutzungen!$C95,Nutzungen!$E$2:$AM$72,AQ$75-1)","v":-12},{"$f":"HLOOKUP(Nutzungen!$C95,Nutzungen!$E$2:$AM$72,AR$75-1)","v":24.6},{"$f":"HLOOKUP(Nutzungen!$C95,Nutzungen!$E$2:$AM$72,AS$75-1)","v":18.899999999999999},{"$f":"HLOOKUP(Nutzungen!$C95,Nutzungen!$E$2:$AM$72,AT$75-1)","v":0.9},{"$f":"HLOOKUP(Nutzungen!$C95,Nutzungen!$E$2:$AM$72,AU$75-1)","v":0.9},{"$f":"HLOOKUP(Nutzungen!$C95,Nutzungen!$E$2:$AM$72,AV$75-1)","v":0},{"$f":"HLOOKUP(Nutzungen!$C95,Nutzungen!$E$2:$AM$72,AW$75-1)","v":"A2"},{"$f":"HLOOKUP(Nutzungen!$C95,Nutzungen!$E$2:$AM$72,AX$75-1)","v":0},{"$f":"HLOOKUP(Nutzungen!$C95,Nutzungen!$E$2:$AM$72,AY$75-1)","v":0},{"$f":"HLOOKUP(Nutzungen!$C95,Nutzungen!$E$2:$AM$72,AZ$75-1)","v":0},{"$f":"HLOOKUP(Nutzungen!$C95,Nutzungen!$E$2:$AM$72,BA$75-1)","v":3},{"$f":"HLOOKUP(Nutzungen!$C95,Nutzungen!$E$2:$AM$72,BB$75-1)","v":3},{"$f":"HLOOKUP(Nutzungen!$C95,Nutzungen!$E$2:$AM$72,BC$75-1)","v":6},{"$f":"HLOOKUP(Nutzungen!$C95,Nutzungen!$E$2:$AM$72,BD$75-1)","v":18},{"$f":"HLOOKUP(Nutzungen!$C95,Nutzungen!$E$2:$AM$72,BE$75-1)","v":54},{"$f":"HLOOKUP(Nutzungen!$C95,Nutzungen!$E$2:$AM$72,BF$75-1)","v":"C"},{"$f":"HLOOKUP(Nutzungen!$C95,Nutzungen!$E$2:$AM$72,BG$75-1)","v":0},{"$f":"HLOOKUP(Nutzungen!$C95,Nutzungen!$E$2:$AM$72,BH$75-1)","v":0.34313725490196068},{"$f":"HLOOKUP(Nutzungen!$C95,Nutzungen!$E$2:$AM$72,BI$75-1)","v":0.24509803921568626},{"$f":"HLOOKUP(Nutzungen!$C95,Nutzungen!$E$2:$AM$72,BJ$75-1)","v":0.22166666666666671},{"$f":"HLOOKUP(Nutzungen!$C95,Nutzungen!$E$2:$AM$72,BK$75-1)","v":0.22166666666666671},{"$f":"HLOOKUP(Nutzungen!$C95,Nutzungen!$E$2:$AM$72,BL$75-1)","v":18},0.14509803921568626,1,{"$f":"HLOOKUP(Nutzungen!$C95,Nutzungen!$E$2:$AM$72,BO$75-1)","v":0},{"$f":"HLOOKUP(Nutzungen!$C95,Nutzungen!$E$2:$AM$72,BP$75-1)","v":0},{"$f":"HLOOKUP(Nutzungen!$C95,Nutzungen!$E$2:$AM$72,BQ$75-1)","v":0},{"$f":"HLOOKUP(Nutzungen!$C95,Nutzungen!$E$2:$AM$72,BR$75-1)","v":0.15},{"$f":"HLOOKUP(Nutzungen!$C95,Nutzungen!$E$2:$AM$72,BS$75-1)","v":0.15},{"$f":"HLOOKUP(Nutzungen!$C95,Nutzungen!$E$2:$AM$72,BT$75-1)","v":0.15},{"$f":"HLOOKUP(Nutzungen!$C95,Nutzungen!$E$2:$AM$72,BU$75-1)","v":0.15}]
[18,"Verkehrsfläche   ","19 Verkehrsfläche",null,{"$f":"HLOOKUP(Nutzungen!$C96,Nutzungen!$E$2:$AM$72,E$75-1)","v":7},{"$f":"HLOOKUP(Nutzungen!$C96,Nutzungen!$E$2:$AM$72,F$75-1)","v":18},{"$f":"HLOOKUP(Nutzungen!$C96,Nutzungen!$E$2:$AM$72,G$75-1)","v":11},{"$f":"HLOOKUP(Nutzungen!$C96,Nutzungen!$E$2:$AM$72,H$75-1)","v":250},{"$f":"HLOOKUP(Nutzungen!$C96,Nutzungen!$E$2:$AM$72,I$75-1)","v":2543},{"$f":"HLOOKUP(Nutzungen!$C96,Nutzungen!$E$2:$AM$72,J$75-1)","v":207},{"$f":"HLOOKUP(Nutzungen!$C96,Nutzungen!$E$2:$AM$72,K$75-1)","v":13},{"$f":"HLOOKUP(Nutzungen!$C96,Nutzungen!$E$2:$AM$72,L$75-1)","v":250},{"$f":"HLOOKUP(Nutzungen!$C96,Nutzungen!$E$2:$AM$72,M$75-1)","v":13},{"$f":"HLOOKUP(Nutzungen!$C96,Nutzungen!$E$2:$AM$72,N$75-1)","v":0},{"$f":"HLOOKUP(Nutzungen!$C96,Nutzungen!$E$2:$AM$72,O$75-1)","v":100},{"$f":"HLOOKUP(Nutzungen!$C96,Nutzungen!$E$2:$AM$72,P$75-1)","v":0},{"$f":"HLOOKUP(Nutzungen!$C96,Nutzungen!$E$2:$AM$72,Q$75-1)","v":1},{"$f":"HLOOKUP(Nutzungen!$C96,Nutzungen!$E$2:$AM$72,R$75-1)","v":0.8},{"$f":"HLOOKUP(Nutzungen!$C96,Nutzungen!$E$2:$AM$72,S$75-1)","v":0.8},{"$f":"HLOOKUP(Nutzungen!$C96,Nutzungen!$E$2:$AM$72,T$75-1)","v":1},{"$f":"HLOOKUP(Nutzungen!$C96,Nutzungen!$E$2:$AM$72,U$75-1)","v":0.67},{"$f":"HLOOKUP(Nutzungen!$C96,Nutzungen!$E$2:$AM$72,V$75-1)","v":0.8},{"$f":"HLOOKUP(Nutzungen!$C96,Nutzungen!$E$2:$AM$72,W$75-1)","v":0.84},{"$f":"HLOOKUP(Nutzungen!$C96,Nutzungen!$E$2:$AM$72,X$75-1)","v":0.9},{"$f":"HLOOKUP(Nutzungen!$C96,Nutzungen!$E$2:$AM$72,Y$75-1)","v":0},{"$f":"HLOOKUP(Nutzungen!$C96,Nutzungen!$E$2:$AM$72,Z$75-1)","v":"-"},{"$f":"HLOOKUP(Nutzungen!$C96,Nutzungen!$E$2:$AM$72,AA$75-1)","v":0},{"$f":"HLOOKUP(Nutzungen!$C96,Nutzungen!$E$2:$AM$72,AB$75-1)","v":0},{"$f":"HLOOKUP(Nutzungen!$C96,Nutzungen!$E$2:$AM$72,AC$75-1)","v":0},{"$f":"HLOOKUP(Nutzungen!$C96,Nutzungen!$E$2:$AM$72,AD$75-1)","v":0},{"$f":"HLOOKUP(Nutzungen!$C96,Nutzungen!$E$2:$AM$72,AE$75-1)","v":0},{"$f":"HLOOKUP(Nutzungen!$C96,Nutzungen!$E$2:$AM$72,AF$75-1)","v":0},{"$f":"HLOOKUP(Nutzungen!$C96,Nutzungen!$E$2:$AM$72,AG$75-1)","v":0},{"$f":"HLOOKUP(Nutzungen!$C96,Nutzungen!$E$2:$AM$72,AH$75-1)","v":0},{"$f":"HLOOKUP(Nutzungen!$C96,Nutzungen!$E$2:$AM$72,AI$75-1)","v":0},{"$f":"HLOOKUP(Nutzungen!$C96,Nutzungen!$E$2:$AM$72,AJ$75-1)","v":0},{"$f":"HLOOKUP(Nutzungen!$C96,Nutzungen!$E$2:$AM$72,AK$75-1)","v":21},{"$f":"HLOOKUP(Nutzungen!$C96,Nutzungen!$E$2:$AM$72,AL$75-1)","v":4},{"$f":"HLOOKUP(Nutzungen!$C96,Nutzungen!$E$2:$AM$72,AM$75-1)","v":24},{"$f":"HLOOKUP(Nutzungen!$C96,Nutzungen!$E$2:$AM$72,AN$75-1)","v":20},{"$f":"HLOOKUP(Nutzungen!$C96,Nutzungen!$E$2:$AM$72,AO$75-1)","v":26},{"$f":"HLOOKUP(Nutzungen!$C96,Nutzungen!$E$2:$AM$72,AP$75-1)","v":0},{"$f":"HLOOKUP(Nutzungen!$C96,Nutzungen!$E$2:$AM$72,AQ$75-1)","v":-12},{"$f":"HLOOKUP(Nutzungen!$C96,Nutzungen!$E$2:$AM$72,AR$75-1)","v":24.6},{"$f":"HLOOKUP(Nutzungen!$C96,Nutzungen!$E$2:$AM$72,AS$75-1)","v":18.899999999999999},{"$f":"HLOOKUP(Nutzungen!$C96,Nutzungen!$E$2:$AM$72,AT$75-1)","v":0.9},{"$f":"HLOOKUP(Nutzungen!$C96,Nutzungen!$E$2:$AM$72,AU$75-1)","v":0.9},{"$f":"HLOOKUP(Nutzungen!$C96,Nutzungen!$E$2:$AM$72,AV$75-1)","v":0},{"$f":"HLOOKUP(Nutzungen!$C96,Nutzungen!$E$2:$AM$72,AW$75-1)","v":"-"},{"$f":"HLOOKUP(Nutzungen!$C96,Nutzungen!$E$2:$AM$72,AX$75-1)","v":0},{"$f":"HLOOKUP(Nutzungen!$C96,Nutzungen!$E$2:$AM$72,AY$75-1)","v":0},{"$f":"HLOOKUP(Nutzungen!$C96,Nutzungen!$E$2:$AM$72,AZ$75-1)","v":0},{"$f":"HLOOKUP(Nutzungen!$C96,Nutzungen!$E$2:$AM$72,BA$75-1)","v":3},{"$f":"HLOOKUP(Nutzungen!$C96,Nutzungen!$E$2:$AM$72,BB$75-1)","v":2},{"$f":"HLOOKUP(Nutzungen!$C96,Nutzungen!$E$2:$AM$72,BC$75-1)","v":12},{"$f":"HLOOKUP(Nutzungen!$C96,Nutzungen!$E$2:$AM$72,BD$75-1)","v":24},{"$f":"HLOOKUP(Nutzungen!$C96,Nutzungen!$E$2:$AM$72,BE$75-1)","v":72},{"$f":"HLOOKUP(Nutzungen!$C96,Nutzungen!$E$2:$AM$72,BF$75-1)","v":"C"},{"$f":"HLOOKUP(Nutzungen!$C96,Nutzungen!$E$2:$AM$72,BG$75-1)","v":0},{"$f":"HLOOKUP(Nutzungen!$C96,Nutzungen!$E$2:$AM$72,BH$75-1)","v":0.34313725490196068},{"$f":"HLOOKUP(Nutzungen!$C96,Nutzungen!$E$2:$AM$72,BI$75-1)","v":0.24509803921568626},{"$f":"HLOOKUP(Nutzungen!$C96,Nutzungen!$E$2:$AM$72,BJ$75-1)","v":0.22166666666666671},{"$f":"HLOOKUP(Nutzungen!$C96,Nutzungen!$E$2:$AM$72,BK$75-1)","v":0.22166666666666671},{"$f":"HLOOKUP(Nutzungen!$C96,Nutzungen!$E$2:$AM$72,BL$75-1)","v":21},0.14509803921568626,1,{"$f":"HLOOKUP(Nutzungen!$C96,Nutzungen!$E$2:$AM$72,BO$75-1)","v":0},{"$f":"HLOOKUP(Nutzungen!$C96,Nutzungen!$E$2:$AM$72,BP$75-1)","v":0},{"$f":"HLOOKUP(Nutzungen!$C96,Nutzungen!$E$2:$AM$72,BQ$75-1)","v":0},{"$f":"HLOOKUP(Nutzungen!$C96,Nutzungen!$E$2:$AM$72,BR$75-1)","v":0},{"$f":"HLOOKUP(Nutzungen!$C96,Nutzungen!$E$2:$AM$72,BS$75-1)","v":0},{"$f":"HLOOKUP(Nutzungen!$C96,Nutzungen!$E$2:$AM$72,BT$75-1)","v":0},{"$f":"HLOOKUP(Nutzungen!$C96,Nutzungen!$E$2:$AM$72,BU$75-1)","v":0}]
[19,"Verkehrsfläche ohne Tageslicht   ","19 Verkehrsfläche",null,{"$f":"HLOOKUP(Nutzungen!$C97,Nutzungen!$E$2:$AM$72,E$75-1)","v":7},{"$f":"HLOOKUP(Nutzungen!$C97,Nutzungen!$E$2:$AM$72,F$75-1)","v":18},{"$f":"HLOOKUP(Nutzungen!$C97,Nutzungen!$E$2:$AM$72,G$75-1)","v":11},{"$f":"HLOOKUP(Nutzungen!$C97,Nutzungen!$E$2:$AM$72,H$75-1)","v":250},{"$f":"HLOOKUP(Nutzungen!$C97,Nutzungen!$E$2:$AM$72,I$75-1)","v":2543},{"$f":"HLOOKUP(Nutzungen!$C97,Nutzungen!$E$2:$AM$72,J$75-1)","v":207},{"$f":"HLOOKUP(Nutzungen!$C97,Nutzungen!$E$2:$AM$72,K$75-1)","v":13},{"$f":"HLOOKUP(Nutzungen!$C97,Nutzungen!$E$2:$AM$72,L$75-1)","v":250},{"$f":"HLOOKUP(Nutzungen!$C97,Nutzungen!$E$2:$AM$72,M$75-1)","v":13},{"$f":"HLOOKUP(Nutzungen!$C97,Nutzungen!$E$2:$AM$72,N$75-1)","v":0},{"$f":"HLOOKUP(Nutzungen!$C97,Nutzungen!$E$2:$AM$72,O$75-1)","v":100},{"$f":"HLOOKUP(Nutzungen!$C97,Nutzungen!$E$2:$AM$72,P$75-1)","v":0},{"$f":"HLOOKUP(Nutzungen!$C97,Nutzungen!$E$2:$AM$72,Q$75-1)","v":1},{"$f":"HLOOKUP(Nutzungen!$C97,Nutzungen!$E$2:$AM$72,R$75-1)","v":0.8},{"$f":"HLOOKUP(Nutzungen!$C97,Nutzungen!$E$2:$AM$72,S$75-1)","v":0.8},{"$f":"HLOOKUP(Nutzungen!$C97,Nutzungen!$E$2:$AM$72,T$75-1)","v":1},{"$f":"HLOOKUP(Nutzungen!$C97,Nutzungen!$E$2:$AM$72,U$75-1)","v":0.67},{"$f":"HLOOKUP(Nutzungen!$C97,Nutzungen!$E$2:$AM$72,V$75-1)","v":0.8},{"$f":"HLOOKUP(Nutzungen!$C97,Nutzungen!$E$2:$AM$72,W$75-1)","v":0.84},{"$f":"HLOOKUP(Nutzungen!$C97,Nutzungen!$E$2:$AM$72,X$75-1)","v":0.9},{"$f":"HLOOKUP(Nutzungen!$C97,Nutzungen!$E$2:$AM$72,Y$75-1)","v":0},{"$f":"HLOOKUP(Nutzungen!$C97,Nutzungen!$E$2:$AM$72,Z$75-1)","v":"-"},{"$f":"HLOOKUP(Nutzungen!$C97,Nutzungen!$E$2:$AM$72,AA$75-1)","v":0},{"$f":"HLOOKUP(Nutzungen!$C97,Nutzungen!$E$2:$AM$72,AB$75-1)","v":0},{"$f":"HLOOKUP(Nutzungen!$C97,Nutzungen!$E$2:$AM$72,AC$75-1)","v":0},{"$f":"HLOOKUP(Nutzungen!$C97,Nutzungen!$E$2:$AM$72,AD$75-1)","v":0},{"$f":"HLOOKUP(Nutzungen!$C97,Nutzungen!$E$2:$AM$72,AE$75-1)","v":0},{"$f":"HLOOKUP(Nutzungen!$C97,Nutzungen!$E$2:$AM$72,AF$75-1)","v":0},{"$f":"HLOOKUP(Nutzungen!$C97,Nutzungen!$E$2:$AM$72,AG$75-1)","v":0},{"$f":"HLOOKUP(Nutzungen!$C97,Nutzungen!$E$2:$AM$72,AH$75-1)","v":0},{"$f":"HLOOKUP(Nutzungen!$C97,Nutzungen!$E$2:$AM$72,AI$75-1)","v":0},{"$f":"HLOOKUP(Nutzungen!$C97,Nutzungen!$E$2:$AM$72,AJ$75-1)","v":0},{"$f":"HLOOKUP(Nutzungen!$C97,Nutzungen!$E$2:$AM$72,AK$75-1)","v":21},{"$f":"HLOOKUP(Nutzungen!$C97,Nutzungen!$E$2:$AM$72,AL$75-1)","v":4},{"$f":"HLOOKUP(Nutzungen!$C97,Nutzungen!$E$2:$AM$72,AM$75-1)","v":24},{"$f":"HLOOKUP(Nutzungen!$C97,Nutzungen!$E$2:$AM$72,AN$75-1)","v":20},{"$f":"HLOOKUP(Nutzungen!$C97,Nutzungen!$E$2:$AM$72,AO$75-1)","v":26},{"$f":"HLOOKUP(Nutzungen!$C97,Nutzungen!$E$2:$AM$72,AP$75-1)","v":0},{"$f":"HLOOKUP(Nutzungen!$C97,Nutzungen!$E$2:$AM$72,AQ$75-1)","v":-12},{"$f":"HLOOKUP(Nutzungen!$C97,Nutzungen!$E$2:$AM$72,AR$75-1)","v":24.6},{"$f":"HLOOKUP(Nutzungen!$C97,Nutzungen!$E$2:$AM$72,AS$75-1)","v":18.899999999999999},{"$f":"HLOOKUP(Nutzungen!$C97,Nutzungen!$E$2:$AM$72,AT$75-1)","v":0.9},{"$f":"HLOOKUP(Nutzungen!$C97,Nutzungen!$E$2:$AM$72,AU$75-1)","v":0.9},{"$f":"HLOOKUP(Nutzungen!$C97,Nutzungen!$E$2:$AM$72,AV$75-1)","v":0},{"$f":"HLOOKUP(Nutzungen!$C97,Nutzungen!$E$2:$AM$72,AW$75-1)","v":"-"},{"$f":"HLOOKUP(Nutzungen!$C97,Nutzungen!$E$2:$AM$72,AX$75-1)","v":0},{"$f":"HLOOKUP(Nutzungen!$C97,Nutzungen!$E$2:$AM$72,AY$75-1)","v":0},{"$f":"HLOOKUP(Nutzungen!$C97,Nutzungen!$E$2:$AM$72,AZ$75-1)","v":0},{"$f":"HLOOKUP(Nutzungen!$C97,Nutzungen!$E$2:$AM$72,BA$75-1)","v":3},{"$f":"HLOOKUP(Nutzungen!$C97,Nutzungen!$E$2:$AM$72,BB$75-1)","v":2},{"$f":"HLOOKUP(Nutzungen!$C97,Nutzungen!$E$2:$AM$72,BC$75-1)","v":12},{"$f":"HLOOKUP(Nutzungen!$C97,Nutzungen!$E$2:$AM$72,BD$75-1)","v":24},{"$f":"HLOOKUP(Nutzungen!$C97,Nutzungen!$E$2:$AM$72,BE$75-1)","v":72},{"$f":"HLOOKUP(Nutzungen!$C97,Nutzungen!$E$2:$AM$72,BF$75-1)","v":"C"},{"$f":"HLOOKUP(Nutzungen!$C97,Nutzungen!$E$2:$AM$72,BG$75-1)","v":0},{"$f":"HLOOKUP(Nutzungen!$C97,Nutzungen!$E$2:$AM$72,BH$75-1)","v":0.34313725490196068},{"$f":"HLOOKUP(Nutzungen!$C97,Nutzungen!$E$2:$AM$72,BI$75-1)","v":0.24509803921568626},{"$f":"HLOOKUP(Nutzungen!$C97,Nutzungen!$E$2:$AM$72,BJ$75-1)","v":0.22166666666666671},{"$f":"HLOOKUP(Nutzungen!$C97,Nutzungen!$E$2:$AM$72,BK$75-1)","v":0.22166666666666671},{"$f":"HLOOKUP(Nutzungen!$C97,Nutzungen!$E$2:$AM$72,BL$75-1)","v":21},0.14509803921568626,1,{"$f":"HLOOKUP(Nutzungen!$C97,Nutzungen!$E$2:$AM$72,BO$75-1)","v":0},{"$f":"HLOOKUP(Nutzungen!$C97,Nutzungen!$E$2:$AM$72,BP$75-1)","v":0},{"$f":"HLOOKUP(Nutzungen!$C97,Nutzungen!$E$2:$AM$72,BQ$75-1)","v":0},{"$f":"HLOOKUP(Nutzungen!$C97,Nutzungen!$E$2:$AM$72,BR$75-1)","v":0},{"$f":"HLOOKUP(Nutzungen!$C97,Nutzungen!$E$2:$AM$72,BS$75-1)","v":0},{"$f":"HLOOKUP(Nutzungen!$C97,Nutzungen!$E$2:$AM$72,BT$75-1)","v":0},{"$f":"HLOOKUP(Nutzungen!$C97,Nutzungen!$E$2:$AM$72,BU$75-1)","v":0}]
[20,"Lager   ","20 Lager, Technik",null,{"$f":"HLOOKUP(Nutzungen!$C98,Nutzungen!$E$2:$AM$72,E$75-1)","v":7},{"$f":"HLOOKUP(Nutzungen!$C98,Nutzungen!$E$2:$AM$72,F$75-1)","v":18},{"$f":"HLOOKUP(Nutzungen!$C98,Nutzungen!$E$2:$AM$72,G$75-1)","v":11},{"$f":"HLOOKUP(Nutzungen!$C98,Nutzungen!$E$2:$AM$72,H$75-1)","v":250},{"$f":"HLOOKUP(Nutzungen!$C98,Nutzungen!$E$2:$AM$72,I$75-1)","v":2543},{"$f":"HLOOKUP(Nutzungen!$C98,Nutzungen!$E$2:$AM$72,J$75-1)","v":207},{"$f":"HLOOKUP(Nutzungen!$C98,Nutzungen!$E$2:$AM$72,K$75-1)","v":13},{"$f":"HLOOKUP(Nutzungen!$C98,Nutzungen!$E$2:$AM$72,L$75-1)","v":250},{"$f":"HLOOKUP(Nutzungen!$C98,Nutzungen!$E$2:$AM$72,M$75-1)","v":13},{"$f":"HLOOKUP(Nutzungen!$C98,Nutzungen!$E$2:$AM$72,N$75-1)","v":0},{"$f":"HLOOKUP(Nutzungen!$C98,Nutzungen!$E$2:$AM$72,O$75-1)","v":100},{"$f":"HLOOKUP(Nutzungen!$C98,Nutzungen!$E$2:$AM$72,P$75-1)","v":0.8},{"$f":"HLOOKUP(Nutzungen!$C98,Nutzungen!$E$2:$AM$72,Q$75-1)","v":1},{"$f":"HLOOKUP(Nutzungen!$C98,Nutzungen!$E$2:$AM$72,R$75-1)","v":0.98},{"$f":"HLOOKUP(Nutzungen!$C98,Nutzungen!$E$2:$AM$72,S$75-1)","v":1.5},{"$f":"HLOOKUP(Nutzungen!$C98,Nutzungen!$E$2:$AM$72,T$75-1)","v":1},{"$f":"HLOOKUP(Nutzungen!$C98,Nutzungen!$E$2:$AM$72,U$75-1)","v":0.67},{"$f":"HLOOKUP(Nutzungen!$C98,Nutzungen!$E$2:$AM$72,V$75-1)","v":0.8},{"$f":"HLOOKUP(Nutzungen!$C98,Nutzungen!$E$2:$AM$72,W$75-1)","v":0.84},{"$f":"HLOOKUP(Nutzungen!$C98,Nutzungen!$E$2:$AM$72,X$75-1)","v":0.9},{"$f":"HLOOKUP(Nutzungen!$C98,Nutzungen!$E$2:$AM$72,Y$75-1)","v":0},{"$f":"HLOOKUP(Nutzungen!$C98,Nutzungen!$E$2:$AM$72,Z$75-1)","v":"-"},{"$f":"HLOOKUP(Nutzungen!$C98,Nutzungen!$E$2:$AM$72,AA$75-1)","v":0.15},{"$f":"HLOOKUP(Nutzungen!$C98,Nutzungen!$E$2:$AM$72,AB$75-1)","v":0},{"$f":"HLOOKUP(Nutzungen!$C98,Nutzungen!$E$2:$AM$72,AC$75-1)","v":0},{"$f":"HLOOKUP(Nutzungen!$C98,Nutzungen!$E$2:$AM$72,AD$75-1)","v":0},{"$f":"HLOOKUP(Nutzungen!$C98,Nutzungen!$E$2:$AM$72,AE$75-1)","v":0},{"$f":"HLOOKUP(Nutzungen!$C98,Nutzungen!$E$2:$AM$72,AF$75-1)","v":0},{"$f":"HLOOKUP(Nutzungen!$C98,Nutzungen!$E$2:$AM$72,AG$75-1)","v":0},{"$f":"HLOOKUP(Nutzungen!$C98,Nutzungen!$E$2:$AM$72,AH$75-1)","v":0},{"$f":"HLOOKUP(Nutzungen!$C98,Nutzungen!$E$2:$AM$72,AI$75-1)","v":0},{"$f":"HLOOKUP(Nutzungen!$C98,Nutzungen!$E$2:$AM$72,AJ$75-1)","v":0},{"$f":"HLOOKUP(Nutzungen!$C98,Nutzungen!$E$2:$AM$72,AK$75-1)","v":21},{"$f":"HLOOKUP(Nutzungen!$C98,Nutzungen!$E$2:$AM$72,AL$75-1)","v":4},{"$f":"HLOOKUP(Nutzungen!$C98,Nutzungen!$E$2:$AM$72,AM$75-1)","v":24},{"$f":"HLOOKUP(Nutzungen!$C98,Nutzungen!$E$2:$AM$72,AN$75-1)","v":20},{"$f":"HLOOKUP(Nutzungen!$C98,Nutzungen!$E$2:$AM$72,AO$75-1)","v":26},{"$f":"HLOOKUP(Nutzungen!$C98,Nutzungen!$E$2:$AM$72,AP$75-1)","v":0},{"$f":"HLOOKUP(Nutzungen!$C98,Nutzungen!$E$2:$AM$72,AQ$75-1)","v":-12},{"$f":"HLOOKUP(Nutzungen!$C98,Nutzungen!$E$2:$AM$72,AR$75-1)","v":24.6},{"$f":"HLOOKUP(Nutzungen!$C98,Nutzungen!$E$2:$AM$72,AS$75-1)","v":18.899999999999999},{"$f":"HLOOKUP(Nutzungen!$C98,Nutzungen!$E$2:$AM$72,AT$75-1)","v":0.9},{"$f":"HLOOKUP(Nutzungen!$C98,Nutzungen!$E$2:$AM$72,AU$75-1)","v":0.9},{"$f":"HLOOKUP(Nutzungen!$C98,Nutzungen!$E$2:$AM$72,AV$75-1)","v":0},{"$f":"HLOOKUP(Nutzungen!$C98,Nutzungen!$E$2:$AM$72,AW$75-1)","v":"A2"},{"$f":"HLOOKUP(Nutzungen!$C98,Nutzungen!$E$2:$AM$72,AX$75-1)","v":0},{"$f":"HLOOKUP(Nutzungen!$C98,Nutzungen!$E$2:$AM$72,AY$75-1)","v":0},{"$f":"HLOOKUP(Nutzungen!$C98,Nutzungen!$E$2:$AM$72,AZ$75-1)","v":0},{"$f":"HLOOKUP(Nutzungen!$C98,Nutzungen!$E$2:$AM$72,BA$75-1)","v":3},{"$f":"HLOOKUP(Nutzungen!$C98,Nutzungen!$E$2:$AM$72,BB$75-1)","v":6},{"$f":"HLOOKUP(Nutzungen!$C98,Nutzungen!$E$2:$AM$72,BC$75-1)","v":6},{"$f":"HLOOKUP(Nutzungen!$C98,Nutzungen!$E$2:$AM$72,BD$75-1)","v":36},{"$f":"HLOOKUP(Nutzungen!$C98,Nutzungen!$E$2:$AM$72,BE$75-1)","v":108},{"$f":"HLOOKUP(Nutzungen!$C98,Nutzungen!$E$2:$AM$72,BF$75-1)","v":"D"},{"$f":"HLOOKUP(Nutzungen!$C98,Nutzungen!$E$2:$AM$72,BG$75-1)","v":0},{"$f":"HLOOKUP(Nutzungen!$C98,Nutzungen!$E$2:$AM$72,BH$75-1)","v":0.34313725490196068},{"$f":"HLOOKUP(Nutzungen!$C98,Nutzungen!$E$2:$AM$72,BI$75-1)","v":0.24509803921568626},{"$f":"HLOOKUP(Nutzungen!$C98,Nutzungen!$E$2:$AM$72,BJ$75-1)","v":0.22166666666666671},{"$f":"HLOOKUP(Nutzungen!$C98,Nutzungen!$E$2:$AM$72,BK$75-1)","v":0.22166666666666671},{"$f":"HLOOKUP(Nutzungen!$C98,Nutzungen!$E$2:$AM$72,BL$75-1)","v":18},0,1,{"$f":"HLOOKUP(Nutzungen!$C98,Nutzungen!$E$2:$AM$72,BO$75-1)","v":0},{"$f":"HLOOKUP(Nutzungen!$C98,Nutzungen!$E$2:$AM$72,BP$75-1)","v":0},{"$f":"HLOOKUP(Nutzungen!$C98,Nutzungen!$E$2:$AM$72,BQ$75-1)","v":0},{"$f":"HLOOKUP(Nutzungen!$C98,Nutzungen!$E$2:$AM$72,BR$75-1)","v":0.15},{"$f":"HLOOKUP(Nutzungen!$C98,Nutzungen!$E$2:$AM$72,BS$75-1)","v":0.15},{"$f":"HLOOKUP(Nutzungen!$C98,Nutzungen!$E$2:$AM$72,BT$75-1)","v":0.15},{"$f":"HLOOKUP(Nutzungen!$C98,Nutzungen!$E$2:$AM$72,BU$75-1)","v":0.15}]
[21,"Lager mit Leseaufgaben   ","20 Lager, Technik",null,{"$f":"HLOOKUP(Nutzungen!$C99,Nutzungen!$E$2:$AM$72,E$75-1)","v":7},{"$f":"HLOOKUP(Nutzungen!$C99,Nutzungen!$E$2:$AM$72,F$75-1)","v":18},{"$f":"HLOOKUP(Nutzungen!$C99,Nutzungen!$E$2:$AM$72,G$75-1)","v":11},{"$f":"HLOOKUP(Nutzungen!$C99,Nutzungen!$E$2:$AM$72,H$75-1)","v":250},{"$f":"HLOOKUP(Nutzungen!$C99,Nutzungen!$E$2:$AM$72,I$75-1)","v":2543},{"$f":"HLOOKUP(Nutzungen!$C99,Nutzungen!$E$2:$AM$72,J$75-1)","v":207},{"$f":"HLOOKUP(Nutzungen!$C99,Nutzungen!$E$2:$AM$72,K$75-1)","v":13},{"$f":"HLOOKUP(Nutzungen!$C99,Nutzungen!$E$2:$AM$72,L$75-1)","v":250},{"$f":"HLOOKUP(Nutzungen!$C99,Nutzungen!$E$2:$AM$72,M$75-1)","v":13},{"$f":"HLOOKUP(Nutzungen!$C99,Nutzungen!$E$2:$AM$72,N$75-1)","v":0},{"$f":"HLOOKUP(Nutzungen!$C99,Nutzungen!$E$2:$AM$72,O$75-1)","v":100},{"$f":"HLOOKUP(Nutzungen!$C99,Nutzungen!$E$2:$AM$72,P$75-1)","v":0.8},{"$f":"HLOOKUP(Nutzungen!$C99,Nutzungen!$E$2:$AM$72,Q$75-1)","v":1},{"$f":"HLOOKUP(Nutzungen!$C99,Nutzungen!$E$2:$AM$72,R$75-1)","v":0.98},{"$f":"HLOOKUP(Nutzungen!$C99,Nutzungen!$E$2:$AM$72,S$75-1)","v":1.5},{"$f":"HLOOKUP(Nutzungen!$C99,Nutzungen!$E$2:$AM$72,T$75-1)","v":1},{"$f":"HLOOKUP(Nutzungen!$C99,Nutzungen!$E$2:$AM$72,U$75-1)","v":0.67},{"$f":"HLOOKUP(Nutzungen!$C99,Nutzungen!$E$2:$AM$72,V$75-1)","v":0.8},{"$f":"HLOOKUP(Nutzungen!$C99,Nutzungen!$E$2:$AM$72,W$75-1)","v":0.84},{"$f":"HLOOKUP(Nutzungen!$C99,Nutzungen!$E$2:$AM$72,X$75-1)","v":0.9},{"$f":"HLOOKUP(Nutzungen!$C99,Nutzungen!$E$2:$AM$72,Y$75-1)","v":0},{"$f":"HLOOKUP(Nutzungen!$C99,Nutzungen!$E$2:$AM$72,Z$75-1)","v":"-"},{"$f":"HLOOKUP(Nutzungen!$C99,Nutzungen!$E$2:$AM$72,AA$75-1)","v":0.15},{"$f":"HLOOKUP(Nutzungen!$C99,Nutzungen!$E$2:$AM$72,AB$75-1)","v":0},{"$f":"HLOOKUP(Nutzungen!$C99,Nutzungen!$E$2:$AM$72,AC$75-1)","v":0},{"$f":"HLOOKUP(Nutzungen!$C99,Nutzungen!$E$2:$AM$72,AD$75-1)","v":0},{"$f":"HLOOKUP(Nutzungen!$C99,Nutzungen!$E$2:$AM$72,AE$75-1)","v":0},{"$f":"HLOOKUP(Nutzungen!$C99,Nutzungen!$E$2:$AM$72,AF$75-1)","v":0},{"$f":"HLOOKUP(Nutzungen!$C99,Nutzungen!$E$2:$AM$72,AG$75-1)","v":0},{"$f":"HLOOKUP(Nutzungen!$C99,Nutzungen!$E$2:$AM$72,AH$75-1)","v":0},{"$f":"HLOOKUP(Nutzungen!$C99,Nutzungen!$E$2:$AM$72,AI$75-1)","v":0},{"$f":"HLOOKUP(Nutzungen!$C99,Nutzungen!$E$2:$AM$72,AJ$75-1)","v":0},{"$f":"HLOOKUP(Nutzungen!$C99,Nutzungen!$E$2:$AM$72,AK$75-1)","v":21},{"$f":"HLOOKUP(Nutzungen!$C99,Nutzungen!$E$2:$AM$72,AL$75-1)","v":4},{"$f":"HLOOKUP(Nutzungen!$C99,Nutzungen!$E$2:$AM$72,AM$75-1)","v":24},{"$f":"HLOOKUP(Nutzungen!$C99,Nutzungen!$E$2:$AM$72,AN$75-1)","v":20},{"$f":"HLOOKUP(Nutzungen!$C99,Nutzungen!$E$2:$AM$72,AO$75-1)","v":26},{"$f":"HLOOKUP(Nutzungen!$C99,Nutzungen!$E$2:$AM$72,AP$75-1)","v":0},{"$f":"HLOOKUP(Nutzungen!$C99,Nutzungen!$E$2:$AM$72,AQ$75-1)","v":-12},{"$f":"HLOOKUP(Nutzungen!$C99,Nutzungen!$E$2:$AM$72,AR$75-1)","v":24.6},{"$f":"HLOOKUP(Nutzungen!$C99,Nutzungen!$E$2:$AM$72,AS$75-1)","v":18.899999999999999},{"$f":"HLOOKUP(Nutzungen!$C99,Nutzungen!$E$2:$AM$72,AT$75-1)","v":0.9},{"$f":"HLOOKUP(Nutzungen!$C99,Nutzungen!$E$2:$AM$72,AU$75-1)","v":0.9},{"$f":"HLOOKUP(Nutzungen!$C99,Nutzungen!$E$2:$AM$72,AV$75-1)","v":0},{"$f":"HLOOKUP(Nutzungen!$C99,Nutzungen!$E$2:$AM$72,AW$75-1)","v":"A2"},{"$f":"HLOOKUP(Nutzungen!$C99,Nutzungen!$E$2:$AM$72,AX$75-1)","v":0},{"$f":"HLOOKUP(Nutzungen!$C99,Nutzungen!$E$2:$AM$72,AY$75-1)","v":0},{"$f":"HLOOKUP(Nutzungen!$C99,Nutzungen!$E$2:$AM$72,AZ$75-1)","v":0},{"$f":"HLOOKUP(Nutzungen!$C99,Nutzungen!$E$2:$AM$72,BA$75-1)","v":3},{"$f":"HLOOKUP(Nutzungen!$C99,Nutzungen!$E$2:$AM$72,BB$75-1)","v":6},{"$f":"HLOOKUP(Nutzungen!$C99,Nutzungen!$E$2:$AM$72,BC$75-1)","v":6},{"$f":"HLOOKUP(Nutzungen!$C99,Nutzungen!$E$2:$AM$72,BD$75-1)","v":36},{"$f":"HLOOKUP(Nutzungen!$C99,Nutzungen!$E$2:$AM$72,BE$75-1)","v":108},{"$f":"HLOOKUP(Nutzungen!$C99,Nutzungen!$E$2:$AM$72,BF$75-1)","v":"D"},{"$f":"HLOOKUP(Nutzungen!$C99,Nutzungen!$E$2:$AM$72,BG$75-1)","v":0},{"$f":"HLOOKUP(Nutzungen!$C99,Nutzungen!$E$2:$AM$72,BH$75-1)","v":0.34313725490196068},{"$f":"HLOOKUP(Nutzungen!$C99,Nutzungen!$E$2:$AM$72,BI$75-1)","v":0.24509803921568626},{"$f":"HLOOKUP(Nutzungen!$C99,Nutzungen!$E$2:$AM$72,BJ$75-1)","v":0.22166666666666671},{"$f":"HLOOKUP(Nutzungen!$C99,Nutzungen!$E$2:$AM$72,BK$75-1)","v":0.22166666666666671},{"$f":"HLOOKUP(Nutzungen!$C99,Nutzungen!$E$2:$AM$72,BL$75-1)","v":18},0,1,{"$f":"HLOOKUP(Nutzungen!$C99,Nutzungen!$E$2:$AM$72,BO$75-1)","v":0},{"$f":"HLOOKUP(Nutzungen!$C99,Nutzungen!$E$2:$AM$72,BP$75-1)","v":0},{"$f":"HLOOKUP(Nutzungen!$C99,Nutzungen!$E$2:$AM$72,BQ$75-1)","v":0},{"$f":"HLOOKUP(Nutzungen!$C99,Nutzungen!$E$2:$AM$72,BR$75-1)","v":0.15},{"$f":"HLOOKUP(Nutzungen!$C99,Nutzungen!$E$2:$AM$72,BS$75-1)","v":0.15},{"$f":"HLOOKUP(Nutzungen!$C99,Nutzungen!$E$2:$AM$72,BT$75-1)","v":0.15},{"$f":"HLOOKUP(Nutzungen!$C99,Nutzungen!$E$2:$AM$72,BU$75-1)","v":0.15}]
[22,"Serverraum in Rechenzentren","21 Serverraum",null,{"$f":"HLOOKUP(Nutzungen!$C100,Nutzungen!$E$2:$AM$72,E$75-1)","v":0},{"$f":"HLOOKUP(Nutzungen!$C100,Nutzungen!$E$2:$AM$72,F$75-1)","v":24},{"$f":"HLOOKUP(Nutzungen!$C100,Nutzungen!$E$2:$AM$72,G$75-1)","v":24},{"$f":"HLOOKUP(Nutzungen!$C100,Nutzungen!$E$2:$AM$72,H$75-1)","v":365},{"$f":"HLOOKUP(Nutzungen!$C100,Nutzungen!$E$2:$AM$72,I$75-1)","v":4407},{"$f":"HLOOKUP(Nutzungen!$C100,Nutzungen!$E$2:$AM$72,J$75-1)","v":4353},{"$f":"HLOOKUP(Nutzungen!$C100,Nutzungen!$E$2:$AM$72,K$75-1)","v":24},{"$f":"HLOOKUP(Nutzungen!$C100,Nutzungen!$E$2:$AM$72,L$75-1)","v":365},{"$f":"HLOOKUP(Nutzungen!$C100,Nutzungen!$E$2:$AM$72,M$75-1)","v":24},{"$f":"HLOOKUP(Nutzungen!$C100,Nutzungen!$E$2:$AM$72,N$75-1)","v":0},{"$f":"HLOOKUP(Nutzungen!$C100,Nutzungen!$E$2:$AM$72,O$75-1)","v":500},{"$f":"HLOOKUP(Nutzungen!$C100,Nutzungen!$E$2:$AM$72,P$75-1)","v":0.8},{"$f":"HLOOKUP(Nutzungen!$C100,Nutzungen!$E$2:$AM$72,Q$75-1)","v":0.96},{"$f":"HLOOKUP(Nutzungen!$C100,Nutzungen!$E$2:$AM$72,R$75-1)","v":0.5},{"$f":"HLOOKUP(Nutzungen!$C100,Nutzungen!$E$2:$AM$72,S$75-1)","v":1.5},{"$f":"HLOOKUP(Nutzungen!$C100,Nutzungen!$E$2:$AM$72,T$75-1)","v":0.5},{"$f":"HLOOKUP(Nutzungen!$C100,Nutzungen!$E$2:$AM$72,U$75-1)","v":0.67},{"$f":"HLOOKUP(Nutzungen!$C100,Nutzungen!$E$2:$AM$72,V$75-1)","v":0.8},{"$f":"HLOOKUP(Nutzungen!$C100,Nutzungen!$E$2:$AM$72,W$75-1)","v":0.84},{"$f":"HLOOKUP(Nutzungen!$C100,Nutzungen!$E$2:$AM$72,X$75-1)","v":0.9},{"$f":"HLOOKUP(Nutzungen!$C100,Nutzungen!$E$2:$AM$72,Y$75-1)","v":0},{"$f":"HLOOKUP(Nutzungen!$C100,Nutzungen!$E$2:$AM$72,Z$75-1)","v":"-"},{"$f":"HLOOKUP(Nutzungen!$C100,Nutzungen!$E$2:$AM$72,AA$75-1)","v":1.3},{"$f":"HLOOKUP(Nutzungen!$C100,Nutzungen!$E$2:$AM$72,AB$75-1)","v":0},{"$f":"HLOOKUP(Nutzungen!$C100,Nutzungen!$E$2:$AM$72,AC$75-1)","v":0},{"$f":"HLOOKUP(Nutzungen!$C100,Nutzungen!$E$2:$AM$72,AD$75-1)","v":15},{"$f":"HLOOKUP(Nutzungen!$C100,Nutzungen!$E$2:$AM$72,AE$75-1)","v":1800},{"$f":"HLOOKUP(Nutzungen!$C100,Nutzungen!$E$2:$AM$72,AF$75-1)","v":24},{"$f":"HLOOKUP(Nutzungen!$C100,Nutzungen!$E$2:$AM$72,AG$75-1)","v":6000},{"$f":"HLOOKUP(Nutzungen!$C100,Nutzungen!$E$2:$AM$72,AH$75-1)","v":0},{"$f":"HLOOKUP(Nutzungen!$C100,Nutzungen!$E$2:$AM$72,AI$75-1)","v":0},{"$f":"HLOOKUP(Nutzungen!$C100,Nutzungen!$E$2:$AM$72,AJ$75-1)","v":0},{"$f":"HLOOKUP(Nutzungen!$C100,Nutzungen!$E$2:$AM$72,AK$75-1)","v":21},{"$f":"HLOOKUP(Nutzungen!$C100,Nutzungen!$E$2:$AM$72,AL$75-1)","v":4},{"$f":"HLOOKUP(Nutzungen!$C100,Nutzungen!$E$2:$AM$72,AM$75-1)","v":24},{"$f":"HLOOKUP(Nutzungen!$C100,Nutzungen!$E$2:$AM$72,AN$75-1)","v":20},{"$f":"HLOOKUP(Nutzungen!$C100,Nutzungen!$E$2:$AM$72,AO$75-1)","v":26},{"$f":"HLOOKUP(Nutzungen!$C100,Nutzungen!$E$2:$AM$72,AP$75-1)","v":0},{"$f":"HLOOKUP(Nutzungen!$C100,Nutzungen!$E$2:$AM$72,AQ$75-1)","v":-12},{"$f":"HLOOKUP(Nutzungen!$C100,Nutzungen!$E$2:$AM$72,AR$75-1)","v":24.6},{"$f":"HLOOKUP(Nutzungen!$C100,Nutzungen!$E$2:$AM$72,AS$75-1)","v":18.899999999999999},{"$f":"HLOOKUP(Nutzungen!$C100,Nutzungen!$E$2:$AM$72,AT$75-1)","v":0.9},{"$f":"HLOOKUP(Nutzungen!$C100,Nutzungen!$E$2:$AM$72,AU$75-1)","v":0.9},{"$f":"HLOOKUP(Nutzungen!$C100,Nutzungen!$E$2:$AM$72,AV$75-1)","v":0},{"$f":"HLOOKUP(Nutzungen!$C100,Nutzungen!$E$2:$AM$72,AW$75-1)","v":"A10"},{"$f":"HLOOKUP(Nutzungen!$C100,Nutzungen!$E$2:$AM$72,AX$75-1)","v":0},{"$f":"HLOOKUP(Nutzungen!$C100,Nutzungen!$E$2:$AM$72,AY$75-1)","v":1},{"$f":"HLOOKUP(Nutzungen!$C100,Nutzungen!$E$2:$AM$72,AZ$75-1)","v":0},{"$f":"HLOOKUP(Nutzungen!$C100,Nutzungen!$E$2:$AM$72,BA$75-1)","v":3},{"$f":"HLOOKUP(Nutzungen!$C100,Nutzungen!$E$2:$AM$72,BB$75-1)","v":6},{"$f":"HLOOKUP(Nutzungen!$C100,Nutzungen!$E$2:$AM$72,BC$75-1)","v":6},{"$f":"HLOOKUP(Nutzungen!$C100,Nutzungen!$E$2:$AM$72,BD$75-1)","v":36},{"$f":"HLOOKUP(Nutzungen!$C100,Nutzungen!$E$2:$AM$72,BE$75-1)","v":108},{"$f":"HLOOKUP(Nutzungen!$C100,Nutzungen!$E$2:$AM$72,BF$75-1)","v":"D"},{"$f":"HLOOKUP(Nutzungen!$C100,Nutzungen!$E$2:$AM$72,BG$75-1)","v":0},{"$f":"HLOOKUP(Nutzungen!$C100,Nutzungen!$E$2:$AM$72,BH$75-1)","v":0.34313725490196068},{"$f":"HLOOKUP(Nutzungen!$C100,Nutzungen!$E$2:$AM$72,BI$75-1)","v":0.24509803921568626},{"$f":"HLOOKUP(Nutzungen!$C100,Nutzungen!$E$2:$AM$72,BJ$75-1)","v":0.22166666666666671},{"$f":"HLOOKUP(Nutzungen!$C100,Nutzungen!$E$2:$AM$72,BK$75-1)","v":0.22166666666666671},{"$f":"HLOOKUP(Nutzungen!$C100,Nutzungen!$E$2:$AM$72,BL$75-1)","v":18},0,0,{"$f":"HLOOKUP(Nutzungen!$C100,Nutzungen!$E$2:$AM$72,BO$75-1)","v":0},{"$f":"HLOOKUP(Nutzungen!$C100,Nutzungen!$E$2:$AM$72,BP$75-1)","v":0},{"$f":"HLOOKUP(Nutzungen!$C100,Nutzungen!$E$2:$AM$72,BQ$75-1)","v":0},{"$f":"HLOOKUP(Nutzungen!$C100,Nutzungen!$E$2:$AM$72,BR$75-1)","v":1.3},{"$f":"HLOOKUP(Nutzungen!$C100,Nutzungen!$E$2:$AM$72,BS$75-1)","v":1.3},{"$f":"HLOOKUP(Nutzungen!$C100,Nutzungen!$E$2:$AM$72,BT$75-1)","v":1.3},{"$f":"HLOOKUP(Nutzungen!$C100,Nutzungen!$E$2:$AM$72,BU$75-1)","v":1.3}]
[23,"Werkstatt","22 Werkstatt",null,{"$f":"HLOOKUP(Nutzungen!$C101,Nutzungen!$E$2:$AM$72,E$75-1)","v":7},{"$f":"HLOOKUP(Nutzungen!$C101,Nutzungen!$E$2:$AM$72,F$75-1)","v":16},{"$f":"HLOOKUP(Nutzungen!$C101,Nutzungen!$E$2:$AM$72,G$75-1)","v":9},{"$f":"HLOOKUP(Nutzungen!$C101,Nutzungen!$E$2:$AM$72,H$75-1)","v":250},{"$f":"HLOOKUP(Nutzungen!$C101,Nutzungen!$E$2:$AM$72,I$75-1)","v":2192},{"$f":"HLOOKUP(Nutzungen!$C101,Nutzungen!$E$2:$AM$72,J$75-1)","v":58},{"$f":"HLOOKUP(Nutzungen!$C101,Nutzungen!$E$2:$AM$72,K$75-1)","v":11},{"$f":"HLOOKUP(Nutzungen!$C101,Nutzungen!$E$2:$AM$72,L$75-1)","v":250},{"$f":"HLOOKUP(Nutzungen!$C101,Nutzungen!$E$2:$AM$72,M$75-1)","v":11},{"$f":"HLOOKUP(Nutzungen!$C101,Nutzungen!$E$2:$AM$72,N$75-1)","v":0},{"$f":"HLOOKUP(Nutzungen!$C101,Nutzungen!$E$2:$AM$72,O$75-1)","v":500},{"$f":"HLOOKUP(Nutzungen!$C101,Nutzungen!$E$2:$AM$72,P$75-1)","v":0.8},{"$f":"HLOOKUP(Nutzungen!$C101,Nutzungen!$E$2:$AM$72,Q$75-1)","v":0.88},{"$f":"HLOOKUP(Nutzungen!$C101,Nutzungen!$E$2:$AM$72,R$75-1)","v":0},{"$f":"HLOOKUP(Nutzungen!$C101,Nutzungen!$E$2:$AM$72,S$75-1)","v":2},{"$f":"HLOOKUP(Nutzungen!$C101,Nutzungen!$E$2:$AM$72,T$75-1)","v":1},{"$f":"HLOOKUP(Nutzungen!$C101,Nutzungen!$E$2:$AM$72,U$75-1)","v":0.67},{"$f":"HLOOKUP(Nutzungen!$C101,Nutzungen!$E$2:$AM$72,V$75-1)","v":0.6},{"$f":"HLOOKUP(Nutzungen!$C101,Nutzungen!$E$2:$AM$72,W$75-1)","v":1.1200000000000001},{"$f":"HLOOKUP(Nutzungen!$C101,Nutzungen!$E$2:$AM$72,X$75-1)","v":0.8},{"$f":"HLOOKUP(Nutzungen!$C101,Nutzungen!$E$2:$AM$72,Y$75-1)","v":0},{"$f":"HLOOKUP(Nutzungen!$C101,Nutzungen!$E$2:$AM$72,Z$75-1)","v":"-"},{"$f":"HLOOKUP(Nutzungen!$C101,Nutzungen!$E$2:$AM$72,AA$75-1)","v":20},{"$f":"HLOOKUP(Nutzungen!$C101,Nutzungen!$E$2:$AM$72,AB$75-1)","v":0},{"$f":"HLOOKUP(Nutzungen!$C101,Nutzungen!$E$2:$AM$72,AC$75-1)","v":0},{"$f":"HLOOKUP(Nutzungen!$C101,Nutzungen!$E$2:$AM$72,AD$75-1)","v":28},{"$f":"HLOOKUP(Nutzungen!$C101,Nutzungen!$E$2:$AM$72,AE$75-1)","v":245},{"$f":"HLOOKUP(Nutzungen!$C101,Nutzungen!$E$2:$AM$72,AF$75-1)","v":42},{"$f":"HLOOKUP(Nutzungen!$C101,Nutzungen!$E$2:$AM$72,AG$75-1)","v":315},{"$f":"HLOOKUP(Nutzungen!$C101,Nutzungen!$E$2:$AM$72,AH$75-1)","v":0},{"$f":"HLOOKUP(Nutzungen!$C101,Nutzungen!$E$2:$AM$72,AI$75-1)","v":0},{"$f":"HLOOKUP(Nutzungen!$C101,Nutzungen!$E$2:$AM$72,AJ$75-1)","v":0},{"$f":"HLOOKUP(Nutzungen!$C101,Nutzungen!$E$2:$AM$72,AK$75-1)","v":21},{"$f":"HLOOKUP(Nutzungen!$C101,Nutzungen!$E$2:$AM$72,AL$75-1)","v":4},{"$f":"HLOOKUP(Nutzungen!$C101,Nutzungen!$E$2:$AM$72,AM$75-1)","v":24},{"$f":"HLOOKUP(Nutzungen!$C101,Nutzungen!$E$2:$AM$72,AN$75-1)","v":20},{"$f":"HLOOKUP(Nutzungen!$C101,Nutzungen!$E$2:$AM$72,AO$75-1)","v":26},{"$f":"HLOOKUP(Nutzungen!$C101,Nutzungen!$E$2:$AM$72,AP$75-1)","v":0},{"$f":"HLOOKUP(Nutzungen!$C101,Nutzungen!$E$2:$AM$72,AQ$75-1)","v":-12},{"$f":"HLOOKUP(Nutzungen!$C101,Nutzungen!$E$2:$AM$72,AR$75-1)","v":24.6},{"$f":"HLOOKUP(Nutzungen!$C101,Nutzungen!$E$2:$AM$72,AS$75-1)","v":18.899999999999999},{"$f":"HLOOKUP(Nutzungen!$C101,Nutzungen!$E$2:$AM$72,AT$75-1)","v":0.9},{"$f":"HLOOKUP(Nutzungen!$C101,Nutzungen!$E$2:$AM$72,AU$75-1)","v":0.9},{"$f":"HLOOKUP(Nutzungen!$C101,Nutzungen!$E$2:$AM$72,AV$75-1)","v":0},{"$f":"HLOOKUP(Nutzungen!$C101,Nutzungen!$E$2:$AM$72,AW$75-1)","v":"A11"},{"$f":"HLOOKUP(Nutzungen!$C101,Nutzungen!$E$2:$AM$72,AX$75-1)","v":0},{"$f":"HLOOKUP(Nutzungen!$C101,Nutzungen!$E$2:$AM$72,AY$75-1)","v":0},{"$f":"HLOOKUP(Nutzungen!$C101,Nutzungen!$E$2:$AM$72,AZ$75-1)","v":0},{"$f":"HLOOKUP(Nutzungen!$C101,Nutzungen!$E$2:$AM$72,BA$75-1)","v":4},{"$f":"HLOOKUP(Nutzungen!$C101,Nutzungen!$E$2:$AM$72,BB$75-1)","v":20},{"$f":"HLOOKUP(Nutzungen!$C101,Nutzungen!$E$2:$AM$72,BC$75-1)","v":20},{"$f":"HLOOKUP(Nutzungen!$C101,Nutzungen!$E$2:$AM$72,BD$75-1)","v":400},{"$f":"HLOOKUP(Nutzungen!$C101,Nutzungen!$E$2:$AM$72,BE$75-1)","v":1600},{"$f":"HLOOKUP(Nutzungen!$C101,Nutzungen!$E$2:$AM$72,BF$75-1)","v":"C"},{"$f":"HLOOKUP(Nutzungen!$C101,Nutzungen!$E$2:$AM$72,BG$75-1)","v":0},{"$f":"HLOOKUP(Nutzungen!$C101,Nutzungen!$E$2:$AM$72,BH$75-1)","v":0.34313725490196068},{"$f":"HLOOKUP(Nutzungen!$C101,Nutzungen!$E$2:$AM$72,BI$75-1)","v":0.24509803921568626},{"$f":"HLOOKUP(Nutzungen!$C101,Nutzungen!$E$2:$AM$72,BJ$75-1)","v":0.22166666666666671},{"$f":"HLOOKUP(Nutzungen!$C101,Nutzungen!$E$2:$AM$72,BK$75-1)","v":0.22166666666666671},{"$f":"HLOOKUP(Nutzungen!$C101,Nutzungen!$E$2:$AM$72,BL$75-1)","v":18},0.14509803921568626,1,{"$f":"HLOOKUP(Nutzungen!$C101,Nutzungen!$E$2:$AM$72,BO$75-1)","v":0},{"$f":"HLOOKUP(Nutzungen!$C101,Nutzungen!$E$2:$AM$72,BP$75-1)","v":0},{"$f":"HLOOKUP(Nutzungen!$C101,Nutzungen!$E$2:$AM$72,BQ$75-1)","v":0},{"$f":"HLOOKUP(Nutzungen!$C101,Nutzungen!$E$2:$AM$72,BR$75-1)","v":20},{"$f":"HLOOKUP(Nutzungen!$C101,Nutzungen!$E$2:$AM$72,BS$75-1)","v":20},{"$f":"HLOOKUP(Nutzungen!$C101,Nutzungen!$E$2:$AM$72,BT$75-1)","v":20},{"$f":"HLOOKUP(Nutzungen!$C101,Nutzungen!$E$2:$AM$72,BU$75-1)","v":20}]
[24,"Zuschauerbereich","23 Zuschauer",null,{"$f":"HLOOKUP(Nutzungen!$C102,Nutzungen!$E$2:$AM$72,E$75-1)","v":19},{"$f":"HLOOKUP(Nutzungen!$C102,Nutzungen!$E$2:$AM$72,F$75-1)","v":23},{"$f":"HLOOKUP(Nutzungen!$C102,Nutzungen!$E$2:$AM$72,G$75-1)","v":4},{"$f":"HLOOKUP(Nutzungen!$C102,Nutzungen!$E$2:$AM$72,H$75-1)","v":250},{"$f":"HLOOKUP(Nutzungen!$C102,Nutzungen!$E$2:$AM$72,I$75-1)","v":55},{"$f":"HLOOKUP(Nutzungen!$C102,Nutzungen!$E$2:$AM$72,J$75-1)","v":946},{"$f":"HLOOKUP(Nutzungen!$C102,Nutzungen!$E$2:$AM$72,K$75-1)","v":6},{"$f":"HLOOKUP(Nutzungen!$C102,Nutzungen!$E$2:$AM$72,L$75-1)","v":250},{"$f":"HLOOKUP(Nutzungen!$C102,Nutzungen!$E$2:$AM$72,M$75-1)","v":6},{"$f":"HLOOKUP(Nutzungen!$C102,Nutzungen!$E$2:$AM$72,N$75-1)","v":0},{"$f":"HLOOKUP(Nutzungen!$C102,Nutzungen!$E$2:$AM$72,O$75-1)","v":200},{"$f":"HLOOKUP(Nutzungen!$C102,Nutzungen!$E$2:$AM$72,P$75-1)","v":0.8},{"$f":"HLOOKUP(Nutzungen!$C102,Nutzungen!$E$2:$AM$72,Q$75-1)","v":0.97},{"$f":"HLOOKUP(Nutzungen!$C102,Nutzungen!$E$2:$AM$72,R$75-1)","v":0},{"$f":"HLOOKUP(Nutzungen!$C102,Nutzungen!$E$2:$AM$72,S$75-1)","v":4},{"$f":"HLOOKUP(Nutzungen!$C102,Nutzungen!$E$2:$AM$72,T$75-1)","v":1},{"$f":"HLOOKUP(Nutzungen!$C102,Nutzungen!$E$2:$AM$72,U$75-1)","v":0.67},{"$f":"HLOOKUP(Nutzungen!$C102,Nutzungen!$E$2:$AM$72,V$75-1)","v":0.8},{"$f":"HLOOKUP(Nutzungen!$C102,Nutzungen!$E$2:$AM$72,W$75-1)","v":0.84},{"$f":"HLOOKUP(Nutzungen!$C102,Nutzungen!$E$2:$AM$72,X$75-1)","v":0.9},{"$f":"HLOOKUP(Nutzungen!$C102,Nutzungen!$E$2:$AM$72,Y$75-1)","v":0},{"$f":"HLOOKUP(Nutzungen!$C102,Nutzungen!$E$2:$AM$72,Z$75-1)","v":"m. T."},{"$f":"HLOOKUP(Nutzungen!$C102,Nutzungen!$E$2:$AM$72,AA$75-1)","v":40},{"$f":"HLOOKUP(Nutzungen!$C102,Nutzungen!$E$2:$AM$72,AB$75-1)","v":0},{"$f":"HLOOKUP(Nutzungen!$C102,Nutzungen!$E$2:$AM$72,AC$75-1)","v":0},{"$f":"HLOOKUP(Nutzungen!$C102,Nutzungen!$E$2:$AM$72,AD$75-1)","v":186},{"$f":"HLOOKUP(Nutzungen!$C102,Nutzungen!$E$2:$AM$72,AE$75-1)","v":0},{"$f":"HLOOKUP(Nutzungen!$C102,Nutzungen!$E$2:$AM$72,AF$75-1)","v":280},{"$f":"HLOOKUP(Nutzungen!$C102,Nutzungen!$E$2:$AM$72,AG$75-1)","v":0},{"$f":"HLOOKUP(Nutzungen!$C102,Nutzungen!$E$2:$AM$72,AH$75-1)","v":0},{"$f":"HLOOKUP(Nutzungen!$C102,Nutzungen!$E$2:$AM$72,AI$75-1)","v":0},{"$f":"HLOOKUP(Nutzungen!$C102,Nutzungen!$E$2:$AM$72,AJ$75-1)","v":0},{"$f":"HLOOKUP(Nutzungen!$C102,Nutzungen!$E$2:$AM$72,AK$75-1)","v":21},{"$f":"HLOOKUP(Nutzungen!$C102,Nutzungen!$E$2:$AM$72,AL$75-1)","v":4},{"$f":"HLOOKUP(Nutzungen!$C102,Nutzungen!$E$2:$AM$72,AM$75-1)","v":24},{"$f":"HLOOKUP(Nutzungen!$C102,Nutzungen!$E$2:$AM$72,AN$75-1)","v":20},{"$f":"HLOOKUP(Nutzungen!$C102,Nutzungen!$E$2:$AM$72,AO$75-1)","v":26},{"$f":"HLOOKUP(Nutzungen!$C102,Nutzungen!$E$2:$AM$72,AP$75-1)","v":0},{"$f":"HLOOKUP(Nutzungen!$C102,Nutzungen!$E$2:$AM$72,AQ$75-1)","v":-12},{"$f":"HLOOKUP(Nutzungen!$C102,Nutzungen!$E$2:$AM$72,AR$75-1)","v":24.6},{"$f":"HLOOKUP(Nutzungen!$C102,Nutzungen!$E$2:$AM$72,AS$75-1)","v":18.899999999999999},{"$f":"HLOOKUP(Nutzungen!$C102,Nutzungen!$E$2:$AM$72,AT$75-1)","v":0.9},{"$f":"HLOOKUP(Nutzungen!$C102,Nutzungen!$E$2:$AM$72,AU$75-1)","v":0.9},{"$f":"HLOOKUP(Nutzungen!$C102,Nutzungen!$E$2:$AM$72,AV$75-1)","v":0},{"$f":"HLOOKUP(Nutzungen!$C102,Nutzungen!$E$2:$AM$72,AW$75-1)","v":"A12"},{"$f":"HLOOKUP(Nutzungen!$C102,Nutzungen!$E$2:$AM$72,AX$75-1)","v":0},{"$f":"HLOOKUP(Nutzungen!$C102,Nutzungen!$E$2:$AM$72,AY$75-1)","v":1},{"$f":"HLOOKUP(Nutzungen!$C102,Nutzungen!$E$2:$AM$72,AZ$75-1)","v":0},{"$f":"HLOOKUP(Nutzungen!$C102,Nutzungen!$E$2:$AM$72,BA$75-1)","v":6},{"$f":"HLOOKUP(Nutzungen!$C102,Nutzungen!$E$2:$AM$72,BB$75-1)","v":20},{"$f":"HLOOKUP(Nutzungen!$C102,Nutzungen!$E$2:$AM$72,BC$75-1)","v":10},{"$f":"HLOOKUP(Nutzungen!$C102,Nutzungen!$E$2:$AM$72,BD$75-1)","v":200},{"$f":"HLOOKUP(Nutzungen!$C102,Nutzungen!$E$2:$AM$72,BE$75-1)","v":1200},{"$f":"HLOOKUP(Nutzungen!$C102,Nutzungen!$E$2:$AM$72,BF$75-1)","v":"C"},{"$f":"HLOOKUP(Nutzungen!$C102,Nutzungen!$E$2:$AM$72,BG$75-1)","v":0},{"$f":"HLOOKUP(Nutzungen!$C102,Nutzungen!$E$2:$AM$72,BH$75-1)","v":0.34313725490196068},{"$f":"HLOOKUP(Nutzungen!$C102,Nutzungen!$E$2:$AM$72,BI$75-1)","v":0.24509803921568626},{"$f":"HLOOKUP(Nutzungen!$C102,Nutzungen!$E$2:$AM$72,BJ$75-1)","v":0.22166666666666671},{"$f":"HLOOKUP(Nutzungen!$C102,Nutzungen!$E$2:$AM$72,BK$75-1)","v":0.22166666666666671},{"$f":"HLOOKUP(Nutzungen!$C102,Nutzungen!$E$2:$AM$72,BL$75-1)","v":22},0.14509803921568626,1,{"$f":"HLOOKUP(Nutzungen!$C102,Nutzungen!$E$2:$AM$72,BO$75-1)","v":5},{"$f":"HLOOKUP(Nutzungen!$C102,Nutzungen!$E$2:$AM$72,BP$75-1)","v":0.5},{"$f":"HLOOKUP(Nutzungen!$C102,Nutzungen!$E$2:$AM$72,BQ$75-1)","v":0.5},{"$f":"HLOOKUP(Nutzungen!$C102,Nutzungen!$E$2:$AM$72,BR$75-1)","v":40},{"$f":"HLOOKUP(Nutzungen!$C102,Nutzungen!$E$2:$AM$72,BS$75-1)","v":22.5},{"$f":"HLOOKUP(Nutzungen!$C102,Nutzungen!$E$2:$AM$72,BT$75-1)","v":13.75},{"$f":"HLOOKUP(Nutzungen!$C102,Nutzungen!$E$2:$AM$72,BU$75-1)","v":13.75}]
[25,"Theater - Foyer","24 Theaterfoyer",null,{"$f":"HLOOKUP(Nutzungen!$C103,Nutzungen!$E$2:$AM$72,E$75-1)","v":19},{"$f":"HLOOKUP(Nutzungen!$C103,Nutzungen!$E$2:$AM$72,F$75-1)","v":23},{"$f":"HLOOKUP(Nutzungen!$C103,Nutzungen!$E$2:$AM$72,G$75-1)","v":4},{"$f":"HLOOKUP(Nutzungen!$C103,Nutzungen!$E$2:$AM$72,H$75-1)","v":250},{"$f":"HLOOKUP(Nutzungen!$C103,Nutzungen!$E$2:$AM$72,I$75-1)","v":55},{"$f":"HLOOKUP(Nutzungen!$C103,Nutzungen!$E$2:$AM$72,J$75-1)","v":946},{"$f":"HLOOKUP(Nutzungen!$C103,Nutzungen!$E$2:$AM$72,K$75-1)","v":6},{"$f":"HLOOKUP(Nutzungen!$C103,Nutzungen!$E$2:$AM$72,L$75-1)","v":250},{"$f":"HLOOKUP(Nutzungen!$C103,Nutzungen!$E$2:$AM$72,M$75-1)","v":6},{"$f":"HLOOKUP(Nutzungen!$C103,Nutzungen!$E$2:$AM$72,N$75-1)","v":0},{"$f":"HLOOKUP(Nutzungen!$C103,Nutzungen!$E$2:$AM$72,O$75-1)","v":300},{"$f":"HLOOKUP(Nutzungen!$C103,Nutzungen!$E$2:$AM$72,P$75-1)","v":0.8},{"$f":"HLOOKUP(Nutzungen!$C103,Nutzungen!$E$2:$AM$72,Q$75-1)","v":1},{"$f":"HLOOKUP(Nutzungen!$C103,Nutzungen!$E$2:$AM$72,R$75-1)","v":0.5},{"$f":"HLOOKUP(Nutzungen!$C103,Nutzungen!$E$2:$AM$72,S$75-1)","v":4},{"$f":"HLOOKUP(Nutzungen!$C103,Nutzungen!$E$2:$AM$72,T$75-1)","v":1},{"$f":"HLOOKUP(Nutzungen!$C103,Nutzungen!$E$2:$AM$72,U$75-1)","v":0.67},{"$f":"HLOOKUP(Nutzungen!$C103,Nutzungen!$E$2:$AM$72,V$75-1)","v":0.8},{"$f":"HLOOKUP(Nutzungen!$C103,Nutzungen!$E$2:$AM$72,W$75-1)","v":0.84},{"$f":"HLOOKUP(Nutzungen!$C103,Nutzungen!$E$2:$AM$72,X$75-1)","v":0.9},{"$f":"HLOOKUP(Nutzungen!$C103,Nutzungen!$E$2:$AM$72,Y$75-1)","v":0},{"$f":"HLOOKUP(Nutzungen!$C103,Nutzungen!$E$2:$AM$72,Z$75-1)","v":"m. T."},{"$f":"HLOOKUP(Nutzungen!$C103,Nutzungen!$E$2:$AM$72,AA$75-1)","v":25},{"$f":"HLOOKUP(Nutzungen!$C103,Nutzungen!$E$2:$AM$72,AB$75-1)","v":0},{"$f":"HLOOKUP(Nutzungen!$C103,Nutzungen!$E$2:$AM$72,AC$75-1)","v":0},{"$f":"HLOOKUP(Nutzungen!$C103,Nutzungen!$E$2:$AM$72,AD$75-1)","v":88},{"$f":"HLOOKUP(Nutzungen!$C103,Nutzungen!$E$2:$AM$72,AE$75-1)","v":0},{"$f":"HLOOKUP(Nutzungen!$C103,Nutzungen!$E$2:$AM$72,AF$75-1)","v":140},{"$f":"HLOOKUP(Nutzungen!$C103,Nutzungen!$E$2:$AM$72,AG$75-1)","v":0},{"$f":"HLOOKUP(Nutzungen!$C103,Nutzungen!$E$2:$AM$72,AH$75-1)","v":0},{"$f":"HLOOKUP(Nutzungen!$C103,Nutzungen!$E$2:$AM$72,AI$75-1)","v":0},{"$f":"HLOOKUP(Nutzungen!$C103,Nutzungen!$E$2:$AM$72,AJ$75-1)","v":0},{"$f":"HLOOKUP(Nutzungen!$C103,Nutzungen!$E$2:$AM$72,AK$75-1)","v":21},{"$f":"HLOOKUP(Nutzungen!$C103,Nutzungen!$E$2:$AM$72,AL$75-1)","v":4},{"$f":"HLOOKUP(Nutzungen!$C103,Nutzungen!$E$2:$AM$72,AM$75-1)","v":24},{"$f":"HLOOKUP(Nutzungen!$C103,Nutzungen!$E$2:$AM$72,AN$75-1)","v":20},{"$f":"HLOOKUP(Nutzungen!$C103,Nutzungen!$E$2:$AM$72,AO$75-1)","v":26},{"$f":"HLOOKUP(Nutzungen!$C103,Nutzungen!$E$2:$AM$72,AP$75-1)","v":0},{"$f":"HLOOKUP(Nutzungen!$C103,Nutzungen!$E$2:$AM$72,AQ$75-1)","v":-12},{"$f":"HLOOKUP(Nutzungen!$C103,Nutzungen!$E$2:$AM$72,AR$75-1)","v":24.6},{"$f":"HLOOKUP(Nutzungen!$C103,Nutzungen!$E$2:$AM$72,AS$75-1)","v":18.899999999999999},{"$f":"HLOOKUP(Nutzungen!$C103,Nutzungen!$E$2:$AM$72,AT$75-1)","v":0.9},{"$f":"HLOOKUP(Nutzungen!$C103,Nutzungen!$E$2:$AM$72,AU$75-1)","v":0.9},{"$f":"HLOOKUP(Nutzungen!$C103,Nutzungen!$E$2:$AM$72,AV$75-1)","v":0},{"$f":"HLOOKUP(Nutzungen!$C103,Nutzungen!$E$2:$AM$72,AW$75-1)","v":"A12"},{"$f":"HLOOKUP(Nutzungen!$C103,Nutzungen!$E$2:$AM$72,AX$75-1)","v":0},{"$f":"HLOOKUP(Nutzungen!$C103,Nutzungen!$E$2:$AM$72,AY$75-1)","v":0},{"$f":"HLOOKUP(Nutzungen!$C103,Nutzungen!$E$2:$AM$72,AZ$75-1)","v":0},{"$f":"HLOOKUP(Nutzungen!$C103,Nutzungen!$E$2:$AM$72,BA$75-1)","v":3},{"$f":"HLOOKUP(Nutzungen!$C103,Nutzungen!$E$2:$AM$72,BB$75-1)","v":12},{"$f":"HLOOKUP(Nutzungen!$C103,Nutzungen!$E$2:$AM$72,BC$75-1)","v":12},{"$f":"HLOOKUP(Nutzungen!$C103,Nutzungen!$E$2:$AM$72,BD$75-1)","v":144},{"$f":"HLOOKUP(Nutzungen!$C103,Nutzungen!$E$2:$AM$72,BE$75-1)","v":432},{"$f":"HLOOKUP(Nutzungen!$C103,Nutzungen!$E$2:$AM$72,BF$75-1)","v":"C"},{"$f":"HLOOKUP(Nutzungen!$C103,Nutzungen!$E$2:$AM$72,BG$75-1)","v":0},{"$f":"HLOOKUP(Nutzungen!$C103,Nutzungen!$E$2:$AM$72,BH$75-1)","v":0.34313725490196068},{"$f":"HLOOKUP(Nutzungen!$C103,Nutzungen!$E$2:$AM$72,BI$75-1)","v":0.24509803921568626},{"$f":"HLOOKUP(Nutzungen!$C103,Nutzungen!$E$2:$AM$72,BJ$75-1)","v":0.22166666666666671},{"$f":"HLOOKUP(Nutzungen!$C103,Nutzungen!$E$2:$AM$72,BK$75-1)","v":0.22166666666666671},{"$f":"HLOOKUP(Nutzungen!$C103,Nutzungen!$E$2:$AM$72,BL$75-1)","v":21},0.14509803921568626,1,{"$f":"HLOOKUP(Nutzungen!$C103,Nutzungen!$E$2:$AM$72,BO$75-1)","v":5},{"$f":"HLOOKUP(Nutzungen!$C103,Nutzungen!$E$2:$AM$72,BP$75-1)","v":0.5},{"$f":"HLOOKUP(Nutzungen!$C103,Nutzungen!$E$2:$AM$72,BQ$75-1)","v":1},{"$f":"HLOOKUP(Nutzungen!$C103,Nutzungen!$E$2:$AM$72,BR$75-1)","v":25},{"$f":"HLOOKUP(Nutzungen!$C103,Nutzungen!$E$2:$AM$72,BS$75-1)","v":25},{"$f":"HLOOKUP(Nutzungen!$C103,Nutzungen!$E$2:$AM$72,BT$75-1)","v":15},{"$f":"HLOOKUP(Nutzungen!$C103,Nutzungen!$E$2:$AM$72,BU$75-1)","v":15}]
[26,"Bühne","25 Theaterbühne",null,{"$f":"HLOOKUP(Nutzungen!$C104,Nutzungen!$E$2:$AM$72,E$75-1)","v":13},{"$f":"HLOOKUP(Nutzungen!$C104,Nutzungen!$E$2:$AM$72,F$75-1)","v":23},{"$f":"HLOOKUP(Nutzungen!$C104,Nutzungen!$E$2:$AM$72,G$75-1)","v":10},{"$f":"HLOOKUP(Nutzungen!$C104,Nutzungen!$E$2:$AM$72,H$75-1)","v":250},{"$f":"HLOOKUP(Nutzungen!$C104,Nutzungen!$E$2:$AM$72,I$75-1)","v":1253},{"$f":"HLOOKUP(Nutzungen!$C104,Nutzungen!$E$2:$AM$72,J$75-1)","v":1247},{"$f":"HLOOKUP(Nutzungen!$C104,Nutzungen!$E$2:$AM$72,K$75-1)","v":12},{"$f":"HLOOKUP(Nutzungen!$C104,Nutzungen!$E$2:$AM$72,L$75-1)","v":250},{"$f":"HLOOKUP(Nutzungen!$C104,Nutzungen!$E$2:$AM$72,M$75-1)","v":12},{"$f":"HLOOKUP(Nutzungen!$C104,Nutzungen!$E$2:$AM$72,N$75-1)","v":0},{"$f":"HLOOKUP(Nutzungen!$C104,Nutzungen!$E$2:$AM$72,O$75-1)","v":1000},{"$f":"HLOOKUP(Nutzungen!$C104,Nutzungen!$E$2:$AM$72,P$75-1)","v":0.8},{"$f":"HLOOKUP(Nutzungen!$C104,Nutzungen!$E$2:$AM$72,Q$75-1)","v":0.9},{"$f":"HLOOKUP(Nutzungen!$C104,Nutzungen!$E$2:$AM$72,R$75-1)","v":0},{"$f":"HLOOKUP(Nutzungen!$C104,Nutzungen!$E$2:$AM$72,S$75-1)","v":2.5},{"$f":"HLOOKUP(Nutzungen!$C104,Nutzungen!$E$2:$AM$72,T$75-1)","v":0.6},{"$f":"HLOOKUP(Nutzungen!$C104,Nutzungen!$E$2:$AM$72,U$75-1)","v":0.67},{"$f":"HLOOKUP(Nutzungen!$C104,Nutzungen!$E$2:$AM$72,V$75-1)","v":0.8},{"$f":"HLOOKUP(Nutzungen!$C104,Nutzungen!$E$2:$AM$72,W$75-1)","v":0.84},{"$f":"HLOOKUP(Nutzungen!$C104,Nutzungen!$E$2:$AM$72,X$75-1)","v":0.9},{"$f":"HLOOKUP(Nutzungen!$C104,Nutzungen!$E$2:$AM$72,Y$75-1)","v":0},{"$f":"HLOOKUP(Nutzungen!$C104,Nutzungen!$E$2:$AM$72,Z$75-1)","v":"m. T."},{"$f":"HLOOKUP(Nutzungen!$C104,Nutzungen!$E$2:$AM$72,AA$75-1)","v":0.3},{"$f":"HLOOKUP(Nutzungen!$C104,Nutzungen!$E$2:$AM$72,AB$75-1)","v":0},{"$f":"HLOOKUP(Nutzungen!$C104,Nutzungen!$E$2:$AM$72,AC$75-1)","v":0},{"$f":"HLOOKUP(Nutzungen!$C104,Nutzungen!$E$2:$AM$72,AD$75-1)","v":0},{"$f":"HLOOKUP(Nutzungen!$C104,Nutzungen!$E$2:$AM$72,AE$75-1)","v":0},{"$f":"HLOOKUP(Nutzungen!$C104,Nutzungen!$E$2:$AM$72,AF$75-1)","v":0},{"$f":"HLOOKUP(Nutzungen!$C104,Nutzungen!$E$2:$AM$72,AG$75-1)","v":0},{"$f":"HLOOKUP(Nutzungen!$C104,Nutzungen!$E$2:$AM$72,AH$75-1)","v":0},{"$f":"HLOOKUP(Nutzungen!$C104,Nutzungen!$E$2:$AM$72,AI$75-1)","v":0},{"$f":"HLOOKUP(Nutzungen!$C104,Nutzungen!$E$2:$AM$72,AJ$75-1)","v":0},{"$f":"HLOOKUP(Nutzungen!$C104,Nutzungen!$E$2:$AM$72,AK$75-1)","v":21},{"$f":"HLOOKUP(Nutzungen!$C104,Nutzungen!$E$2:$AM$72,AL$75-1)","v":4},{"$f":"HLOOKUP(Nutzungen!$C104,Nutzungen!$E$2:$AM$72,AM$75-1)","v":24},{"$f":"HLOOKUP(Nutzungen!$C104,Nutzungen!$E$2:$AM$72,AN$75-1)","v":20},{"$f":"HLOOKUP(Nutzungen!$C104,Nutzungen!$E$2:$AM$72,AO$75-1)","v":26},{"$f":"HLOOKUP(Nutzungen!$C104,Nutzungen!$E$2:$AM$72,AP$75-1)","v":0},{"$f":"HLOOKUP(Nutzungen!$C104,Nutzungen!$E$2:$AM$72,AQ$75-1)","v":-12},{"$f":"HLOOKUP(Nutzungen!$C104,Nutzungen!$E$2:$AM$72,AR$75-1)","v":24.6},{"$f":"HLOOKUP(Nutzungen!$C104,Nutzungen!$E$2:$AM$72,AS$75-1)","v":18.899999999999999},{"$f":"HLOOKUP(Nutzungen!$C104,Nutzungen!$E$2:$AM$72,AT$75-1)","v":0.9},{"$f":"HLOOKUP(Nutzungen!$C104,Nutzungen!$E$2:$AM$72,AU$75-1)","v":0.9},{"$f":"HLOOKUP(Nutzungen!$C104,Nutzungen!$E$2:$AM$72,AV$75-1)","v":0},{"$f":"HLOOKUP(Nutzungen!$C104,Nutzungen!$E$2:$AM$72,AW$75-1)","v":"A13"},{"$f":"HLOOKUP(Nutzungen!$C104,Nutzungen!$E$2:$AM$72,AX$75-1)","v":0},{"$f":"HLOOKUP(Nutzungen!$C104,Nutzungen!$E$2:$AM$72,AY$75-1)","v":0},{"$f":"HLOOKUP(Nutzungen!$C104,Nutzungen!$E$2:$AM$72,AZ$75-1)","v":0},{"$f":"HLOOKUP(Nutzungen!$C104,Nutzungen!$E$2:$AM$72,BA$75-1)","v":6},{"$f":"HLOOKUP(Nutzungen!$C104,Nutzungen!$E$2:$AM$72,BB$75-1)","v":10},{"$f":"HLOOKUP(Nutzungen!$C104,Nutzungen!$E$2:$AM$72,BC$75-1)","v":5},{"$f":"HLOOKUP(Nutzungen!$C104,Nutzungen!$E$2:$AM$72,BD$75-1)","v":50},{"$f":"HLOOKUP(Nutzungen!$C104,Nutzungen!$E$2:$AM$72,BE$75-1)","v":300},{"$f":"HLOOKUP(Nutzungen!$C104,Nutzungen!$E$2:$AM$72,BF$75-1)","v":"D"},{"$f":"HLOOKUP(Nutzungen!$C104,Nutzungen!$E$2:$AM$72,BG$75-1)","v":0},{"$f":"HLOOKUP(Nutzungen!$C104,Nutzungen!$E$2:$AM$72,BH$75-1)","v":0.34313725490196068},{"$f":"HLOOKUP(Nutzungen!$C104,Nutzungen!$E$2:$AM$72,BI$75-1)","v":0.24509803921568626},{"$f":"HLOOKUP(Nutzungen!$C104,Nutzungen!$E$2:$AM$72,BJ$75-1)","v":0.22166666666666671},{"$f":"HLOOKUP(Nutzungen!$C104,Nutzungen!$E$2:$AM$72,BK$75-1)","v":0.22166666666666671},{"$f":"HLOOKUP(Nutzungen!$C104,Nutzungen!$E$2:$AM$72,BL$75-1)","v":21},0,1,{"$f":"HLOOKUP(Nutzungen!$C104,Nutzungen!$E$2:$AM$72,BO$75-1)","v":0},{"$f":"HLOOKUP(Nutzungen!$C104,Nutzungen!$E$2:$AM$72,BP$75-1)","v":0},{"$f":"HLOOKUP(Nutzungen!$C104,Nutzungen!$E$2:$AM$72,BQ$75-1)","v":1},{"$f":"HLOOKUP(Nutzungen!$C104,Nutzungen!$E$2:$AM$72,BR$75-1)","v":0.3},{"$f":"HLOOKUP(Nutzungen!$C104,Nutzungen!$E$2:$AM$72,BS$75-1)","v":0.3},{"$f":"HLOOKUP(Nutzungen!$C104,Nutzungen!$E$2:$AM$72,BT$75-1)","v":0.3},{"$f":"HLOOKUP(Nutzungen!$C104,Nutzungen!$E$2:$AM$72,BU$75-1)","v":0.3}]
[27,"Messe/Kongress","26 Messe, Kongress",null,{"$f":"HLOOKUP(Nutzungen!$C105,Nutzungen!$E$2:$AM$72,E$75-1)","v":13},{"$f":"HLOOKUP(Nutzungen!$C105,Nutzungen!$E$2:$AM$72,F$75-1)","v":18},{"$f":"HLOOKUP(Nutzungen!$C105,Nutzungen!$E$2:$AM$72,G$75-1)","v":5},{"$f":"HLOOKUP(Nutzungen!$C105,Nutzungen!$E$2:$AM$72,H$75-1)","v":150},{"$f":"HLOOKUP(Nutzungen!$C105,Nutzungen!$E$2:$AM$72,I$75-1)","v":1260},{"$f":"HLOOKUP(Nutzungen!$C105,Nutzungen!$E$2:$AM$72,J$75-1)","v":90},{"$f":"HLOOKUP(Nutzungen!$C105,Nutzungen!$E$2:$AM$72,K$75-1)","v":11},{"$f":"HLOOKUP(Nutzungen!$C105,Nutzungen!$E$2:$AM$72,L$75-1)","v":150},{"$f":"HLOOKUP(Nutzungen!$C105,Nutzungen!$E$2:$AM$72,M$75-1)","v":11},{"$f":"HLOOKUP(Nutzungen!$C105,Nutzungen!$E$2:$AM$72,N$75-1)","v":0},{"$f":"HLOOKUP(Nutzungen!$C105,Nutzungen!$E$2:$AM$72,O$75-1)","v":300},{"$f":"HLOOKUP(Nutzungen!$C105,Nutzungen!$E$2:$AM$72,P$75-1)","v":0.8},{"$f":"HLOOKUP(Nutzungen!$C105,Nutzungen!$E$2:$AM$72,Q$75-1)","v":0.93},{"$f":"HLOOKUP(Nutzungen!$C105,Nutzungen!$E$2:$AM$72,R$75-1)","v":0.5},{"$f":"HLOOKUP(Nutzungen!$C105,Nutzungen!$E$2:$AM$72,S$75-1)","v":5},{"$f":"HLOOKUP(Nutzungen!$C105,Nutzungen!$E$2:$AM$72,T$75-1)","v":1},{"$f":"HLOOKUP(Nutzungen!$C105,Nutzungen!$E$2:$AM$72,U$75-1)","v":0.67},{"$f":"HLOOKUP(Nutzungen!$C105,Nutzungen!$E$2:$AM$72,V$75-1)","v":0.8},{"$f":"HLOOKUP(Nutzungen!$C105,Nutzungen!$E$2:$AM$72,W$75-1)","v":0.84},{"$f":"HLOOKUP(Nutzungen!$C105,Nutzungen!$E$2:$AM$72,X$75-1)","v":0.9},{"$f":"HLOOKUP(Nutzungen!$C105,Nutzungen!$E$2:$AM$72,Y$75-1)","v":0},{"$f":"HLOOKUP(Nutzungen!$C105,Nutzungen!$E$2:$AM$72,Z$75-1)","v":"m. T."},{"$f":"HLOOKUP(Nutzungen!$C105,Nutzungen!$E$2:$AM$72,AA$75-1)","v":7},{"$f":"HLOOKUP(Nutzungen!$C105,Nutzungen!$E$2:$AM$72,AB$75-1)","v":0},{"$f":"HLOOKUP(Nutzungen!$C105,Nutzungen!$E$2:$AM$72,AC$75-1)","v":0},{"$f":"HLOOKUP(Nutzungen!$C105,Nutzungen!$E$2:$AM$72,AD$75-1)","v":138},{"$f":"HLOOKUP(Nutzungen!$C105,Nutzungen!$E$2:$AM$72,AE$75-1)","v":12},{"$f":"HLOOKUP(Nutzungen!$C105,Nutzungen!$E$2:$AM$72,AF$75-1)","v":210},{"$f":"HLOOKUP(Nutzungen!$C105,Nutzungen!$E$2:$AM$72,AG$75-1)","v":18},{"$f":"HLOOKUP(Nutzungen!$C105,Nutzungen!$E$2:$AM$72,AH$75-1)","v":0},{"$f":"HLOOKUP(Nutzungen!$C105,Nutzungen!$E$2:$AM$72,AI$75-1)","v":0},{"$f":"HLOOKUP(Nutzungen!$C105,Nutzungen!$E$2:$AM$72,AJ$75-1)","v":0},{"$f":"HLOOKUP(Nutzungen!$C105,Nutzungen!$E$2:$AM$72,AK$75-1)","v":21},{"$f":"HLOOKUP(Nutzungen!$C105,Nutzungen!$E$2:$AM$72,AL$75-1)","v":4},{"$f":"HLOOKUP(Nutzungen!$C105,Nutzungen!$E$2:$AM$72,AM$75-1)","v":24},{"$f":"HLOOKUP(Nutzungen!$C105,Nutzungen!$E$2:$AM$72,AN$75-1)","v":20},{"$f":"HLOOKUP(Nutzungen!$C105,Nutzungen!$E$2:$AM$72,AO$75-1)","v":26},{"$f":"HLOOKUP(Nutzungen!$C105,Nutzungen!$E$2:$AM$72,AP$75-1)","v":0},{"$f":"HLOOKUP(Nutzungen!$C105,Nutzungen!$E$2:$AM$72,AQ$75-1)","v":-12},{"$f":"HLOOKUP(Nutzungen!$C105,Nutzungen!$E$2:$AM$72,AR$75-1)","v":24.6},{"$f":"HLOOKUP(Nutzungen!$C105,Nutzungen!$E$2:$AM$72,AS$75-1)","v":18.899999999999999},{"$f":"HLOOKUP(Nutzungen!$C105,Nutzungen!$E$2:$AM$72,AT$75-1)","v":0.9},{"$f":"HLOOKUP(Nutzungen!$C105,Nutzungen!$E$2:$AM$72,AU$75-1)","v":0.9},{"$f":"HLOOKUP(Nutzungen!$C105,Nutzungen!$E$2:$AM$72,AV$75-1)","v":0},{"$f":"HLOOKUP(Nutzungen!$C105,Nutzungen!$E$2:$AM$72,AW$75-1)","v":"A5"},{"$f":"HLOOKUP(Nutzungen!$C105,Nutzungen!$E$2:$AM$72,AX$75-1)","v":0},{"$f":"HLOOKUP(Nutzungen!$C105,Nutzungen!$E$2:$AM$72,AY$75-1)","v":0},{"$f":"HLOOKUP(Nutzungen!$C105,Nutzungen!$E$2:$AM$72,AZ$75-1)","v":0},{"$f":"HLOOKUP(Nutzungen!$C105,Nutzungen!$E$2:$AM$72,BA$75-1)","v":6},{"$f":"HLOOKUP(Nutzungen!$C105,Nutzungen!$E$2:$AM$72,BB$75-1)","v":40},{"$f":"HLOOKUP(Nutzungen!$C105,Nutzungen!$E$2:$AM$72,BC$75-1)","v":20},{"$f":"HLOOKUP(Nutzungen!$C105,Nutzungen!$E$2:$AM$72,BD$75-1)","v":800},{"$f":"HLOOKUP(Nutzungen!$C105,Nutzungen!$E$2:$AM$72,BE$75-1)","v":4800},{"$f":"HLOOKUP(Nutzungen!$C105,Nutzungen!$E$2:$AM$72,BF$75-1)","v":"B"},{"$f":"HLOOKUP(Nutzungen!$C105,Nutzungen!$E$2:$AM$72,BG$75-1)","v":0},{"$f":"HLOOKUP(Nutzungen!$C105,Nutzungen!$E$2:$AM$72,BH$75-1)","v":0.34313725490196068},{"$f":"HLOOKUP(Nutzungen!$C105,Nutzungen!$E$2:$AM$72,BI$75-1)","v":0.24509803921568626},{"$f":"HLOOKUP(Nutzungen!$C105,Nutzungen!$E$2:$AM$72,BJ$75-1)","v":0.22166666666666671},{"$f":"HLOOKUP(Nutzungen!$C105,Nutzungen!$E$2:$AM$72,BK$75-1)","v":0.22166666666666671},{"$f":"HLOOKUP(Nutzungen!$C105,Nutzungen!$E$2:$AM$72,BL$75-1)","v":21},0.24509803921568626,1,{"$f":"HLOOKUP(Nutzungen!$C105,Nutzungen!$E$2:$AM$72,BO$75-1)","v":2.5},{"$f":"HLOOKUP(Nutzungen!$C105,Nutzungen!$E$2:$AM$72,BP$75-1)","v":0.7},{"$f":"HLOOKUP(Nutzungen!$C105,Nutzungen!$E$2:$AM$72,BQ$75-1)","v":1},{"$f":"HLOOKUP(Nutzungen!$C105,Nutzungen!$E$2:$AM$72,BR$75-1)","v":7},{"$f":"HLOOKUP(Nutzungen!$C105,Nutzungen!$E$2:$AM$72,BS$75-1)","v":7},{"$f":"HLOOKUP(Nutzungen!$C105,Nutzungen!$E$2:$AM$72,BT$75-1)","v":3.8500000000000005},{"$f":"HLOOKUP(Nutzungen!$C105,Nutzungen!$E$2:$AM$72,BU$75-1)","v":3.8500000000000005}]
[28,"Ausstellungsräume und Museum","27 Ausstellung",null,{"$f":"HLOOKUP(Nutzungen!$C106,Nutzungen!$E$2:$AM$72,E$75-1)","v":10},{"$f":"HLOOKUP(Nutzungen!$C106,Nutzungen!$E$2:$AM$72,F$75-1)","v":18},{"$f":"HLOOKUP(Nutzungen!$C106,Nutzungen!$E$2:$AM$72,G$75-1)","v":8},{"$f":"HLOOKUP(Nutzungen!$C106,Nutzungen!$E$2:$AM$72,H$75-1)","v":250},{"$f":"HLOOKUP(Nutzungen!$C106,Nutzungen!$E$2:$AM$72,I$75-1)","v":1850},{"$f":"HLOOKUP(Nutzungen!$C106,Nutzungen!$E$2:$AM$72,J$75-1)","v":151},{"$f":"HLOOKUP(Nutzungen!$C106,Nutzungen!$E$2:$AM$72,K$75-1)","v":24},{"$f":"HLOOKUP(Nutzungen!$C106,Nutzungen!$E$2:$AM$72,L$75-1)","v":365},{"$f":"HLOOKUP(Nutzungen!$C106,Nutzungen!$E$2:$AM$72,M$75-1)","v":24},{"$f":"HLOOKUP(Nutzungen!$C106,Nutzungen!$E$2:$AM$72,N$75-1)","v":0},{"$f":"HLOOKUP(Nutzungen!$C106,Nutzungen!$E$2:$AM$72,O$75-1)","v":200},{"$f":"HLOOKUP(Nutzungen!$C106,Nutzungen!$E$2:$AM$72,P$75-1)","v":0.8},{"$f":"HLOOKUP(Nutzungen!$C106,Nutzungen!$E$2:$AM$72,Q$75-1)","v":0.88},{"$f":"HLOOKUP(Nutzungen!$C106,Nutzungen!$E$2:$AM$72,R$75-1)","v":0},{"$f":"HLOOKUP(Nutzungen!$C106,Nutzungen!$E$2:$AM$72,S$75-1)","v":2},{"$f":"HLOOKUP(Nutzungen!$C106,Nutzungen!$E$2:$AM$72,T$75-1)","v":1},{"$f":"HLOOKUP(Nutzungen!$C106,Nutzungen!$E$2:$AM$72,U$75-1)","v":0.67},{"$f":"HLOOKUP(Nutzungen!$C106,Nutzungen!$E$2:$AM$72,V$75-1)","v":0.8},{"$f":"HLOOKUP(Nutzungen!$C106,Nutzungen!$E$2:$AM$72,W$75-1)","v":0.84},{"$f":"HLOOKUP(Nutzungen!$C106,Nutzungen!$E$2:$AM$72,X$75-1)","v":0.9},{"$f":"HLOOKUP(Nutzungen!$C106,Nutzungen!$E$2:$AM$72,Y$75-1)","v":0},{"$f":"HLOOKUP(Nutzungen!$C106,Nutzungen!$E$2:$AM$72,Z$75-1)","v":"o. T."},{"$f":"HLOOKUP(Nutzungen!$C106,Nutzungen!$E$2:$AM$72,AA$75-1)","v":2},{"$f":"HLOOKUP(Nutzungen!$C106,Nutzungen!$E$2:$AM$72,AB$75-1)","v":0},{"$f":"HLOOKUP(Nutzungen!$C106,Nutzungen!$E$2:$AM$72,AC$75-1)","v":0},{"$f":"HLOOKUP(Nutzungen!$C106,Nutzungen!$E$2:$AM$72,AD$75-1)","v":28},{"$f":"HLOOKUP(Nutzungen!$C106,Nutzungen!$E$2:$AM$72,AE$75-1)","v":0},{"$f":"HLOOKUP(Nutzungen!$C106,Nutzungen!$E$2:$AM$72,AF$75-1)","v":56},{"$f":"HLOOKUP(Nutzungen!$C106,Nutzungen!$E$2:$AM$72,AG$75-1)","v":0},{"$f":"HLOOKUP(Nutzungen!$C106,Nutzungen!$E$2:$AM$72,AH$75-1)","v":0},{"$f":"HLOOKUP(Nutzungen!$C106,Nutzungen!$E$2:$AM$72,AI$75-1)","v":0},{"$f":"HLOOKUP(Nutzungen!$C106,Nutzungen!$E$2:$AM$72,AJ$75-1)","v":0},{"$f":"HLOOKUP(Nutzungen!$C106,Nutzungen!$E$2:$AM$72,AK$75-1)","v":21},{"$f":"HLOOKUP(Nutzungen!$C106,Nutzungen!$E$2:$AM$72,AL$75-1)","v":4},{"$f":"HLOOKUP(Nutzungen!$C106,Nutzungen!$E$2:$AM$72,AM$75-1)","v":24},{"$f":"HLOOKUP(Nutzungen!$C106,Nutzungen!$E$2:$AM$72,AN$75-1)","v":20},{"$f":"HLOOKUP(Nutzungen!$C106,Nutzungen!$E$2:$AM$72,AO$75-1)","v":26},{"$f":"HLOOKUP(Nutzungen!$C106,Nutzungen!$E$2:$AM$72,AP$75-1)","v":0},{"$f":"HLOOKUP(Nutzungen!$C106,Nutzungen!$E$2:$AM$72,AQ$75-1)","v":-12},{"$f":"HLOOKUP(Nutzungen!$C106,Nutzungen!$E$2:$AM$72,AR$75-1)","v":24.6},{"$f":"HLOOKUP(Nutzungen!$C106,Nutzungen!$E$2:$AM$72,AS$75-1)","v":18.899999999999999},{"$f":"HLOOKUP(Nutzungen!$C106,Nutzungen!$E$2:$AM$72,AT$75-1)","v":0.9},{"$f":"HLOOKUP(Nutzungen!$C106,Nutzungen!$E$2:$AM$72,AU$75-1)","v":0.9},{"$f":"HLOOKUP(Nutzungen!$C106,Nutzungen!$E$2:$AM$72,AV$75-1)","v":0},{"$f":"HLOOKUP(Nutzungen!$C106,Nutzungen!$E$2:$AM$72,AW$75-1)","v":"A14"},{"$f":"HLOOKUP(Nutzungen!$C106,Nutzungen!$E$2:$AM$72,AX$75-1)","v":0},{"$f":"HLOOKUP(Nutzungen!$C106,Nutzungen!$E$2:$AM$72,AY$75-1)","v":0},{"$f":"HLOOKUP(Nutzungen!$C106,Nutzungen!$E$2:$AM$72,AZ$75-1)","v":0},{"$f":"HLOOKUP(Nutzungen!$C106,Nutzungen!$E$2:$AM$72,BA$75-1)","v":4},{"$f":"HLOOKUP(Nutzungen!$C106,Nutzungen!$E$2:$AM$72,BB$75-1)","v":20},{"$f":"HLOOKUP(Nutzungen!$C106,Nutzungen!$E$2:$AM$72,BC$75-1)","v":20},{"$f":"HLOOKUP(Nutzungen!$C106,Nutzungen!$E$2:$AM$72,BD$75-1)","v":400},{"$f":"HLOOKUP(Nutzungen!$C106,Nutzungen!$E$2:$AM$72,BE$75-1)","v":1600},{"$f":"HLOOKUP(Nutzungen!$C106,Nutzungen!$E$2:$AM$72,BF$75-1)","v":"B"},{"$f":"HLOOKUP(Nutzungen!$C106,Nutzungen!$E$2:$AM$72,BG$75-1)","v":0},{"$f":"HLOOKUP(Nutzungen!$C106,Nutzungen!$E$2:$AM$72,BH$75-1)","v":0.34313725490196068},{"$f":"HLOOKUP(Nutzungen!$C106,Nutzungen!$E$2:$AM$72,BI$75-1)","v":0.24509803921568626},{"$f":"HLOOKUP(Nutzungen!$C106,Nutzungen!$E$2:$AM$72,BJ$75-1)","v":0.22166666666666671},{"$f":"HLOOKUP(Nutzungen!$C106,Nutzungen!$E$2:$AM$72,BK$75-1)","v":0.22166666666666671},{"$f":"HLOOKUP(Nutzungen!$C106,Nutzungen!$E$2:$AM$72,BL$75-1)","v":21},0.24509803921568626,1,{"$f":"HLOOKUP(Nutzungen!$C106,Nutzungen!$E$2:$AM$72,BO$75-1)","v":2},{"$f":"HLOOKUP(Nutzungen!$C106,Nutzungen!$E$2:$AM$72,BP$75-1)","v":0.5},{"$f":"HLOOKUP(Nutzungen!$C106,Nutzungen!$E$2:$AM$72,BQ$75-1)","v":1},{"$f":"HLOOKUP(Nutzungen!$C106,Nutzungen!$E$2:$AM$72,BR$75-1)","v":2},{"$f":"HLOOKUP(Nutzungen!$C106,Nutzungen!$E$2:$AM$72,BS$75-1)","v":2},{"$f":"HLOOKUP(Nutzungen!$C106,Nutzungen!$E$2:$AM$72,BT$75-1)","v":2},{"$f":"HLOOKUP(Nutzungen!$C106,Nutzungen!$E$2:$AM$72,BU$75-1)","v":2}]
[29,"Bibliothek - Lesesaal","28 Bibliothek Lesesaal",null,{"$f":"HLOOKUP(Nutzungen!$C107,Nutzungen!$E$2:$AM$72,E$75-1)","v":8},{"$f":"HLOOKUP(Nutzungen!$C107,Nutzungen!$E$2:$AM$72,F$75-1)","v":20},{"$f":"HLOOKUP(Nutzungen!$C107,Nutzungen!$E$2:$AM$72,G$75-1)","v":12},{"$f":"HLOOKUP(Nutzungen!$C107,Nutzungen!$E$2:$AM$72,H$75-1)","v":300},{"$f":"HLOOKUP(Nutzungen!$C107,Nutzungen!$E$2:$AM$72,I$75-1)","v":2999},{"$f":"HLOOKUP(Nutzungen!$C107,Nutzungen!$E$2:$AM$72,J$75-1)","v":601},{"$f":"HLOOKUP(Nutzungen!$C107,Nutzungen!$E$2:$AM$72,K$75-1)","v":14},{"$f":"HLOOKUP(Nutzungen!$C107,Nutzungen!$E$2:$AM$72,L$75-1)","v":300},{"$f":"HLOOKUP(Nutzungen!$C107,Nutzungen!$E$2:$AM$72,M$75-1)","v":14},{"$f":"HLOOKUP(Nutzungen!$C107,Nutzungen!$E$2:$AM$72,N$75-1)","v":0},{"$f":"HLOOKUP(Nutzungen!$C107,Nutzungen!$E$2:$AM$72,O$75-1)","v":500},{"$f":"HLOOKUP(Nutzungen!$C107,Nutzungen!$E$2:$AM$72,P$75-1)","v":0.8},{"$f":"HLOOKUP(Nutzungen!$C107,Nutzungen!$E$2:$AM$72,Q$75-1)","v":0.88},{"$f":"HLOOKUP(Nutzungen!$C107,Nutzungen!$E$2:$AM$72,R$75-1)","v":0},{"$f":"HLOOKUP(Nutzungen!$C107,Nutzungen!$E$2:$AM$72,S$75-1)","v":1.5},{"$f":"HLOOKUP(Nutzungen!$C107,Nutzungen!$E$2:$AM$72,T$75-1)","v":1},{"$f":"HLOOKUP(Nutzungen!$C107,Nutzungen!$E$2:$AM$72,U$75-1)","v":0.67},{"$f":"HLOOKUP(Nutzungen!$C107,Nutzungen!$E$2:$AM$72,V$75-1)","v":0.8},{"$f":"HLOOKUP(Nutzungen!$C107,Nutzungen!$E$2:$AM$72,W$75-1)","v":0.84},{"$f":"HLOOKUP(Nutzungen!$C107,Nutzungen!$E$2:$AM$72,X$75-1)","v":0.9},{"$f":"HLOOKUP(Nutzungen!$C107,Nutzungen!$E$2:$AM$72,Y$75-1)","v":0},{"$f":"HLOOKUP(Nutzungen!$C107,Nutzungen!$E$2:$AM$72,Z$75-1)","v":"m. T."},{"$f":"HLOOKUP(Nutzungen!$C107,Nutzungen!$E$2:$AM$72,AA$75-1)","v":8},{"$f":"HLOOKUP(Nutzungen!$C107,Nutzungen!$E$2:$AM$72,AB$75-1)","v":0},{"$f":"HLOOKUP(Nutzungen!$C107,Nutzungen!$E$2:$AM$72,AC$75-1)","v":0},{"$f":"HLOOKUP(Nutzungen!$C107,Nutzungen!$E$2:$AM$72,AD$75-1)","v":168},{"$f":"HLOOKUP(Nutzungen!$C107,Nutzungen!$E$2:$AM$72,AE$75-1)","v":0},{"$f":"HLOOKUP(Nutzungen!$C107,Nutzungen!$E$2:$AM$72,AF$75-1)","v":282},{"$f":"HLOOKUP(Nutzungen!$C107,Nutzungen!$E$2:$AM$72,AG$75-1)","v":0},{"$f":"HLOOKUP(Nutzungen!$C107,Nutzungen!$E$2:$AM$72,AH$75-1)","v":0},{"$f":"HLOOKUP(Nutzungen!$C107,Nutzungen!$E$2:$AM$72,AI$75-1)","v":0},{"$f":"HLOOKUP(Nutzungen!$C107,Nutzungen!$E$2:$AM$72,AJ$75-1)","v":0},{"$f":"HLOOKUP(Nutzungen!$C107,Nutzungen!$E$2:$AM$72,AK$75-1)","v":21},{"$f":"HLOOKUP(Nutzungen!$C107,Nutzungen!$E$2:$AM$72,AL$75-1)","v":4},{"$f":"HLOOKUP(Nutzungen!$C107,Nutzungen!$E$2:$AM$72,AM$75-1)","v":24},{"$f":"HLOOKUP(Nutzungen!$C107,Nutzungen!$E$2:$AM$72,AN$75-1)","v":20},{"$f":"HLOOKUP(Nutzungen!$C107,Nutzungen!$E$2:$AM$72,AO$75-1)","v":26},{"$f":"HLOOKUP(Nutzungen!$C107,Nutzungen!$E$2:$AM$72,AP$75-1)","v":0},{"$f":"HLOOKUP(Nutzungen!$C107,Nutzungen!$E$2:$AM$72,AQ$75-1)","v":-12},{"$f":"HLOOKUP(Nutzungen!$C107,Nutzungen!$E$2:$AM$72,AR$75-1)","v":24.6},{"$f":"HLOOKUP(Nutzungen!$C107,Nutzungen!$E$2:$AM$72,AS$75-1)","v":18.899999999999999},{"$f":"HLOOKUP(Nutzungen!$C107,Nutzungen!$E$2:$AM$72,AT$75-1)","v":0.9},{"$f":"HLOOKUP(Nutzungen!$C107,Nutzungen!$E$2:$AM$72,AU$75-1)","v":0.9},{"$f":"HLOOKUP(Nutzungen!$C107,Nutzungen!$E$2:$AM$72,AV$75-1)","v":0},{"$f":"HLOOKUP(Nutzungen!$C107,Nutzungen!$E$2:$AM$72,AW$75-1)","v":"A3"},{"$f":"HLOOKUP(Nutzungen!$C107,Nutzungen!$E$2:$AM$72,AX$75-1)","v":0},{"$f":"HLOOKUP(Nutzungen!$C107,Nutzungen!$E$2:$AM$72,AY$75-1)","v":0},{"$f":"HLOOKUP(Nutzungen!$C107,Nutzungen!$E$2:$AM$72,AZ$75-1)","v":0},{"$f":"HLOOKUP(Nutzungen!$C107,Nutzungen!$E$2:$AM$72,BA$75-1)","v":3},{"$f":"HLOOKUP(Nutzungen!$C107,Nutzungen!$E$2:$AM$72,BB$75-1)","v":20},{"$f":"HLOOKUP(Nutzungen!$C107,Nutzungen!$E$2:$AM$72,BC$75-1)","v":20},{"$f":"HLOOKUP(Nutzungen!$C107,Nutzungen!$E$2:$AM$72,BD$75-1)","v":400},{"$f":"HLOOKUP(Nutzungen!$C107,Nutzungen!$E$2:$AM$72,BE$75-1)","v":1200},{"$f":"HLOOKUP(Nutzungen!$C107,Nutzungen!$E$2:$AM$72,BF$75-1)","v":"A"},{"$f":"HLOOKUP(Nutzungen!$C107,Nutzungen!$E$2:$AM$72,BG$75-1)","v":0},{"$f":"HLOOKUP(Nutzungen!$C107,Nutzungen!$E$2:$AM$72,BH$75-1)","v":0.34313725490196068},{"$f":"HLOOKUP(Nutzungen!$C107,Nutzungen!$E$2:$AM$72,BI$75-1)","v":0.24509803921568626},{"$f":"HLOOKUP(Nutzungen!$C107,Nutzungen!$E$2:$AM$72,BJ$75-1)","v":0.22166666666666671},{"$f":"HLOOKUP(Nutzungen!$C107,Nutzungen!$E$2:$AM$72,BK$75-1)","v":0.22166666666666671},{"$f":"HLOOKUP(Nutzungen!$C107,Nutzungen!$E$2:$AM$72,BL$75-1)","v":22},0.34509803921568627,1,{"$f":"HLOOKUP(Nutzungen!$C107,Nutzungen!$E$2:$AM$72,BO$75-1)","v":2.5},{"$f":"HLOOKUP(Nutzungen!$C107,Nutzungen!$E$2:$AM$72,BP$75-1)","v":0.5},{"$f":"HLOOKUP(Nutzungen!$C107,Nutzungen!$E$2:$AM$72,BQ$75-1)","v":1},{"$f":"HLOOKUP(Nutzungen!$C107,Nutzungen!$E$2:$AM$72,BR$75-1)","v":8},{"$f":"HLOOKUP(Nutzungen!$C107,Nutzungen!$E$2:$AM$72,BS$75-1)","v":8},{"$f":"HLOOKUP(Nutzungen!$C107,Nutzungen!$E$2:$AM$72,BT$75-1)","v":5.25},{"$f":"HLOOKUP(Nutzungen!$C107,Nutzungen!$E$2:$AM$72,BU$75-1)","v":5.25}]
[30,"Bibliothek - Freihandbereich","29 Bibliothek, Freihand",null,{"$f":"HLOOKUP(Nutzungen!$C108,Nutzungen!$E$2:$AM$72,E$75-1)","v":8},{"$f":"HLOOKUP(Nutzungen!$C108,Nutzungen!$E$2:$AM$72,F$75-1)","v":20},{"$f":"HLOOKUP(Nutzungen!$C108,Nutzungen!$E$2:$AM$72,G$75-1)","v":12},{"$f":"HLOOKUP(Nutzungen!$C108,Nutzungen!$E$2:$AM$72,H$75-1)","v":300},{"$f":"HLOOKUP(Nutzungen!$C108,Nutzungen!$E$2:$AM$72,I$75-1)","v":2999},{"$f":"HLOOKUP(Nutzungen!$C108,Nutzungen!$E$2:$AM$72,J$75-1)","v":601},{"$f":"HLOOKUP(Nutzungen!$C108,Nutzungen!$E$2:$AM$72,K$75-1)","v":14},{"$f":"HLOOKUP(Nutzungen!$C108,Nutzungen!$E$2:$AM$72,L$75-1)","v":300},{"$f":"HLOOKUP(Nutzungen!$C108,Nutzungen!$E$2:$AM$72,M$75-1)","v":14},{"$f":"HLOOKUP(Nutzungen!$C108,Nutzungen!$E$2:$AM$72,N$75-1)","v":0},{"$f":"HLOOKUP(Nutzungen!$C108,Nutzungen!$E$2:$AM$72,O$75-1)","v":200},{"$f":"HLOOKUP(Nutzungen!$C108,Nutzungen!$E$2:$AM$72,P$75-1)","v":0.8},{"$f":"HLOOKUP(Nutzungen!$C108,Nutzungen!$E$2:$AM$72,Q$75-1)","v":1},{"$f":"HLOOKUP(Nutzungen!$C108,Nutzungen!$E$2:$AM$72,R$75-1)","v":0},{"$f":"HLOOKUP(Nutzungen!$C108,Nutzungen!$E$2:$AM$72,S$75-1)","v":1.5},{"$f":"HLOOKUP(Nutzungen!$C108,Nutzungen!$E$2:$AM$72,T$75-1)","v":1},{"$f":"HLOOKUP(Nutzungen!$C108,Nutzungen!$E$2:$AM$72,U$75-1)","v":0.67},{"$f":"HLOOKUP(Nutzungen!$C108,Nutzungen!$E$2:$AM$72,V$75-1)","v":0.8},{"$f":"HLOOKUP(Nutzungen!$C108,Nutzungen!$E$2:$AM$72,W$75-1)","v":0.84},{"$f":"HLOOKUP(Nutzungen!$C108,Nutzungen!$E$2:$AM$72,X$75-1)","v":0.9},{"$f":"HLOOKUP(Nutzungen!$C108,Nutzungen!$E$2:$AM$72,Y$75-1)","v":0},{"$f":"HLOOKUP(Nutzungen!$C108,Nutzungen!$E$2:$AM$72,Z$75-1)","v":"m. T."},{"$f":"HLOOKUP(Nutzungen!$C108,Nutzungen!$E$2:$AM$72,AA$75-1)","v":2},{"$f":"HLOOKUP(Nutzungen!$C108,Nutzungen!$E$2:$AM$72,AB$75-1)","v":0},{"$f":"HLOOKUP(Nutzungen!$C108,Nutzungen!$E$2:$AM$72,AC$75-1)","v":0},{"$f":"HLOOKUP(Nutzungen!$C108,Nutzungen!$E$2:$AM$72,AD$75-1)","v":42},{"$f":"HLOOKUP(Nutzungen!$C108,Nutzungen!$E$2:$AM$72,AE$75-1)","v":0},{"$f":"HLOOKUP(Nutzungen!$C108,Nutzungen!$E$2:$AM$72,AF$75-1)","v":84},{"$f":"HLOOKUP(Nutzungen!$C108,Nutzungen!$E$2:$AM$72,AG$75-1)","v":0},{"$f":"HLOOKUP(Nutzungen!$C108,Nutzungen!$E$2:$AM$72,AH$75-1)","v":0},{"$f":"HLOOKUP(Nutzungen!$C108,Nutzungen!$E$2:$AM$72,AI$75-1)","v":0},{"$f":"HLOOKUP(Nutzungen!$C108,Nutzungen!$E$2:$AM$72,AJ$75-1)","v":0},{"$f":"HLOOKUP(Nutzungen!$C108,Nutzungen!$E$2:$AM$72,AK$75-1)","v":21},{"$f":"HLOOKUP(Nutzungen!$C108,Nutzungen!$E$2:$AM$72,AL$75-1)","v":4},{"$f":"HLOOKUP(Nutzungen!$C108,Nutzungen!$E$2:$AM$72,AM$75-1)","v":24},{"$f":"HLOOKUP(Nutzungen!$C108,Nutzungen!$E$2:$AM$72,AN$75-1)","v":20},{"$f":"HLOOKUP(Nutzungen!$C108,Nutzungen!$E$2:$AM$72,AO$75-1)","v":26},{"$f":"HLOOKUP(Nutzungen!$C108,Nutzungen!$E$2:$AM$72,AP$75-1)","v":0},{"$f":"HLOOKUP(Nutzungen!$C108,Nutzungen!$E$2:$AM$72,AQ$75-1)","v":-12},{"$f":"HLOOKUP(Nutzungen!$C108,Nutzungen!$E$2:$AM$72,AR$75-1)","v":24.6},{"$f":"HLOOKUP(Nutzungen!$C108,Nutzungen!$E$2:$AM$72,AS$75-1)","v":18.899999999999999},{"$f":"HLOOKUP(Nutzungen!$C108,Nutzungen!$E$2:$AM$72,AT$75-1)","v":0.9},{"$f":"HLOOKUP(Nutzungen!$C108,Nutzungen!$E$2:$AM$72,AU$75-1)","v":0.9},{"$f":"HLOOKUP(Nutzungen!$C108,Nutzungen!$E$2:$AM$72,AV$75-1)","v":0},{"$f":"HLOOKUP(Nutzungen!$C108,Nutzungen!$E$2:$AM$72,AW$75-1)","v":"A3"},{"$f":"HLOOKUP(Nutzungen!$C108,Nutzungen!$E$2:$AM$72,AX$75-1)","v":0},{"$f":"HLOOKUP(Nutzungen!$C108,Nutzungen!$E$2:$AM$72,AY$75-1)","v":0},{"$f":"HLOOKUP(Nutzungen!$C108,Nutzungen!$E$2:$AM$72,AZ$75-1)","v":0},{"$f":"HLOOKUP(Nutzungen!$C108,Nutzungen!$E$2:$AM$72,BA$75-1)","v":3},{"$f":"HLOOKUP(Nutzungen!$C108,Nutzungen!$E$2:$AM$72,BB$75-1)","v":6},{"$f":"HLOOKUP(Nutzungen!$C108,Nutzungen!$E$2:$AM$72,BC$75-1)","v":6},{"$f":"HLOOKUP(Nutzungen!$C108,Nutzungen!$E$2:$AM$72,BD$75-1)","v":36},{"$f":"HLOOKUP(Nutzungen!$C108,Nutzungen!$E$2:$AM$72,BE$75-1)","v":108},{"$f":"HLOOKUP(Nutzungen!$C108,Nutzungen!$E$2:$AM$72,BF$75-1)","v":"B"},{"$f":"HLOOKUP(Nutzungen!$C108,Nutzungen!$E$2:$AM$72,BG$75-1)","v":0},{"$f":"HLOOKUP(Nutzungen!$C108,Nutzungen!$E$2:$AM$72,BH$75-1)","v":0.34313725490196068},{"$f":"HLOOKUP(Nutzungen!$C108,Nutzungen!$E$2:$AM$72,BI$75-1)","v":0.24509803921568626},{"$f":"HLOOKUP(Nutzungen!$C108,Nutzungen!$E$2:$AM$72,BJ$75-1)","v":0.22166666666666671},{"$f":"HLOOKUP(Nutzungen!$C108,Nutzungen!$E$2:$AM$72,BK$75-1)","v":0.22166666666666671},{"$f":"HLOOKUP(Nutzungen!$C108,Nutzungen!$E$2:$AM$72,BL$75-1)","v":21},0.24509803921568626,1,{"$f":"HLOOKUP(Nutzungen!$C108,Nutzungen!$E$2:$AM$72,BO$75-1)","v":2},{"$f":"HLOOKUP(Nutzungen!$C108,Nutzungen!$E$2:$AM$72,BP$75-1)","v":0},{"$f":"HLOOKUP(Nutzungen!$C108,Nutzungen!$E$2:$AM$72,BQ$75-1)","v":1},{"$f":"HLOOKUP(Nutzungen!$C108,Nutzungen!$E$2:$AM$72,BR$75-1)","v":2},{"$f":"HLOOKUP(Nutzungen!$C108,Nutzungen!$E$2:$AM$72,BS$75-1)","v":2},{"$f":"HLOOKUP(Nutzungen!$C108,Nutzungen!$E$2:$AM$72,BT$75-1)","v":2},{"$f":"HLOOKUP(Nutzungen!$C108,Nutzungen!$E$2:$AM$72,BU$75-1)","v":2}]
[31,"Bibliothek - Magazin und Depot","30 Bibliothek Magazin",null,{"$f":"HLOOKUP(Nutzungen!$C109,Nutzungen!$E$2:$AM$72,E$75-1)","v":8},{"$f":"HLOOKUP(Nutzungen!$C109,Nutzungen!$E$2:$AM$72,F$75-1)","v":20},{"$f":"HLOOKUP(Nutzungen!$C109,Nutzungen!$E$2:$AM$72,G$75-1)","v":12},{"$f":"HLOOKUP(Nutzungen!$C109,Nutzungen!$E$2:$AM$72,H$75-1)","v":300},{"$f":"HLOOKUP(Nutzungen!$C109,Nutzungen!$E$2:$AM$72,I$75-1)","v":2999},{"$f":"HLOOKUP(Nutzungen!$C109,Nutzungen!$E$2:$AM$72,J$75-1)","v":601},{"$f":"HLOOKUP(Nutzungen!$C109,Nutzungen!$E$2:$AM$72,K$75-1)","v":14},{"$f":"HLOOKUP(Nutzungen!$C109,Nutzungen!$E$2:$AM$72,L$75-1)","v":300},{"$f":"HLOOKUP(Nutzungen!$C109,Nutzungen!$E$2:$AM$72,M$75-1)","v":14},{"$f":"HLOOKUP(Nutzungen!$C109,Nutzungen!$E$2:$AM$72,N$75-1)","v":0},{"$f":"HLOOKUP(Nutzungen!$C109,Nutzungen!$E$2:$AM$72,O$75-1)","v":100},{"$f":"HLOOKUP(Nutzungen!$C109,Nutzungen!$E$2:$AM$72,P$75-1)","v":0.8},{"$f":"HLOOKUP(Nutzungen!$C109,Nutzungen!$E$2:$AM$72,Q$75-1)","v":1},{"$f":"HLOOKUP(Nutzungen!$C109,Nutzungen!$E$2:$AM$72,R$75-1)","v":0.9},{"$f":"HLOOKUP(Nutzungen!$C109,Nutzungen!$E$2:$AM$72,S$75-1)","v":1.5},{"$f":"HLOOKUP(Nutzungen!$C109,Nutzungen!$E$2:$AM$72,T$75-1)","v":1},{"$f":"HLOOKUP(Nutzungen!$C109,Nutzungen!$E$2:$AM$72,U$75-1)","v":0.67},{"$f":"HLOOKUP(Nutzungen!$C109,Nutzungen!$E$2:$AM$72,V$75-1)","v":0.8},{"$f":"HLOOKUP(Nutzungen!$C109,Nutzungen!$E$2:$AM$72,W$75-1)","v":0.84},{"$f":"HLOOKUP(Nutzungen!$C109,Nutzungen!$E$2:$AM$72,X$75-1)","v":0.9},{"$f":"HLOOKUP(Nutzungen!$C109,Nutzungen!$E$2:$AM$72,Y$75-1)","v":0},{"$f":"HLOOKUP(Nutzungen!$C109,Nutzungen!$E$2:$AM$72,Z$75-1)","v":"m. T."},{"$f":"HLOOKUP(Nutzungen!$C109,Nutzungen!$E$2:$AM$72,AA$75-1)","v":3},{"$f":"HLOOKUP(Nutzungen!$C109,Nutzungen!$E$2:$AM$72,AB$75-1)","v":0},{"$f":"HLOOKUP(Nutzungen!$C109,Nutzungen!$E$2:$AM$72,AC$75-1)","v":0},{"$f":"HLOOKUP(Nutzungen!$C109,Nutzungen!$E$2:$AM$72,AD$75-1)","v":0},{"$f":"HLOOKUP(Nutzungen!$C109,Nutzungen!$E$2:$AM$72,AE$75-1)","v":0},{"$f":"HLOOKUP(Nutzungen!$C109,Nutzungen!$E$2:$AM$72,AF$75-1)","v":0},{"$f":"HLOOKUP(Nutzungen!$C109,Nutzungen!$E$2:$AM$72,AG$75-1)","v":0},{"$f":"HLOOKUP(Nutzungen!$C109,Nutzungen!$E$2:$AM$72,AH$75-1)","v":0},{"$f":"HLOOKUP(Nutzungen!$C109,Nutzungen!$E$2:$AM$72,AI$75-1)","v":0},{"$f":"HLOOKUP(Nutzungen!$C109,Nutzungen!$E$2:$AM$72,AJ$75-1)","v":0},{"$f":"HLOOKUP(Nutzungen!$C109,Nutzungen!$E$2:$AM$72,AK$75-1)","v":21},{"$f":"HLOOKUP(Nutzungen!$C109,Nutzungen!$E$2:$AM$72,AL$75-1)","v":4},{"$f":"HLOOKUP(Nutzungen!$C109,Nutzungen!$E$2:$AM$72,AM$75-1)","v":24},{"$f":"HLOOKUP(Nutzungen!$C109,Nutzungen!$E$2:$AM$72,AN$75-1)","v":20},{"$f":"HLOOKUP(Nutzungen!$C109,Nutzungen!$E$2:$AM$72,AO$75-1)","v":26},{"$f":"HLOOKUP(Nutzungen!$C109,Nutzungen!$E$2:$AM$72,AP$75-1)","v":0},{"$f":"HLOOKUP(Nutzungen!$C109,Nutzungen!$E$2:$AM$72,AQ$75-1)","v":-12},{"$f":"HLOOKUP(Nutzungen!$C109,Nutzungen!$E$2:$AM$72,AR$75-1)","v":24.6},{"$f":"HLOOKUP(Nutzungen!$C109,Nutzungen!$E$2:$AM$72,AS$75-1)","v":18.899999999999999},{"$f":"HLOOKUP(Nutzungen!$C109,Nutzungen!$E$2:$AM$72,AT$75-1)","v":0.9},{"$f":"HLOOKUP(Nutzungen!$C109,Nutzungen!$E$2:$AM$72,AU$75-1)","v":0.9},{"$f":"HLOOKUP(Nutzungen!$C109,Nutzungen!$E$2:$AM$72,AV$75-1)","v":0},{"$f":"HLOOKUP(Nutzungen!$C109,Nutzungen!$E$2:$AM$72,AW$75-1)","v":"A3"},{"$f":"HLOOKUP(Nutzungen!$C109,Nutzungen!$E$2:$AM$72,AX$75-1)","v":0},{"$f":"HLOOKUP(Nutzungen!$C109,Nutzungen!$E$2:$AM$72,AY$75-1)","v":0},{"$f":"HLOOKUP(Nutzungen!$C109,Nutzungen!$E$2:$AM$72,AZ$75-1)","v":0},{"$f":"HLOOKUP(Nutzungen!$C109,Nutzungen!$E$2:$AM$72,BA$75-1)","v":3},{"$f":"HLOOKUP(Nutzungen!$C109,Nutzungen!$E$2:$AM$72,BB$75-1)","v":6},{"$f":"HLOOKUP(Nutzungen!$C109,Nutzungen!$E$2:$AM$72,BC$75-1)","v":6},{"$f":"HLOOKUP(Nutzungen!$C109,Nutzungen!$E$2:$AM$72,BD$75-1)","v":36},{"$f":"HLOOKUP(Nutzungen!$C109,Nutzungen!$E$2:$AM$72,BE$75-1)","v":108},{"$f":"HLOOKUP(Nutzungen!$C109,Nutzungen!$E$2:$AM$72,BF$75-1)","v":"C"},{"$f":"HLOOKUP(Nutzungen!$C109,Nutzungen!$E$2:$AM$72,BG$75-1)","v":0},{"$f":"HLOOKUP(Nutzungen!$C109,Nutzungen!$E$2:$AM$72,BH$75-1)","v":0.34313725490196068},{"$f":"HLOOKUP(Nutzungen!$C109,Nutzungen!$E$2:$AM$72,BI$75-1)","v":0.24509803921568626},{"$f":"HLOOKUP(Nutzungen!$C109,Nutzungen!$E$2:$AM$72,BJ$75-1)","v":0.22166666666666671},{"$f":"HLOOKUP(Nutzungen!$C109,Nutzungen!$E$2:$AM$72,BK$75-1)","v":0.22166666666666671},{"$f":"HLOOKUP(Nutzungen!$C109,Nutzungen!$E$2:$AM$72,BL$75-1)","v":18},0.14509803921568626,1,{"$f":"HLOOKUP(Nutzungen!$C109,Nutzungen!$E$2:$AM$72,BO$75-1)","v":2},{"$f":"HLOOKUP(Nutzungen!$C109,Nutzungen!$E$2:$AM$72,BP$75-1)","v":0.5},{"$f":"HLOOKUP(Nutzungen!$C109,Nutzungen!$E$2:$AM$72,BQ$75-1)","v":1},{"$f":"HLOOKUP(Nutzungen!$C109,Nutzungen!$E$2:$AM$72,BR$75-1)","v":3},{"$f":"HLOOKUP(Nutzungen!$C109,Nutzungen!$E$2:$AM$72,BS$75-1)","v":3},{"$f":"HLOOKUP(Nutzungen!$C109,Nutzungen!$E$2:$AM$72,BT$75-1)","v":2.5},{"$f":"HLOOKUP(Nutzungen!$C109,Nutzungen!$E$2:$AM$72,BU$75-1)","v":2.5}]
[32,"Sporthalle","31 Sporthalle",null,{"$f":"HLOOKUP(Nutzungen!$C110,Nutzungen!$E$2:$AM$72,E$75-1)","v":8},{"$f":"HLOOKUP(Nutzungen!$C110,Nutzungen!$E$2:$AM$72,F$75-1)","v":23},{"$f":"HLOOKUP(Nutzungen!$C110,Nutzungen!$E$2:$AM$72,G$75-1)","v":15},{"$f":"HLOOKUP(Nutzungen!$C110,Nutzungen!$E$2:$AM$72,H$75-1)","v":300},{"$f":"HLOOKUP(Nutzungen!$C110,Nutzungen!$E$2:$AM$72,I$75-1)","v":3002},{"$f":"HLOOKUP(Nutzungen!$C110,Nutzungen!$E$2:$AM$72,J$75-1)","v":1498},{"$f":"HLOOKUP(Nutzungen!$C110,Nutzungen!$E$2:$AM$72,K$75-1)","v":17},{"$f":"HLOOKUP(Nutzungen!$C110,Nutzungen!$E$2:$AM$72,L$75-1)","v":300},{"$f":"HLOOKUP(Nutzungen!$C110,Nutzungen!$E$2:$AM$72,M$75-1)","v":17},{"$f":"HLOOKUP(Nutzungen!$C110,Nutzungen!$E$2:$AM$72,N$75-1)","v":0},{"$f":"HLOOKUP(Nutzungen!$C110,Nutzungen!$E$2:$AM$72,O$75-1)","v":500},{"$f":"HLOOKUP(Nutzungen!$C110,Nutzungen!$E$2:$AM$72,P$75-1)","v":1},{"$f":"HLOOKUP(Nutzungen!$C110,Nutzungen!$E$2:$AM$72,Q$75-1)","v":1},{"$f":"HLOOKUP(Nutzungen!$C110,Nutzungen!$E$2:$AM$72,R$75-1)","v":0.3},{"$f":"HLOOKUP(Nutzungen!$C110,Nutzungen!$E$2:$AM$72,S$75-1)","v":2},{"$f":"HLOOKUP(Nutzungen!$C110,Nutzungen!$E$2:$AM$72,T$75-1)","v":1},{"$f":"HLOOKUP(Nutzungen!$C110,Nutzungen!$E$2:$AM$72,U$75-1)","v":0.67},{"$f":"HLOOKUP(Nutzungen!$C110,Nutzungen!$E$2:$AM$72,V$75-1)","v":0.8},{"$f":"HLOOKUP(Nutzungen!$C110,Nutzungen!$E$2:$AM$72,W$75-1)","v":0.84},{"$f":"HLOOKUP(Nutzungen!$C110,Nutzungen!$E$2:$AM$72,X$75-1)","v":0.9},{"$f":"HLOOKUP(Nutzungen!$C110,Nutzungen!$E$2:$AM$72,Y$75-1)","v":0},{"$f":"HLOOKUP(Nutzungen!$C110,Nutzungen!$E$2:$AM$72,Z$75-1)","v":"-"},{"$f":"HLOOKUP(Nutzungen!$C110,Nutzungen!$E$2:$AM$72,AA$75-1)","v":3},{"$f":"HLOOKUP(Nutzungen!$C110,Nutzungen!$E$2:$AM$72,AB$75-1)","v":0},{"$f":"HLOOKUP(Nutzungen!$C110,Nutzungen!$E$2:$AM$72,AC$75-1)","v":0},{"$f":"HLOOKUP(Nutzungen!$C110,Nutzungen!$E$2:$AM$72,AD$75-1)","v":60},{"$f":"HLOOKUP(Nutzungen!$C110,Nutzungen!$E$2:$AM$72,AE$75-1)","v":0},{"$f":"HLOOKUP(Nutzungen!$C110,Nutzungen!$E$2:$AM$72,AF$75-1)","v":130},{"$f":"HLOOKUP(Nutzungen!$C110,Nutzungen!$E$2:$AM$72,AG$75-1)","v":0},{"$f":"HLOOKUP(Nutzungen!$C110,Nutzungen!$E$2:$AM$72,AH$75-1)","v":0},{"$f":"HLOOKUP(Nutzungen!$C110,Nutzungen!$E$2:$AM$72,AI$75-1)","v":0},{"$f":"HLOOKUP(Nutzungen!$C110,Nutzungen!$E$2:$AM$72,AJ$75-1)","v":0},{"$f":"HLOOKUP(Nutzungen!$C110,Nutzungen!$E$2:$AM$72,AK$75-1)","v":21},{"$f":"HLOOKUP(Nutzungen!$C110,Nutzungen!$E$2:$AM$72,AL$75-1)","v":4},{"$f":"HLOOKUP(Nutzungen!$C110,Nutzungen!$E$2:$AM$72,AM$75-1)","v":24},{"$f":"HLOOKUP(Nutzungen!$C110,Nutzungen!$E$2:$AM$72,AN$75-1)","v":20},{"$f":"HLOOKUP(Nutzungen!$C110,Nutzungen!$E$2:$AM$72,AO$75-1)","v":26},{"$f":"HLOOKUP(Nutzungen!$C110,Nutzungen!$E$2:$AM$72,AP$75-1)","v":0},{"$f":"HLOOKUP(Nutzungen!$C110,Nutzungen!$E$2:$AM$72,AQ$75-1)","v":-12},{"$f":"HLOOKUP(Nutzungen!$C110,Nutzungen!$E$2:$AM$72,AR$75-1)","v":24.6},{"$f":"HLOOKUP(Nutzungen!$C110,Nutzungen!$E$2:$AM$72,AS$75-1)","v":18.899999999999999},{"$f":"HLOOKUP(Nutzungen!$C110,Nutzungen!$E$2:$AM$72,AT$75-1)","v":0.9},{"$f":"HLOOKUP(Nutzungen!$C110,Nutzungen!$E$2:$AM$72,AU$75-1)","v":0.9},{"$f":"HLOOKUP(Nutzungen!$C110,Nutzungen!$E$2:$AM$72,AV$75-1)","v":0},{"$f":"HLOOKUP(Nutzungen!$C110,Nutzungen!$E$2:$AM$72,AW$75-1)","v":"A15"},{"$f":"HLOOKUP(Nutzungen!$C110,Nutzungen!$E$2:$AM$72,AX$75-1)","v":0},{"$f":"HLOOKUP(Nutzungen!$C110,Nutzungen!$E$2:$AM$72,AY$75-1)","v":0},{"$f":"HLOOKUP(Nutzungen!$C110,Nutzungen!$E$2:$AM$72,AZ$75-1)","v":0},{"$f":"HLOOKUP(Nutzungen!$C110,Nutzungen!$E$2:$AM$72,BA$75-1)","v":7},{"$f":"HLOOKUP(Nutzungen!$C110,Nutzungen!$E$2:$AM$72,BB$75-1)","v":40},{"$f":"HLOOKUP(Nutzungen!$C110,Nutzungen!$E$2:$AM$72,BC$75-1)","v":20},{"$f":"HLOOKUP(Nutzungen!$C110,Nutzungen!$E$2:$AM$72,BD$75-1)","v":800},{"$f":"HLOOKUP(Nutzungen!$C110,Nutzungen!$E$2:$AM$72,BE$75-1)","v":5600},{"$f":"HLOOKUP(Nutzungen!$C110,Nutzungen!$E$2:$AM$72,BF$75-1)","v":"A"},{"$f":"HLOOKUP(Nutzungen!$C110,Nutzungen!$E$2:$AM$72,BG$75-1)","v":0},{"$f":"HLOOKUP(Nutzungen!$C110,Nutzungen!$E$2:$AM$72,BH$75-1)","v":0.34313725490196068},{"$f":"HLOOKUP(Nutzungen!$C110,Nutzungen!$E$2:$AM$72,BI$75-1)","v":0.24509803921568626},{"$f":"HLOOKUP(Nutzungen!$C110,Nutzungen!$E$2:$AM$72,BJ$75-1)","v":0.22166666666666671},{"$f":"HLOOKUP(Nutzungen!$C110,Nutzungen!$E$2:$AM$72,BK$75-1)","v":0.22166666666666671},{"$f":"HLOOKUP(Nutzungen!$C110,Nutzungen!$E$2:$AM$72,BL$75-1)","v":18},0.34509803921568627,1,{"$f":"HLOOKUP(Nutzungen!$C110,Nutzungen!$E$2:$AM$72,BO$75-1)","v":1.25},{"$f":"HLOOKUP(Nutzungen!$C110,Nutzungen!$E$2:$AM$72,BP$75-1)","v":0.5},{"$f":"HLOOKUP(Nutzungen!$C110,Nutzungen!$E$2:$AM$72,BQ$75-1)","v":0.9},{"$f":"HLOOKUP(Nutzungen!$C110,Nutzungen!$E$2:$AM$72,BR$75-1)","v":3},{"$f":"HLOOKUP(Nutzungen!$C110,Nutzungen!$E$2:$AM$72,BS$75-1)","v":2.8250000000000002},{"$f":"HLOOKUP(Nutzungen!$C110,Nutzungen!$E$2:$AM$72,BT$75-1)","v":2.0375000000000001},{"$f":"HLOOKUP(Nutzungen!$C110,Nutzungen!$E$2:$AM$72,BU$75-1)","v":2.0375000000000001}]
[33,"Parkhäuser/Tiefgaragen (Privatnutzung)   ","32 Parkhaus",null,{"$f":"HLOOKUP(Nutzungen!$C111,Nutzungen!$E$2:$AM$72,E$75-1)","v":7},{"$f":"HLOOKUP(Nutzungen!$C111,Nutzungen!$E$2:$AM$72,F$75-1)","v":18},{"$f":"HLOOKUP(Nutzungen!$C111,Nutzungen!$E$2:$AM$72,G$75-1)","v":11},{"$f":"HLOOKUP(Nutzungen!$C111,Nutzungen!$E$2:$AM$72,H$75-1)","v":250},{"$f":"HLOOKUP(Nutzungen!$C111,Nutzungen!$E$2:$AM$72,I$75-1)","v":2543},{"$f":"HLOOKUP(Nutzungen!$C111,Nutzungen!$E$2:$AM$72,J$75-1)","v":207},{"$f":"HLOOKUP(Nutzungen!$C111,Nutzungen!$E$2:$AM$72,K$75-1)","v":13},{"$f":"HLOOKUP(Nutzungen!$C111,Nutzungen!$E$2:$AM$72,L$75-1)","v":250},{"$f":"HLOOKUP(Nutzungen!$C111,Nutzungen!$E$2:$AM$72,M$75-1)","v":0},{"$f":"HLOOKUP(Nutzungen!$C111,Nutzungen!$E$2:$AM$72,N$75-1)","v":0},{"$f":"HLOOKUP(Nutzungen!$C111,Nutzungen!$E$2:$AM$72,O$75-1)","v":75},{"$f":"HLOOKUP(Nutzungen!$C111,Nutzungen!$E$2:$AM$72,P$75-1)","v":0},{"$f":"HLOOKUP(Nutzungen!$C111,Nutzungen!$E$2:$AM$72,Q$75-1)","v":1},{"$f":"HLOOKUP(Nutzungen!$C111,Nutzungen!$E$2:$AM$72,R$75-1)","v":0.95},{"$f":"HLOOKUP(Nutzungen!$C111,Nutzungen!$E$2:$AM$72,S$75-1)","v":2},{"$f":"HLOOKUP(Nutzungen!$C111,Nutzungen!$E$2:$AM$72,T$75-1)","v":1},{"$f":"HLOOKUP(Nutzungen!$C111,Nutzungen!$E$2:$AM$72,U$75-1)","v":0.67},{"$f":"HLOOKUP(Nutzungen!$C111,Nutzungen!$E$2:$AM$72,V$75-1)","v":0.8},{"$f":"HLOOKUP(Nutzungen!$C111,Nutzungen!$E$2:$AM$72,W$75-1)","v":0.84},{"$f":"HLOOKUP(Nutzungen!$C111,Nutzungen!$E$2:$AM$72,X$75-1)","v":0.9},{"$f":"HLOOKUP(Nutzungen!$C111,Nutzungen!$E$2:$AM$72,Y$75-1)","v":0},{"$f":"HLOOKUP(Nutzungen!$C111,Nutzungen!$E$2:$AM$72,Z$75-1)","v":"-"},{"$f":"HLOOKUP(Nutzungen!$C111,Nutzungen!$E$2:$AM$72,AA$75-1)","v":8},{"$f":"HLOOKUP(Nutzungen!$C111,Nutzungen!$E$2:$AM$72,AB$75-1)","v":0},{"$f":"HLOOKUP(Nutzungen!$C111,Nutzungen!$E$2:$AM$72,AC$75-1)","v":0},{"$f":"HLOOKUP(Nutzungen!$C111,Nutzungen!$E$2:$AM$72,AD$75-1)","v":0},{"$f":"HLOOKUP(Nutzungen!$C111,Nutzungen!$E$2:$AM$72,AE$75-1)","v":0},{"$f":"HLOOKUP(Nutzungen!$C111,Nutzungen!$E$2:$AM$72,AF$75-1)","v":0},{"$f":"HLOOKUP(Nutzungen!$C111,Nutzungen!$E$2:$AM$72,AG$75-1)","v":0},{"$f":"HLOOKUP(Nutzungen!$C111,Nutzungen!$E$2:$AM$72,AH$75-1)","v":0},{"$f":"HLOOKUP(Nutzungen!$C111,Nutzungen!$E$2:$AM$72,AI$75-1)","v":0},{"$f":"HLOOKUP(Nutzungen!$C111,Nutzungen!$E$2:$AM$72,AJ$75-1)","v":0},{"$f":"HLOOKUP(Nutzungen!$C111,Nutzungen!$E$2:$AM$72,AK$75-1)","v":0},{"$f":"HLOOKUP(Nutzungen!$C111,Nutzungen!$E$2:$AM$72,AL$75-1)","v":4},{"$f":"HLOOKUP(Nutzungen!$C111,Nutzungen!$E$2:$AM$72,AM$75-1)","v":24},{"$f":"HLOOKUP(Nutzungen!$C111,Nutzungen!$E$2:$AM$72,AN$75-1)","v":20},{"$f":"HLOOKUP(Nutzungen!$C111,Nutzungen!$E$2:$AM$72,AO$75-1)","v":26},{"$f":"HLOOKUP(Nutzungen!$C111,Nutzungen!$E$2:$AM$72,AP$75-1)","v":0},{"$f":"HLOOKUP(Nutzungen!$C111,Nutzungen!$E$2:$AM$72,AQ$75-1)","v":-12},{"$f":"HLOOKUP(Nutzungen!$C111,Nutzungen!$E$2:$AM$72,AR$75-1)","v":24.6},{"$f":"HLOOKUP(Nutzungen!$C111,Nutzungen!$E$2:$AM$72,AS$75-1)","v":18.899999999999999},{"$f":"HLOOKUP(Nutzungen!$C111,Nutzungen!$E$2:$AM$72,AT$75-1)","v":0.9},{"$f":"HLOOKUP(Nutzungen!$C111,Nutzungen!$E$2:$AM$72,AU$75-1)","v":0.9},{"$f":"HLOOKUP(Nutzungen!$C111,Nutzungen!$E$2:$AM$72,AV$75-1)","v":0},{"$f":"HLOOKUP(Nutzungen!$C111,Nutzungen!$E$2:$AM$72,AW$75-1)","v":"-"},{"$f":"HLOOKUP(Nutzungen!$C111,Nutzungen!$E$2:$AM$72,AX$75-1)","v":0},{"$f":"HLOOKUP(Nutzungen!$C111,Nutzungen!$E$2:$AM$72,AY$75-1)","v":1},{"$f":"HLOOKUP(Nutzungen!$C111,Nutzungen!$E$2:$AM$72,AZ$75-1)","v":0},{"$f":"HLOOKUP(Nutzungen!$C111,Nutzungen!$E$2:$AM$72,BA$75-1)","v":2.5},{"$f":"HLOOKUP(Nutzungen!$C111,Nutzungen!$E$2:$AM$72,BB$75-1)","v":10},{"$f":"HLOOKUP(Nutzungen!$C111,Nutzungen!$E$2:$AM$72,BC$75-1)","v":10},{"$f":"HLOOKUP(Nutzungen!$C111,Nutzungen!$E$2:$AM$72,BD$75-1)","v":100},{"$f":"HLOOKUP(Nutzungen!$C111,Nutzungen!$E$2:$AM$72,BE$75-1)","v":250},{"$f":"HLOOKUP(Nutzungen!$C111,Nutzungen!$E$2:$AM$72,BF$75-1)","v":"D"},{"$f":"HLOOKUP(Nutzungen!$C111,Nutzungen!$E$2:$AM$72,BG$75-1)","v":0},{"$f":"HLOOKUP(Nutzungen!$C111,Nutzungen!$E$2:$AM$72,BH$75-1)","v":0},{"$f":"HLOOKUP(Nutzungen!$C111,Nutzungen!$E$2:$AM$72,BI$75-1)","v":0},{"$f":"HLOOKUP(Nutzungen!$C111,Nutzungen!$E$2:$AM$72,BJ$75-1)","v":0},{"$f":"HLOOKUP(Nutzungen!$C111,Nutzungen!$E$2:$AM$72,BK$75-1)","v":0},{"$f":"HLOOKUP(Nutzungen!$C111,Nutzungen!$E$2:$AM$72,BL$75-1)","v":21},0,0,{"$f":"HLOOKUP(Nutzungen!$C111,Nutzungen!$E$2:$AM$72,BO$75-1)","v":0},{"$f":"HLOOKUP(Nutzungen!$C111,Nutzungen!$E$2:$AM$72,BP$75-1)","v":0},{"$f":"HLOOKUP(Nutzungen!$C111,Nutzungen!$E$2:$AM$72,BQ$75-1)","v":0},{"$f":"HLOOKUP(Nutzungen!$C111,Nutzungen!$E$2:$AM$72,BR$75-1)","v":8},{"$f":"HLOOKUP(Nutzungen!$C111,Nutzungen!$E$2:$AM$72,BS$75-1)","v":8},{"$f":"HLOOKUP(Nutzungen!$C111,Nutzungen!$E$2:$AM$72,BT$75-1)","v":8},{"$f":"HLOOKUP(Nutzungen!$C111,Nutzungen!$E$2:$AM$72,BU$75-1)","v":8}]
[34,"Parkhäuser/Tiefgaragen (öffentlich)   ","33 Parkhaus öffentlich",null,{"$f":"HLOOKUP(Nutzungen!$C112,Nutzungen!$E$2:$AM$72,E$75-1)","v":9},{"$f":"HLOOKUP(Nutzungen!$C112,Nutzungen!$E$2:$AM$72,F$75-1)","v":0},{"$f":"HLOOKUP(Nutzungen!$C112,Nutzungen!$E$2:$AM$72,G$75-1)","v":15},{"$f":"HLOOKUP(Nutzungen!$C112,Nutzungen!$E$2:$AM$72,H$75-1)","v":365},{"$f":"HLOOKUP(Nutzungen!$C112,Nutzungen!$E$2:$AM$72,I$75-1)","v":3290},{"$f":"HLOOKUP(Nutzungen!$C112,Nutzungen!$E$2:$AM$72,J$75-1)","v":2185},{"$f":"HLOOKUP(Nutzungen!$C112,Nutzungen!$E$2:$AM$72,K$75-1)","v":17},{"$f":"HLOOKUP(Nutzungen!$C112,Nutzungen!$E$2:$AM$72,L$75-1)","v":365},{"$f":"HLOOKUP(Nutzungen!$C112,Nutzungen!$E$2:$AM$72,M$75-1)","v":0},{"$f":"HLOOKUP(Nutzungen!$C112,Nutzungen!$E$2:$AM$72,N$75-1)","v":0},{"$f":"HLOOKUP(Nutzungen!$C112,Nutzungen!$E$2:$AM$72,O$75-1)","v":75},{"$f":"HLOOKUP(Nutzungen!$C112,Nutzungen!$E$2:$AM$72,P$75-1)","v":0},{"$f":"HLOOKUP(Nutzungen!$C112,Nutzungen!$E$2:$AM$72,Q$75-1)","v":1},{"$f":"HLOOKUP(Nutzungen!$C112,Nutzungen!$E$2:$AM$72,R$75-1)","v":0.8},{"$f":"HLOOKUP(Nutzungen!$C112,Nutzungen!$E$2:$AM$72,S$75-1)","v":4},{"$f":"HLOOKUP(Nutzungen!$C112,Nutzungen!$E$2:$AM$72,T$75-1)","v":1},{"$f":"HLOOKUP(Nutzungen!$C112,Nutzungen!$E$2:$AM$72,U$75-1)","v":0.67},{"$f":"HLOOKUP(Nutzungen!$C112,Nutzungen!$E$2:$AM$72,V$75-1)","v":0.8},{"$f":"HLOOKUP(Nutzungen!$C112,Nutzungen!$E$2:$AM$72,W$75-1)","v":0.84},{"$f":"HLOOKUP(Nutzungen!$C112,Nutzungen!$E$2:$AM$72,X$75-1)","v":0.9},{"$f":"HLOOKUP(Nutzungen!$C112,Nutzungen!$E$2:$AM$72,Y$75-1)","v":0},{"$f":"HLOOKUP(Nutzungen!$C112,Nutzungen!$E$2:$AM$72,Z$75-1)","v":"-"},{"$f":"HLOOKUP(Nutzungen!$C112,Nutzungen!$E$2:$AM$72,AA$75-1)","v":16},{"$f":"HLOOKUP(Nutzungen!$C112,Nutzungen!$E$2:$AM$72,AB$75-1)","v":0},{"$f":"HLOOKUP(Nutzungen!$C112,Nutzungen!$E$2:$AM$72,AC$75-1)","v":0},{"$f":"HLOOKUP(Nutzungen!$C112,Nutzungen!$E$2:$AM$72,AD$75-1)","v":0},{"$f":"HLOOKUP(Nutzungen!$C112,Nutzungen!$E$2:$AM$72,AE$75-1)","v":0},{"$f":"HLOOKUP(Nutzungen!$C112,Nutzungen!$E$2:$AM$72,AF$75-1)","v":0},{"$f":"HLOOKUP(Nutzungen!$C112,Nutzungen!$E$2:$AM$72,AG$75-1)","v":0},{"$f":"HLOOKUP(Nutzungen!$C112,Nutzungen!$E$2:$AM$72,AH$75-1)","v":0},{"$f":"HLOOKUP(Nutzungen!$C112,Nutzungen!$E$2:$AM$72,AI$75-1)","v":0},{"$f":"HLOOKUP(Nutzungen!$C112,Nutzungen!$E$2:$AM$72,AJ$75-1)","v":0},{"$f":"HLOOKUP(Nutzungen!$C112,Nutzungen!$E$2:$AM$72,AK$75-1)","v":0},{"$f":"HLOOKUP(Nutzungen!$C112,Nutzungen!$E$2:$AM$72,AL$75-1)","v":4},{"$f":"HLOOKUP(Nutzungen!$C112,Nutzungen!$E$2:$AM$72,AM$75-1)","v":24},{"$f":"HLOOKUP(Nutzungen!$C112,Nutzungen!$E$2:$AM$72,AN$75-1)","v":20},{"$f":"HLOOKUP(Nutzungen!$C112,Nutzungen!$E$2:$AM$72,AO$75-1)","v":26},{"$f":"HLOOKUP(Nutzungen!$C112,Nutzungen!$E$2:$AM$72,AP$75-1)","v":0},{"$f":"HLOOKUP(Nutzungen!$C112,Nutzungen!$E$2:$AM$72,AQ$75-1)","v":-12},{"$f":"HLOOKUP(Nutzungen!$C112,Nutzungen!$E$2:$AM$72,AR$75-1)","v":24.6},{"$f":"HLOOKUP(Nutzungen!$C112,Nutzungen!$E$2:$AM$72,AS$75-1)","v":18.899999999999999},{"$f":"HLOOKUP(Nutzungen!$C112,Nutzungen!$E$2:$AM$72,AT$75-1)","v":0.9},{"$f":"HLOOKUP(Nutzungen!$C112,Nutzungen!$E$2:$AM$72,AU$75-1)","v":0.9},{"$f":"HLOOKUP(Nutzungen!$C112,Nutzungen!$E$2:$AM$72,AV$75-1)","v":0},{"$f":"HLOOKUP(Nutzungen!$C112,Nutzungen!$E$2:$AM$72,AW$75-1)","v":"-"},{"$f":"HLOOKUP(Nutzungen!$C112,Nutzungen!$E$2:$AM$72,AX$75-1)","v":0},{"$f":"HLOOKUP(Nutzungen!$C112,Nutzungen!$E$2:$AM$72,AY$75-1)","v":1},{"$f":"HLOOKUP(Nutzungen!$C112,Nutzungen!$E$2:$AM$72,AZ$75-1)","v":0},{"$f":"HLOOKUP(Nutzungen!$C112,Nutzungen!$E$2:$AM$72,BA$75-1)","v":2.5},{"$f":"HLOOKUP(Nutzungen!$C112,Nutzungen!$E$2:$AM$72,BB$75-1)","v":20},{"$f":"HLOOKUP(Nutzungen!$C112,Nutzungen!$E$2:$AM$72,BC$75-1)","v":20},{"$f":"HLOOKUP(Nutzungen!$C112,Nutzungen!$E$2:$AM$72,BD$75-1)","v":400},{"$f":"HLOOKUP(Nutzungen!$C112,Nutzungen!$E$2:$AM$72,BE$75-1)","v":1000},{"$f":"HLOOKUP(Nutzungen!$C112,Nutzungen!$E$2:$AM$72,BF$75-1)","v":"D"},{"$f":"HLOOKUP(Nutzungen!$C112,Nutzungen!$E$2:$AM$72,BG$75-1)","v":0},{"$f":"HLOOKUP(Nutzungen!$C112,Nutzungen!$E$2:$AM$72,BH$75-1)","v":0},{"$f":"HLOOKUP(Nutzungen!$C112,Nutzungen!$E$2:$AM$72,BI$75-1)","v":0},{"$f":"HLOOKUP(Nutzungen!$C112,Nutzungen!$E$2:$AM$72,BJ$75-1)","v":0},{"$f":"HLOOKUP(Nutzungen!$C112,Nutzungen!$E$2:$AM$72,BK$75-1)","v":0},{"$f":"HLOOKUP(Nutzungen!$C112,Nutzungen!$E$2:$AM$72,BL$75-1)","v":21},0,0,{"$f":"HLOOKUP(Nutzungen!$C112,Nutzungen!$E$2:$AM$72,BO$75-1)","v":0},{"$f":"HLOOKUP(Nutzungen!$C112,Nutzungen!$E$2:$AM$72,BP$75-1)","v":0},{"$f":"HLOOKUP(Nutzungen!$C112,Nutzungen!$E$2:$AM$72,BQ$75-1)","v":0},{"$f":"HLOOKUP(Nutzungen!$C112,Nutzungen!$E$2:$AM$72,BR$75-1)","v":16},{"$f":"HLOOKUP(Nutzungen!$C112,Nutzungen!$E$2:$AM$72,BS$75-1)","v":16},{"$f":"HLOOKUP(Nutzungen!$C112,Nutzungen!$E$2:$AM$72,BT$75-1)","v":16},{"$f":"HLOOKUP(Nutzungen!$C112,Nutzungen!$E$2:$AM$72,BU$75-1)","v":16}]
[35,"Wohnen","35 Wohnen MFH",null,{"$f":"HLOOKUP(Nutzungen!$C113,Nutzungen!$E$2:$AM$72,E$75-1)","v":0},{"$f":"HLOOKUP(Nutzungen!$C113,Nutzungen!$E$2:$AM$72,F$75-1)","v":24},{"$f":"HLOOKUP(Nutzungen!$C113,Nutzungen!$E$2:$AM$72,G$75-1)","v":24},{"$f":"HLOOKUP(Nutzungen!$C113,Nutzungen!$E$2:$AM$72,H$75-1)","v":365},{"$f":"HLOOKUP(Nutzungen!$C113,Nutzungen!$E$2:$AM$72,I$75-1)","v":4407},{"$f":"HLOOKUP(Nutzungen!$C113,Nutzungen!$E$2:$AM$72,J$75-1)","v":4353},{"$f":"HLOOKUP(Nutzungen!$C113,Nutzungen!$E$2:$AM$72,K$75-1)","v":24},{"$f":"HLOOKUP(Nutzungen!$C113,Nutzungen!$E$2:$AM$72,L$75-1)","v":365},{"$f":"HLOOKUP(Nutzungen!$C113,Nutzungen!$E$2:$AM$72,M$75-1)","v":17},{"$f":"HLOOKUP(Nutzungen!$C113,Nutzungen!$E$2:$AM$72,N$75-1)","v":0},{"$f":"HLOOKUP(Nutzungen!$C113,Nutzungen!$E$2:$AM$72,O$75-1)","v":150},{"$f":"HLOOKUP(Nutzungen!$C113,Nutzungen!$E$2:$AM$72,P$75-1)","v":0},{"$f":"HLOOKUP(Nutzungen!$C113,Nutzungen!$E$2:$AM$72,Q$75-1)","v":1},{"$f":"HLOOKUP(Nutzungen!$C113,Nutzungen!$E$2:$AM$72,R$75-1)","v":0.57999999999999996},{"$f":"HLOOKUP(Nutzungen!$C113,Nutzungen!$E$2:$AM$72,S$75-1)","v":1.25},{"$f":"HLOOKUP(Nutzungen!$C113,Nutzungen!$E$2:$AM$72,T$75-1)","v":0.3},{"$f":"HLOOKUP(Nutzungen!$C113,Nutzungen!$E$2:$AM$72,U$75-1)","v":0.67},{"$f":"HLOOKUP(Nutzungen!$C113,Nutzungen!$E$2:$AM$72,V$75-1)","v":0.8},{"$f":"HLOOKUP(Nutzungen!$C113,Nutzungen!$E$2:$AM$72,W$75-1)","v":0.84},{"$f":"HLOOKUP(Nutzungen!$C113,Nutzungen!$E$2:$AM$72,X$75-1)","v":0.9},{"$f":"HLOOKUP(Nutzungen!$C113,Nutzungen!$E$2:$AM$72,Y$75-1)","v":0},{"$f":"HLOOKUP(Nutzungen!$C113,Nutzungen!$E$2:$AM$72,Z$75-1)","v":"-"},{"$f":"HLOOKUP(Nutzungen!$C113,Nutzungen!$E$2:$AM$72,AA$75-1)","v":1},{"$f":"HLOOKUP(Nutzungen!$C113,Nutzungen!$E$2:$AM$72,AB$75-1)","v":0},{"$f":"HLOOKUP(Nutzungen!$C113,Nutzungen!$E$2:$AM$72,AC$75-1)","v":0},{"$f":"HLOOKUP(Nutzungen!$C113,Nutzungen!$E$2:$AM$72,AD$75-1)","v":85.4},{"$f":"HLOOKUP(Nutzungen!$C113,Nutzungen!$E$2:$AM$72,AE$75-1)","v":14.599999999999994},{"$f":"HLOOKUP(Nutzungen!$C113,Nutzungen!$E$2:$AM$72,AF$75-1)","v":85.4},{"$f":"HLOOKUP(Nutzungen!$C113,Nutzungen!$E$2:$AM$72,AG$75-1)","v":14.599999999999994},{"$f":"HLOOKUP(Nutzungen!$C113,Nutzungen!$E$2:$AM$72,AH$75-1)","v":0},{"$f":"HLOOKUP(Nutzungen!$C113,Nutzungen!$E$2:$AM$72,AI$75-1)","v":0},{"$f":"HLOOKUP(Nutzungen!$C113,Nutzungen!$E$2:$AM$72,AJ$75-1)","v":0},{"$f":"HLOOKUP(Nutzungen!$C113,Nutzungen!$E$2:$AM$72,AK$75-1)","v":20},{"$f":"HLOOKUP(Nutzungen!$C113,Nutzungen!$E$2:$AM$72,AL$75-1)","v":4},{"$f":"HLOOKUP(Nutzungen!$C113,Nutzungen!$E$2:$AM$72,AM$75-1)","v":26},{"$f":"HLOOKUP(Nutzungen!$C113,Nutzungen!$E$2:$AM$72,AN$75-1)","v":20},{"$f":"HLOOKUP(Nutzungen!$C113,Nutzungen!$E$2:$AM$72,AO$75-1)","v":28},{"$f":"HLOOKUP(Nutzungen!$C113,Nutzungen!$E$2:$AM$72,AP$75-1)","v":0},{"$f":"HLOOKUP(Nutzungen!$C113,Nutzungen!$E$2:$AM$72,AQ$75-1)","v":-12},{"$f":"HLOOKUP(Nutzungen!$C113,Nutzungen!$E$2:$AM$72,AR$75-1)","v":24.6},{"$f":"HLOOKUP(Nutzungen!$C113,Nutzungen!$E$2:$AM$72,AS$75-1)","v":18.899999999999999},{"$f":"HLOOKUP(Nutzungen!$C113,Nutzungen!$E$2:$AM$72,AT$75-1)","v":1},{"$f":"HLOOKUP(Nutzungen!$C113,Nutzungen!$E$2:$AM$72,AU$75-1)","v":1},{"$f":"HLOOKUP(Nutzungen!$C113,Nutzungen!$E$2:$AM$72,AV$75-1)","v":0},{"$f":"HLOOKUP(Nutzungen!$C113,Nutzungen!$E$2:$AM$72,AW$75-1)","v":"A2"},{"$f":"HLOOKUP(Nutzungen!$C113,Nutzungen!$E$2:$AM$72,AX$75-1)","v":0},{"$f":"HLOOKUP(Nutzungen!$C113,Nutzungen!$E$2:$AM$72,AY$75-1)","v":1},{"$f":"HLOOKUP(Nutzungen!$C113,Nutzungen!$E$2:$AM$72,AZ$75-1)","v":0},{"$f":"HLOOKUP(Nutzungen!$C113,Nutzungen!$E$2:$AM$72,BA$75-1)","v":2.5},{"$f":"HLOOKUP(Nutzungen!$C113,Nutzungen!$E$2:$AM$72,BB$75-1)","v":4},{"$f":"HLOOKUP(Nutzungen!$C113,Nutzungen!$E$2:$AM$72,BC$75-1)","v":5},{"$f":"HLOOKUP(Nutzungen!$C113,Nutzungen!$E$2:$AM$72,BD$75-1)","v":20},{"$f":"HLOOKUP(Nutzungen!$C113,Nutzungen!$E$2:$AM$72,BE$75-1)","v":50},{"$f":"HLOOKUP(Nutzungen!$C113,Nutzungen!$E$2:$AM$72,BF$75-1)","v":"B"},{"$f":"HLOOKUP(Nutzungen!$C113,Nutzungen!$E$2:$AM$72,BG$75-1)","v":0},{"$f":"HLOOKUP(Nutzungen!$C113,Nutzungen!$E$2:$AM$72,BH$75-1)","v":0.34},{"$f":"HLOOKUP(Nutzungen!$C113,Nutzungen!$E$2:$AM$72,BI$75-1)","v":0.25},{"$f":"HLOOKUP(Nutzungen!$C113,Nutzungen!$E$2:$AM$72,BJ$75-1)","v":0.22},{"$f":"HLOOKUP(Nutzungen!$C113,Nutzungen!$E$2:$AM$72,BK$75-1)","v":0.22},{"$f":"HLOOKUP(Nutzungen!$C113,Nutzungen!$E$2:$AM$72,BL$75-1)","v":20},0.25,1,{"$f":"HLOOKUP(Nutzungen!$C113,Nutzungen!$E$2:$AM$72,BO$75-1)","v":0.77},{"$f":"HLOOKUP(Nutzungen!$C113,Nutzungen!$E$2:$AM$72,BP$75-1)","v":0},{"$f":"HLOOKUP(Nutzungen!$C113,Nutzungen!$E$2:$AM$72,BQ$75-1)","v":0.8},{"$f":"HLOOKUP(Nutzungen!$C113,Nutzungen!$E$2:$AM$72,BR$75-1)","v":1},{"$f":"HLOOKUP(Nutzungen!$C113,Nutzungen!$E$2:$AM$72,BS$75-1)","v":0.95399999999999996},{"$f":"HLOOKUP(Nutzungen!$C113,Nutzungen!$E$2:$AM$72,BT$75-1)","v":0.95399999999999996},{"$f":"HLOOKUP(Nutzungen!$C113,Nutzungen!$E$2:$AM$72,BU$75-1)","v":0.95399999999999996}]
[null,"List_Profil","Tabelle_Nutzung"]

{"sheet":"Utilisation","index":6,"n_rows":18,"n_cols":8,"rows_kept":18,"cut":false,"hidden":false,"merged":[]}
[]
[null,"Utilisation"]
[null,"- Les cases jaunes sur les feuilles \" Start\", \"Wärmeschutz\" sont à remplir  sur base des informations contenues"]
[null,"  dans le certificat de performance énergétique du bâtiment fonctionnel. "]
[]
[null,"- Seulement les informations sur les éléments modifiés doivent être introduites dans les tableaux. Le bâtiment"]
[null,"  doit atteindre après l'assainissement une performance énergétique globale qui correspond  à la somme des "]
[null,"  valeurs cibles des éléments assainis. Il en résulte que pas tous les éléments assainis doivent atteindre la valeur"]
[null,"  de référence mais cette faiblesse doit être compensée par les autres éléments assainis."]
[]
[null,"- en cas d’une rénovation énergétique partielle: établissement des «recommandations de modernisation"]
[null,"  niveau 2» conformément au chapitre 5.2.5.2 de l’annexe du règlement grand-ducal du 31 août 2010 concernant"]
[null,"  la performance énergétique des bâtiments fonctionnels."]
[]
[null,"- en cas d’une rénovation énergétique intégrale: établissement du certificat de performance énergétique sur"]
[null,"  base du besoin énergétique calculé. "]
[null,{"$f":"Wärmeschutz!B57","v":"Ministère du Développement durable et des Infrastructures Département de l’Environnement"},null,null,null,null,null,{"$f":"Anlagen!CE76","v":"SubCalC, Version 1.02 (8.8.2014)"}]
[null,{"$f":"Wärmeschutz!B58","v":"Goblet Lavandier & Associés S.A."}]

{"sheet":"Cond. Subvention","index":7,"n_rows":56,"n_cols":10,"rows_kept":56,"cut":false,"hidden":false,"merged":[[25,1,25,9],[26,1,26,9],[27,1,27,9],[19,1,19,9],[17,1,17,9],[22,1,22,9],[21,1,21,9],[24,1,24,9],[23,1,23,9],[3,3,3,5],[12,1,12,9],[14,1,14,9],[16,1,16,9],[18,1,18,9],[13,1,13,9],[15,1,15,9]]}
[]
[null,"Isolation thermique"]
[null,"Elément assaini","Standard de performance IV","Standard de performance III","Standard de performance II","Standard de performance I","Standard de performance IV","Standard de performance III","Standard de performance II","Standard de performance I"]
[null,null,"Epaisseur minimale de l’isolant thermique en cm","Valeur U maximale de l’élément\nde construction en W/(m²K)",null,null,"Subvention\n€/m²","Subvention\n€/m²","Subvention\n€/m²","Subvention\n€/m²"]
[null,"Mur extérieur (isolé du côté extérieur)",12,0.23,0.17,0.12,20,25,30,36]
[null,"Mur extérieur (isolé du côté intérieur)",8,0.28999999999999998,0.21,0.15,20,25,30,36]
[null,"Mur contre sol ou zone non chauffé",8,0.28000000000000003,0.22,0.15,12,13,13,14]
[null,"Toiture inclinée ou plate",18,0.17,0.13,0.1,15,24,33,42]
[null,"Dalle supérieure contre zone non chauffée",18,0.17,0.13,0.1,10,18,27,35]
[null,"Dalle inférieure contre zone non chauffée ou sol",8,0.28000000000000003,0.22,0.15,12,13,13,14]
[null,"Fenêtres et portes-fenêtres","0,90 W/(m²K)",0.85,0.8,0.75,40,44,48,52]
[null,"Standard de qualité "]
[null,"- Les épaisseurs minimales des isolants thermiques indiquées dans le tableau précédent sont applicables à une conductivité thermique de l’isolant de 0,035 W/(mK). A d’autres conductivités "]
[null,"   thermiques, les épaisseurs minimales sont à convertir en fonction de la conductivité thermique réelle de l’isolant."]
[null,"- Pour les fenêtres, le coefficient de transmission thermique doit comprendre le coefficient de transmission thermique du cadre et de la vitre ainsi que le coefficient de transmission thermique "]
[null,"   linéique de l’intercalaire. La justification du respect des exigences doit être fournie pour une fenêtre aux dimensions standardisées, c’est-à-dire d’une largeur de 1,23 m et d’une hauteur de 1,48 m."]
[null,"- Indépendamment du standard de performance, l’élément de construction assaini n’est éligible que si l’épaisseur de l’isolant thermique équivaut au moins à l’épaisseur minimale exigée dans"]
[null,"   le cas du standard de performance IV."]
[null,"- Afin d’éviter l’humidité produite par la condensation et les problèmes en résultant (moisissures, etc.), le remplacement des fenêtres doit se faire en principe conjointement soit avec l’isolation"]
[null,"   thermique des murs extérieurs, soit avec la mise en place d’une ventilation mécanique contrôlée. La même contrainte s’applique dans le cas d’un grenier chauffé."]
[null,"Considérations générales"]
[null,"- En cas de remplacement des fenêtres ou de mise en place d’une ventilation mécanique contrôlée, réalisation d’un «Blower-Door-Test BDT» conformément au règlement grand-ducal du 31 août"]
[null,"  2010 concernant la performance énergétique des bâtiments fonctionnels est requise et une valeur q50 inférieure ou égale à 2,0 m3/(h m2) doit être atteinte."]
[null,"- La valeur q50 ne doit pas obligatoirement être respectée au cas où le «Blower-Door-Test BDT» pour la partie du bâtiment rénovée ne peut pas être réalisé indépendamment d’un autre volume du"]
[null,"   bâtiment. La personne réalisant le«Blower-Door-Test BDT» doit cependant élaborer un rapport d’analyse reprenant des informations sur les inétanchéités du bâtiment."]
[null,"- Recommandation de réaliser une thermographie avec rapport concluant (en cas d’assainissement de la façade ou de remplacement des fenêtres)."]
[null,"- Preuve que les éléments de construction permettent d'atteindre les coefficients énergétiques."]
[null,"- Obligation du monitoring annuel des consommations et présentation annuelle du monitoring aux gestionnaires / utilisateurs du bâtiment (sensibilisation)."]
[]
[null,"Ventilation"]
[null,null,"Taille de","Subvention","Taille de","Subvention"]
[null,null,"l'installation",null,"l'installation"]
[null,null,"m³/h","€/(m³/h)","m³/h","€/(m³/h)"]
[null,null,500,15.188730623252201,5500,3.6395654121823182]
[null,null,1000,11.936293436458733,6000,3.2160953797549352]
[null,null,1500,9.9629615755090501,6500,2.8265407124597801]
[null,null,2000,8.5628603385816735,7000,2.4658694249015327]
[null,null,2500,7.4768574481521348,7500,2.1300924893253979]
[null,null,3000,6.5895284776319949,8000,1.8159941428275488]
[null,null,3500,5.8393025227785929,8500,1.7155906746523104]
[null,null,4000,5.1894272407046085,9000,1.7155906746523104]
[null,null,4500,4.6161966166823047,9500,1.7155906746523104]
[null,null,5000,4.1034243502750707,10000,1.7155906746523104]
[null,"Considérations générales"]
[null,"- Seulement les ventilations avec récupération de chaleur sont éligibles."]
[null,"- Les ventilations des  parties suivantes sont exclues du régime de subvention: surface de commerce; auditoire; cuisine, salle de serveur, parking."]
[null,"- Afin d’éviter l’humidité produite par la condensation et les problèmes en résultant (moisissures, etc.), le remplacement des fenêtres"]
[null,"   doit se faire en principe conjointement soit avec l’isolation thermique des murs extérieurs, soit avec la mise en place d’une ventilation mécanique"]
[null,"   contrôlée. La même contrainte s’applique dans le cas d’un grenier chauffé."]
[null,"Informations à fournir"]
[null,"- Puissance du ventilateur (Valeur SFP) sur base d’une fiche technique établie par le constructeur."]
[null,"- Rendement global (ntot) sous conditions statiques,"]
[null,"- Rapport sur les fuites aérauliques du réseau des conduites"]
[null,"- Rendement du système de récupération de chaleur (Rückwärmezahl des Wärmetauschers) doit être supérieur à 70 %."]
[null,{"$f":"Anlagen!B76","v":"Ministère du Développement durable et des Infrastructures Département de l’Environnement"},null,null,null,null,null,null,null,{"$f":"Utilisation!H17","v":"SubCalC, Version 1.02 (8.8.2014)"}]
[null,{"$f":"Anlagen!B77","v":"Goblet Lavandier & Associés S.A."}]

{"sheet":"Info","index":8,"n_rows":25,"n_cols":10,"rows_kept":25,"cut":false,"hidden":false,"merged":[[21,1,21,9],[22,1,22,9],[1,1,1,9],[2,1,2,9]]}
[]
[null,"Excel-Arbeitsmappe zur Bestimmung der finanziellen"]
[null,"Unterstützung bei der Modernisierung von Gemeindegebäuden"]
[]
[null,"Auftraggeber",null,null,"Ministère du Développement durable et des Infrastructures"]
[null,null,null,null,"Département de l’Environnement"]
[null,null,null,null,"4, place de l’Europe"]
[null,null,null,null,"L-1499 Luxembourg"]
[null,null,null,null,"Tél. (+ 352) 247-86824"]
[null,null,null,null,"Fax (+ 352) 247-86835"]
[null,null,null,null,"www.emwelt.lu"]
[]
[null,"Entwicklung",null,null,"Goblet Lavandier & Associés S.A."]
[null,null,null,null,"Markus Lichtmeß, Pierre Jaques"]
[null,null,null,null,"17, rue Jean-Pierre Sauvage"]
[null,null,null,null,"L-2514 Luxemburg-Kirchberg"]
[null,null,null,null,"Tel.: (+352) 436676-1"]
[null,null,null,null,"Fax: (+352) 436264"]
[null,null,null,null,"e-mail: gl@golav.lu"]
[null,null,null,null,"www.golav.lu"]
[]
[null,"Dieses Excelwerkzeug ist eine freie Software. Das Werkzeug und die damit erzielten Ergebnisse haben keinen rechtlichen Charakter. Für die Richtigkeit der Berechnung und die Funktion der Arbeitsmappe wird keine Haftung übenommen. Das Rechentool wurde sorgfältig programmiert und die Kenndaten wurden sorgfältig zusammengestellt. Das Ingenieurbüro Goblet Lavandier & Associés S.A., als Entwickler des Rechentools, sowie das Ministère du Développement durable et des Infastructures, als Auftraggeber für das Rechentool, haften nicht für Schäden infolge dessen Benutzung. Insbesondere ist jede Haftung für entstandene Schäden, entgangenen Gewinn, etc. ausgeschlossen, welche durch Verwendung von Ergebnissen oder von Daten oder Informationen aus dem Rechentool verursacht werden. Es gelten die Lizenzbedingungen."]
[null,"Le présent outil Excel est un logiciel libre. L’outil et les résultats qu’il permet d’obtenir n’ont aucun caractère juridiquement contraignant. Nous déclinons toute responsabilité quant à l’exactitude des calculs et à l’utilisation du classeur Excel. L’outil de calcul a été programmé avec attention et les données compilées avec soin. Le bureau d’ingénieurs Goblet Lavandier & Associés S.A., développeur de l’outil de calcul, ainsi que le Ministère du Développement durable et des Infrastructures, commanditaires de l’outil, déclinent toute responsabilité quant aux dommages éventuels résultant de son utilisation. Ils déclinent en particulier toute responsabilité pour d’éventuels dommages, déperditions de profits, etc. dûs à l’exploitation de résultats, données ou informations issues de l’outil de calcul. Les termes et conditions habituels du droit d’auteur sont d’application."]
[null,{"$f":"'Cond. Subvention'!B55","v":"Ministère du Développement durable et des Infrastructures Département de l’Environnement"},null,null,null,null,null,null,null,{"$f":"'Cond. Subvention'!J55","v":"SubCalC, Version 1.02 (8.8.2014)"}]
[null,{"$f":"'Cond. Subvention'!B56","v":"Goblet Lavandier & Associés S.A."}]

{"sheet":"LOG","index":9,"n_rows":22,"n_cols":12,"rows_kept":22,"cut":false,"hidden":true,"merged":[]}
[]
[null,"Anpassung der Versionsnummer und Aufnahme der LOG Anpassungen","MLI",0.4,"2014-03-13",null,{"$f":"SUBSTITUTE(TEXT(MAX(D2:D801),\"0,00\"),\",\",\".\")","v":"1.02"},{"$f":"CONCATENATE(J2,\".\",K2,\".\",L2)","v":"8.8.2014"},null,{"$f":"DAY(MAX(E2:E39))","v":8},{"$f":"MONTH(MAX(E2:E39))","v":8},{"$f":"YEAR(MAX(E2:E39))","v":2014}]
[null,"Zielwert für Lüftungsanlagen und anpassung der Förderung daran","MLI",0.5,"2014-03-13",null,"Version","Datum"]
[null,"Für jede Zone wird nun die minimale Beleuchtungsstärke (nutzung oder eigene Eingabe) zur Bestimmung der Förderhöhen benutzt","MLI"]
[null,"Für jede Zone wird nun der minimale Luftwechsel (Nutzungsprofil oder eigene Eingabe) zur Bestimmung des Gesamtanlagenvolumenstroms, der zur Bestimmung der Förerhöhe herangezogen wird, benutzt.","MLI"]
[null,"Förderhöhe Beleuchtung auf 30%, Präsenz auf 30% und Dimming auf 30% angepasst","MLI"]
[null,"Integration von der Teuerungsfaktoren, die für die Kostenbestimmung von WD, Beleuchtung und Lüftungsanlagen benutzt werden können. Aktuell stehen die auf 1","MLI"]
[null,"Anforderungen an Lüftung mit 2,14 SFP kalibriert","MLI"]
[null,"Lüftung Subventionen angepasst","MLI",0.6,"2014-03-13"]
[null,"Startseit angepasst","MLI",0.7,"2014-03-17"]
[null,"Abfangen, dass D€ U-Wert für Fenster kleiner als 0 wird. Energieberechnung jetzt auf den eingegebenen U-Wert bezogen. Zielwert für den Wärmeschutz eingeführt. Abfangen von Fehlern in den Ergebnissen.","MLI/PJA",0.8,"2014-03-17"]
[null,"SFP-Für Lüftung angepasst und Reduktionsfaktor Lüftungsförderung auf 80% reduziert (vorher 85%)","MLI",0.9,"2014-03-18"]
[null,"Beleuchtungsanlagen zu- und abschaltbar gemacht","MLI",0.92,"2014-04-30"]
[null,"Heitenergiebilanz -> solare Gewinne Faktor von 0,7 auf 2/3 angepasst","MLI",0.93,"2014-04-30"]
[null,"Berechnung der Effizienzklasse Dämmung automatisiert","Mli",0.94,"2014-04-30"]
[null,"Fehler bei einem RSE wert angepasst","MLI",0.95,"2014-05-12"]
[null,"Lüftungssubventionen angepasst, ROI auf 20 Jahre","MLI",0.96,"2014-05-20"]
[null,"Abminderungsfaktor auf 1 gesetzt","MLI",0.97,"2014-05-21"]
[null,"Abminderung Lüftung auf 0,6 und Betrachtungszeit auf 15 a","MLI",0.98,"2014-05-21"]
[null,"Kriterium zur Abfrage ob die Mindestdämmung erreicht ist oder nicht integriert. Nutzungsabhängige Förderung vorgesehen.","MLI",0.99,"2014-07-10"]
[null,"Förderbedingungen integriert","MLI",1.01,"2014-08-07"]
[null,"Schaltflächen angepasst per Makro, Text Ministerium MinEco gelöscht, Formular integriert","MLI",1.02,"2014-08-08"]